BEGIN:VCALENDAR
VERSION:2.0
PRODID:-//Salem Home - ECPv6.15.20//NONSGML v1.0//EN
CALSCALE:GREGORIAN
METHOD:PUBLISH
X-WR-CALNAME:Salem Home
X-ORIGINAL-URL:https://www.salemhome.ca
X-WR-CALDESC:Events for Salem Home
REFRESH-INTERVAL;VALUE=DURATION:PT1H
X-Robots-Tag:noindex
X-PUBLISHED-TTL:PT1H
BEGIN:VTIMEZONE
TZID:America/Winnipeg
BEGIN:DAYLIGHT
TZOFFSETFROM:-0600
TZOFFSETTO:-0500
TZNAME:CDT
DTSTART:20250309T080000
END:DAYLIGHT
BEGIN:STANDARD
TZOFFSETFROM:-0500
TZOFFSETTO:-0600
TZNAME:CST
DTSTART:20251102T070000
END:STANDARD
BEGIN:DAYLIGHT
TZOFFSETFROM:-0600
TZOFFSETTO:-0500
TZNAME:CDT
DTSTART:20260308T080000
END:DAYLIGHT
BEGIN:STANDARD
TZOFFSETFROM:-0500
TZOFFSETTO:-0600
TZNAME:CST
DTSTART:20261101T070000
END:STANDARD
BEGIN:DAYLIGHT
TZOFFSETFROM:-0600
TZOFFSETTO:-0500
TZNAME:CDT
DTSTART:20270314T080000
END:DAYLIGHT
BEGIN:STANDARD
TZOFFSETFROM:-0500
TZOFFSETTO:-0600
TZNAME:CST
DTSTART:20271107T070000
END:STANDARD
END:VTIMEZONE
BEGIN:VEVENT
DTSTART;VALUE=DATE:20260419
DTEND;VALUE=DATE:20260420
DTSTAMP:20260421T112523
CREATED:20251001T122924Z
LAST-MODIFIED:20260419T201907Z
UID:58289-1776556800-1776643199@www.salemhome.ca
SUMMARY:Daily Menu
DESCRIPTION:LunchCountry Chicken or AlternatePotato SaladBread and Butter PicklesBreadDessert \nSupper  Swedish Meatballs or AlternateLoaded Mashed Potatoes4 Fancy Mixed Vegetables.Bread
URL:https://www.salemhome.ca/event/daily-menu-1586/
CATEGORIES:Daily Menu
END:VEVENT
BEGIN:VEVENT
DTSTART;VALUE=DATE:20260419
DTEND;VALUE=DATE:20260420
DTSTAMP:20260421T112523
CREATED:20260122T054523Z
LAST-MODIFIED:20260419T052002Z
UID:61759-1776556800-1776643199@www.salemhome.ca
SUMMARY:Day of Rest
DESCRIPTION:
URL:https://www.salemhome.ca/event/day-of-rest-469/
CATEGORIES:Maple North
END:VEVENT
BEGIN:VEVENT
DTSTART;VALUE=DATE:20260419
DTEND;VALUE=DATE:20260420
DTSTAMP:20260421T112523
CREATED:20260203T064806Z
LAST-MODIFIED:20260418T200724Z
UID:62306-1776556800-1776643199@www.salemhome.ca
SUMMARY:Day of Rest
DESCRIPTION:
URL:https://www.salemhome.ca/event/day-of-rest-478/
CATEGORIES:Cottonwood
END:VEVENT
BEGIN:VEVENT
DTSTART;VALUE=DATE:20260419
DTEND;VALUE=DATE:20260420
DTSTAMP:20260421T112523
CREATED:20260205T063311Z
LAST-MODIFIED:20260413T171937Z
UID:62494-1776556800-1776643199@www.salemhome.ca
SUMMARY:Day of Rest
DESCRIPTION:
URL:https://www.salemhome.ca/event/day-of-rest-482/
CATEGORIES:Maple South
END:VEVENT
BEGIN:VEVENT
DTSTART;VALUE=DATE:20260419
DTEND;VALUE=DATE:20260420
DTSTAMP:20260421T112523
CREATED:20260227T100028Z
LAST-MODIFIED:20260418T145454Z
UID:63335-1776556800-1776643199@www.salemhome.ca
SUMMARY:Day of Rest
DESCRIPTION:
URL:https://www.salemhome.ca/event/day-of-rest-489/
CATEGORIES:Evergreen
END:VEVENT
BEGIN:VEVENT
DTSTART;TZID=America/Winnipeg:20260419T094500
DTEND;TZID=America/Winnipeg:20260419T104500
DTSTAMP:20260421T112523
CREATED:20260312T113225Z
LAST-MODIFIED:20260413T171937Z
UID:63752-1776591900-1776595500@www.salemhome.ca
SUMMARY:Christian Faith
DESCRIPTION:
URL:https://www.salemhome.ca/event/christian-faith-3/
CATEGORIES:Maple South
END:VEVENT
BEGIN:VEVENT
DTSTART;TZID=America/Winnipeg:20260419T094500
DTEND;TZID=America/Winnipeg:20260419T104500
DTSTAMP:20260421T112523
CREATED:20260312T134839Z
LAST-MODIFIED:20260418T200724Z
UID:63806-1776591900-1776595500@www.salemhome.ca
SUMMARY:Christian Faith
DESCRIPTION:
URL:https://www.salemhome.ca/event/christian-faith-4/
CATEGORIES:Cottonwood
END:VEVENT
BEGIN:VEVENT
DTSTART;TZID=America/Winnipeg:20260419T094500
DTEND;TZID=America/Winnipeg:20260419T104500
DTSTAMP:20260421T112523
CREATED:20260313T134904Z
LAST-MODIFIED:20260419T052001Z
UID:63868-1776591900-1776595500@www.salemhome.ca
SUMMARY:Christian Faith
DESCRIPTION:
URL:https://www.salemhome.ca/event/christian-faith-5/
CATEGORIES:Maple North
END:VEVENT
BEGIN:VEVENT
DTSTART;TZID=America/Winnipeg:20260419T094500
DTEND;TZID=America/Winnipeg:20260419T104500
DTSTAMP:20260421T112523
CREATED:20260316T140229Z
LAST-MODIFIED:20260418T145454Z
UID:63920-1776591900-1776595500@www.salemhome.ca
SUMMARY:Emmanual Mennonite
DESCRIPTION:
URL:https://www.salemhome.ca/event/emmanual-mennonite/
CATEGORIES:Evergreen
END:VEVENT
BEGIN:VEVENT
DTSTART;TZID=America/Winnipeg:20260419T103000
DTEND;TZID=America/Winnipeg:20260419T113000
DTSTAMP:20260421T112523
CREATED:20260312T113225Z
LAST-MODIFIED:20260413T171937Z
UID:63751-1776594600-1776598200@www.salemhome.ca
SUMMARY:Hymn Sing Dorothy Plett
DESCRIPTION:
URL:https://www.salemhome.ca/event/hymn-sing-dorothy-plett-6/
CATEGORIES:Maple South
END:VEVENT
BEGIN:VEVENT
DTSTART;TZID=America/Winnipeg:20260419T103000
DTEND;TZID=America/Winnipeg:20260419T113000
DTSTAMP:20260421T112523
CREATED:20260312T134838Z
LAST-MODIFIED:20260418T200724Z
UID:63805-1776594600-1776598200@www.salemhome.ca
SUMMARY:Hymn Sing Dorothy Plett
DESCRIPTION:
URL:https://www.salemhome.ca/event/hymn-sing-dorothy-plett-7/
CATEGORIES:Cottonwood
END:VEVENT
BEGIN:VEVENT
DTSTART;TZID=America/Winnipeg:20260419T103000
DTEND;TZID=America/Winnipeg:20260419T113000
DTSTAMP:20260421T112523
CREATED:20260313T134905Z
LAST-MODIFIED:20260419T052002Z
UID:63869-1776594600-1776598200@www.salemhome.ca
SUMMARY:Hymn Sing -Dorothy Plett
DESCRIPTION:
URL:https://www.salemhome.ca/event/hymn-sing-dorothy-plett-8/
CATEGORIES:Maple North
END:VEVENT
END:VCALENDAR