BEGIN:VCALENDAR
VERSION:2.0
PRODID:-//Salem Home - ECPv6.15.20//NONSGML v1.0//EN
CALSCALE:GREGORIAN
METHOD:PUBLISH
X-ORIGINAL-URL:https://www.salemhome.ca
X-WR-CALDESC:Events for Salem Home
REFRESH-INTERVAL;VALUE=DURATION:PT1H
X-Robots-Tag:noindex
X-PUBLISHED-TTL:PT1H
BEGIN:VTIMEZONE
TZID:America/Winnipeg
BEGIN:DAYLIGHT
TZOFFSETFROM:-0600
TZOFFSETTO:-0500
TZNAME:CDT
DTSTART:20250309T080000
END:DAYLIGHT
BEGIN:STANDARD
TZOFFSETFROM:-0500
TZOFFSETTO:-0600
TZNAME:CST
DTSTART:20251102T070000
END:STANDARD
BEGIN:DAYLIGHT
TZOFFSETFROM:-0600
TZOFFSETTO:-0500
TZNAME:CDT
DTSTART:20260308T080000
END:DAYLIGHT
BEGIN:STANDARD
TZOFFSETFROM:-0500
TZOFFSETTO:-0600
TZNAME:CST
DTSTART:20261101T070000
END:STANDARD
BEGIN:DAYLIGHT
TZOFFSETFROM:-0600
TZOFFSETTO:-0500
TZNAME:CDT
DTSTART:20270314T080000
END:DAYLIGHT
BEGIN:STANDARD
TZOFFSETFROM:-0500
TZOFFSETTO:-0600
TZNAME:CST
DTSTART:20271107T070000
END:STANDARD
END:VTIMEZONE
BEGIN:VEVENT
DTSTART;TZID=America/Winnipeg:20260427T100000
DTEND;TZID=America/Winnipeg:20260427T103000
DTSTAMP:20260423T191509
CREATED:20260203T064812Z
LAST-MODIFIED:20260423T210506Z
UID:62322-1777284000-1777285800@www.salemhome.ca
SUMMARY:Chapel
DESCRIPTION:
URL:https://www.salemhome.ca/event/chapel-834/
LOCATION:Cottonwood
CATEGORIES:Cottonwood
END:VEVENT
BEGIN:VEVENT
DTSTART;TZID=America/Winnipeg:20260427T100000
DTEND;TZID=America/Winnipeg:20260427T110000
DTSTAMP:20260423T191509
CREATED:20260203T064812Z
LAST-MODIFIED:20260423T210506Z
UID:62323-1777284000-1777287600@www.salemhome.ca
SUMMARY:Men's Coffee Shop
DESCRIPTION:
URL:https://www.salemhome.ca/event/mens-coffee-shop-1337/
CATEGORIES:Cottonwood
END:VEVENT
BEGIN:VEVENT
DTSTART;TZID=America/Winnipeg:20260427T144500
DTEND;TZID=America/Winnipeg:20260427T154500
DTSTAMP:20260423T191509
CREATED:20260203T064813Z
LAST-MODIFIED:20260423T210506Z
UID:62324-1777301100-1777304700@www.salemhome.ca
SUMMARY:Men's Group
DESCRIPTION:Located on Evergreen\, residents from all care areas welcome.
URL:https://www.salemhome.ca/event/mens-group-1031/
CATEGORIES:Cottonwood
END:VEVENT
BEGIN:VEVENT
DTSTART;TZID=America/Winnipeg:20260428T070000
DTEND;TZID=America/Winnipeg:20260428T080000
DTSTAMP:20260423T191509
CREATED:20260312T134841Z
LAST-MODIFIED:20260423T210507Z
UID:63809-1777359600-1777363200@www.salemhome.ca
SUMMARY:Hymns With Friends
DESCRIPTION:
URL:https://www.salemhome.ca/event/hymns-with-friends-27/
CATEGORIES:Cottonwood
END:VEVENT
BEGIN:VEVENT
DTSTART;TZID=America/Winnipeg:20260428T100000
DTEND;TZID=America/Winnipeg:20260428T100000
DTSTAMP:20260423T191509
CREATED:20260203T064813Z
LAST-MODIFIED:20260423T210507Z
UID:62325-1777370400-1777370400@www.salemhome.ca
SUMMARY:One to One visits
DESCRIPTION:
URL:https://www.salemhome.ca/event/one-to-one-visits-34/
CATEGORIES:Cottonwood
END:VEVENT
BEGIN:VEVENT
DTSTART;TZID=America/Winnipeg:20260428T100000
DTEND;TZID=America/Winnipeg:20260428T113000
DTSTAMP:20260423T191509
CREATED:20260203T064813Z
LAST-MODIFIED:20260423T210507Z
UID:62326-1777370400-1777375800@www.salemhome.ca
SUMMARY:Men's Coffee Shop
DESCRIPTION:
URL:https://www.salemhome.ca/event/mens-coffee-shop-1338/
CATEGORIES:Cottonwood
END:VEVENT
BEGIN:VEVENT
DTSTART;TZID=America/Winnipeg:20260428T150000
DTEND;TZID=America/Winnipeg:20260428T160000
DTSTAMP:20260423T191509
CREATED:20260203T064814Z
LAST-MODIFIED:20260423T210507Z
UID:62327-1777388400-1777392000@www.salemhome.ca
SUMMARY:Bingo
DESCRIPTION:
URL:https://www.salemhome.ca/event/bingo-1175/
CATEGORIES:Cottonwood
END:VEVENT
BEGIN:VEVENT
DTSTART;TZID=America/Winnipeg:20260429T100000
DTEND;TZID=America/Winnipeg:20260429T110000
DTSTAMP:20260423T191509
CREATED:20260203T064814Z
LAST-MODIFIED:20260423T210507Z
UID:62328-1777456800-1777460400@www.salemhome.ca
SUMMARY:Men's Coffee Shop
DESCRIPTION:
URL:https://www.salemhome.ca/event/mens-coffee-shop-1339/
CATEGORIES:Cottonwood
END:VEVENT
BEGIN:VEVENT
DTSTART;TZID=America/Winnipeg:20260429T144500
DTEND;TZID=America/Winnipeg:20260429T154500
DTSTAMP:20260423T191509
CREATED:20260203T064815Z
LAST-MODIFIED:20260423T210507Z
UID:62329-1777473900-1777477500@www.salemhome.ca
SUMMARY:Men's Coffee Shop
DESCRIPTION:Located on Maple North. Residents from all care areas are welcome to attend.
URL:https://www.salemhome.ca/event/mens-coffee-shop-1340/
CATEGORIES:Cottonwood
END:VEVENT
BEGIN:VEVENT
DTSTART;TZID=America/Winnipeg:20260430T094500
DTEND;TZID=America/Winnipeg:20260430T104500
DTSTAMP:20260423T191509
CREATED:20260312T134841Z
LAST-MODIFIED:20260423T210507Z
UID:63810-1777542300-1777545900@www.salemhome.ca
SUMMARY:Zion Mennonite
DESCRIPTION:
URL:https://www.salemhome.ca/event/zion-mennonite-6/
CATEGORIES:Cottonwood
END:VEVENT
BEGIN:VEVENT
DTSTART;TZID=America/Winnipeg:20260430T101500
DTEND;TZID=America/Winnipeg:20260430T111500
DTSTAMP:20260423T191509
CREATED:20260203T064815Z
LAST-MODIFIED:20260423T210507Z
UID:62330-1777544100-1777547700@www.salemhome.ca
SUMMARY:Hymn Sing
DESCRIPTION:
URL:https://www.salemhome.ca/event/hymn-sing-735/
CATEGORIES:Cottonwood
END:VEVENT
BEGIN:VEVENT
DTSTART;TZID=America/Winnipeg:20260501T100000
DTEND;TZID=America/Winnipeg:20260501T110000
DTSTAMP:20260423T191509
CREATED:20260203T064816Z
LAST-MODIFIED:20260423T210507Z
UID:62331-1777629600-1777633200@www.salemhome.ca
SUMMARY:Men's Coffee Shop
DESCRIPTION:
URL:https://www.salemhome.ca/event/mens-coffee-shop-1341/
CATEGORIES:Cottonwood
END:VEVENT
BEGIN:VEVENT
DTSTART;TZID=America/Winnipeg:20260501T150000
DTEND;TZID=America/Winnipeg:20260501T160000
DTSTAMP:20260423T191509
CREATED:20260203T064816Z
LAST-MODIFIED:20260423T210508Z
UID:62332-1777647600-1777651200@www.salemhome.ca
SUMMARY:Music Therapy
DESCRIPTION:
URL:https://www.salemhome.ca/event/music-therapy-326/
CATEGORIES:Cottonwood
END:VEVENT
BEGIN:VEVENT
DTSTART;TZID=America/Winnipeg:20260501T150000
DTEND;TZID=America/Winnipeg:20260501T160000
DTSTAMP:20260423T191509
CREATED:20260203T064816Z
LAST-MODIFIED:20260423T210508Z
UID:62333-1777647600-1777651200@www.salemhome.ca
SUMMARY:Sing along
DESCRIPTION:
URL:https://www.salemhome.ca/event/sing-along-231/
CATEGORIES:Cottonwood
END:VEVENT
BEGIN:VEVENT
DTSTART;TZID=America/Winnipeg:20260502T100000
DTEND;TZID=America/Winnipeg:20260502T110000
DTSTAMP:20260423T191509
CREATED:20260203T064816Z
LAST-MODIFIED:20260423T210508Z
UID:62334-1777716000-1777719600@www.salemhome.ca
SUMMARY:Bingo
DESCRIPTION:
URL:https://www.salemhome.ca/event/bingo-1176/
CATEGORIES:Cottonwood
END:VEVENT
BEGIN:VEVENT
DTSTART;VALUE=DATE:20260503
DTEND;VALUE=DATE:20260504
DTSTAMP:20260423T191509
CREATED:20260203T064817Z
LAST-MODIFIED:20260423T210508Z
UID:62335-1777766400-1777852799@www.salemhome.ca
SUMMARY:Day of Rest
DESCRIPTION:
URL:https://www.salemhome.ca/event/day-of-rest-480/
CATEGORIES:Cottonwood
END:VEVENT
BEGIN:VEVENT
DTSTART;TZID=America/Winnipeg:20260503T094500
DTEND;TZID=America/Winnipeg:20260503T104500
DTSTAMP:20260423T191509
CREATED:20260415T173512Z
LAST-MODIFIED:20260423T210508Z
UID:65002-1777801500-1777805100@www.salemhome.ca
SUMMARY:Country Harvest
DESCRIPTION:
URL:https://www.salemhome.ca/event/country-harvest-8/
CATEGORIES:Cottonwood
END:VEVENT
BEGIN:VEVENT
DTSTART;TZID=America/Winnipeg:20260503T183000
DTEND;TZID=America/Winnipeg:20260503T193000
DTSTAMP:20260423T191509
CREATED:20260204T070217Z
LAST-MODIFIED:20260423T210508Z
UID:62477-1777833000-1777836600@www.salemhome.ca
SUMMARY:Church of God in Christ Youth
DESCRIPTION:
URL:https://www.salemhome.ca/event/church-of-god-in-christ-youth-95/
CATEGORIES:Cottonwood
END:VEVENT
BEGIN:VEVENT
DTSTART;TZID=America/Winnipeg:20260504T100000
DTEND;TZID=America/Winnipeg:20260504T103000
DTSTAMP:20260423T191509
CREATED:20260204T070217Z
LAST-MODIFIED:20260423T210509Z
UID:62479-1777888800-1777890600@www.salemhome.ca
SUMMARY:Chapel
DESCRIPTION:
URL:https://www.salemhome.ca/event/chapel-835/
LOCATION:Cottonwood
CATEGORIES:Cottonwood
END:VEVENT
BEGIN:VEVENT
DTSTART;TZID=America/Winnipeg:20260504T100000
DTEND;TZID=America/Winnipeg:20260504T110000
DTSTAMP:20260423T191509
CREATED:20260204T070217Z
LAST-MODIFIED:20260423T210509Z
UID:62480-1777888800-1777892400@www.salemhome.ca
SUMMARY:Men's Coffee Shop
DESCRIPTION:
URL:https://www.salemhome.ca/event/mens-coffee-shop-1343/
CATEGORIES:Cottonwood
END:VEVENT
BEGIN:VEVENT
DTSTART;TZID=America/Winnipeg:20260504T144500
DTEND;TZID=America/Winnipeg:20260504T154500
DTSTAMP:20260423T191509
CREATED:20260209T084523Z
LAST-MODIFIED:20260423T210509Z
UID:62609-1777905900-1777909500@www.salemhome.ca
SUMMARY:Men's Group
DESCRIPTION:Located on Evergreen\, residents from all care areas welcome.
URL:https://www.salemhome.ca/event/mens-group-1033/
CATEGORIES:Cottonwood
END:VEVENT
BEGIN:VEVENT
DTSTART;TZID=America/Winnipeg:20260504T150000
DTEND;TZID=America/Winnipeg:20260504T160000
DTSTAMP:20260423T191509
CREATED:20260422T205225Z
LAST-MODIFIED:20260423T210509Z
UID:65293-1777906800-1777910400@www.salemhome.ca
SUMMARY:Jelly Roll Baking
DESCRIPTION:
URL:https://www.salemhome.ca/event/jelly-roll-baking-2/
CATEGORIES:Cottonwood
END:VEVENT
BEGIN:VEVENT
DTSTART;TZID=America/Winnipeg:20260504T180000
DTEND;TZID=America/Winnipeg:20260504T190000
DTSTAMP:20260423T191509
CREATED:20260422T205225Z
LAST-MODIFIED:20260423T210509Z
UID:65294-1777917600-1777921200@www.salemhome.ca
SUMMARY:Painting Craft
DESCRIPTION:
URL:https://www.salemhome.ca/event/painting-craft-2/
CATEGORIES:Cottonwood
END:VEVENT
BEGIN:VEVENT
DTSTART;VALUE=DATE:20260505
DTEND;VALUE=DATE:20260506
DTSTAMP:20260423T191509
CREATED:20260422T205226Z
LAST-MODIFIED:20260423T210510Z
UID:65296-1777939200-1778025599@www.salemhome.ca
SUMMARY:Picture Day
DESCRIPTION:
URL:https://www.salemhome.ca/event/picture-day-5/
CATEGORIES:Cottonwood
END:VEVENT
BEGIN:VEVENT
DTSTART;TZID=America/Winnipeg:20260505T100000
DTEND;TZID=America/Winnipeg:20260505T100000
DTSTAMP:20260423T191509
CREATED:20260210T084531Z
LAST-MODIFIED:20260421T202224Z
UID:62650-1777975200-1777975200@www.salemhome.ca
SUMMARY:One to One visits
DESCRIPTION:
URL:https://www.salemhome.ca/event/one-to-one-visits-35/
CATEGORIES:Cottonwood
END:VEVENT
BEGIN:VEVENT
DTSTART;TZID=America/Winnipeg:20260505T100000
DTEND;TZID=America/Winnipeg:20260505T110000
DTSTAMP:20260423T191509
CREATED:20260422T205225Z
LAST-MODIFIED:20260423T210509Z
UID:65295-1777975200-1777978800@www.salemhome.ca
SUMMARY:Cosometology
DESCRIPTION:
URL:https://www.salemhome.ca/event/cosometology-3/
CATEGORIES:Cottonwood
END:VEVENT
BEGIN:VEVENT
DTSTART;TZID=America/Winnipeg:20260505T100000
DTEND;TZID=America/Winnipeg:20260505T113000
DTSTAMP:20260423T191509
CREATED:20260209T084523Z
LAST-MODIFIED:20260423T210509Z
UID:62610-1777975200-1777980600@www.salemhome.ca
SUMMARY:Men's Coffee Shop
DESCRIPTION:
URL:https://www.salemhome.ca/event/mens-coffee-shop-1348/
CATEGORIES:Cottonwood
END:VEVENT
BEGIN:VEVENT
DTSTART;TZID=America/Winnipeg:20260505T150000
DTEND;TZID=America/Winnipeg:20260505T160000
DTSTAMP:20260423T191509
CREATED:20260210T084531Z
LAST-MODIFIED:20260423T210509Z
UID:62651-1777993200-1777996800@www.salemhome.ca
SUMMARY:Bingo
DESCRIPTION:
URL:https://www.salemhome.ca/event/bingo-1180/
CATEGORIES:Cottonwood
END:VEVENT
BEGIN:VEVENT
DTSTART;TZID=America/Winnipeg:20260506T100000
DTEND;TZID=America/Winnipeg:20260506T110000
DTSTAMP:20260423T191509
CREATED:20260210T084532Z
LAST-MODIFIED:20260423T210510Z
UID:62652-1778061600-1778065200@www.salemhome.ca
SUMMARY:Men's Coffee Shop
DESCRIPTION:
URL:https://www.salemhome.ca/event/mens-coffee-shop-1349/
CATEGORIES:Cottonwood
END:VEVENT
BEGIN:VEVENT
DTSTART;TZID=America/Winnipeg:20260506T101500
DTEND;TZID=America/Winnipeg:20260506T111500
DTSTAMP:20260423T191509
CREATED:20260422T205226Z
LAST-MODIFIED:20260423T210510Z
UID:65297-1778062500-1778066100@www.salemhome.ca
SUMMARY:Hat Creations
DESCRIPTION:
URL:https://www.salemhome.ca/event/hat-creations-2/
CATEGORIES:Cottonwood
END:VEVENT
END:VCALENDAR