BEGIN:VCALENDAR
VERSION:2.0
PRODID:-//Salem Home - ECPv6.15.20//NONSGML v1.0//EN
CALSCALE:GREGORIAN
METHOD:PUBLISH
X-WR-CALNAME:Salem Home
X-ORIGINAL-URL:https://www.salemhome.ca
X-WR-CALDESC:Events for Salem Home
REFRESH-INTERVAL;VALUE=DURATION:PT1H
X-Robots-Tag:noindex
X-PUBLISHED-TTL:PT1H
BEGIN:VTIMEZONE
TZID:America/Winnipeg
BEGIN:DAYLIGHT
TZOFFSETFROM:-0600
TZOFFSETTO:-0500
TZNAME:CDT
DTSTART:20250309T080000
END:DAYLIGHT
BEGIN:STANDARD
TZOFFSETFROM:-0500
TZOFFSETTO:-0600
TZNAME:CST
DTSTART:20251102T070000
END:STANDARD
BEGIN:DAYLIGHT
TZOFFSETFROM:-0600
TZOFFSETTO:-0500
TZNAME:CDT
DTSTART:20260308T080000
END:DAYLIGHT
BEGIN:STANDARD
TZOFFSETFROM:-0500
TZOFFSETTO:-0600
TZNAME:CST
DTSTART:20261101T070000
END:STANDARD
BEGIN:DAYLIGHT
TZOFFSETFROM:-0600
TZOFFSETTO:-0500
TZNAME:CDT
DTSTART:20270314T080000
END:DAYLIGHT
BEGIN:STANDARD
TZOFFSETFROM:-0500
TZOFFSETTO:-0600
TZNAME:CST
DTSTART:20271107T070000
END:STANDARD
END:VTIMEZONE
BEGIN:VEVENT
DTSTART;TZID=America/Winnipeg:20260715T144500
DTEND;TZID=America/Winnipeg:20260715T154500
DTSTAMP:20260425T054217
CREATED:20260421T202252Z
LAST-MODIFIED:20260421T202252Z
UID:65211-1784126700-1784130300@www.salemhome.ca
SUMMARY:Men's Coffee Shop
DESCRIPTION:Located on Maple North. Residents from all care areas are welcome to attend.
URL:https://www.salemhome.ca/event/mens-coffee-shop-1472/
CATEGORIES:Cottonwood
END:VEVENT
BEGIN:VEVENT
DTSTART;TZID=America/Winnipeg:20260716T101500
DTEND;TZID=America/Winnipeg:20260716T111500
DTSTAMP:20260425T054217
CREATED:20260421T202252Z
LAST-MODIFIED:20260421T202252Z
UID:65212-1784196900-1784200500@www.salemhome.ca
SUMMARY:Hymn Sing
DESCRIPTION:
URL:https://www.salemhome.ca/event/hymn-sing-779/
CATEGORIES:Cottonwood
END:VEVENT
BEGIN:VEVENT
DTSTART;TZID=America/Winnipeg:20260717T100000
DTEND;TZID=America/Winnipeg:20260717T110000
DTSTAMP:20260425T054217
CREATED:20260421T202252Z
LAST-MODIFIED:20260421T202252Z
UID:65213-1784282400-1784286000@www.salemhome.ca
SUMMARY:Men's Coffee Shop
DESCRIPTION:
URL:https://www.salemhome.ca/event/mens-coffee-shop-1473/
CATEGORIES:Cottonwood
END:VEVENT
END:VCALENDAR