BEGIN:VCALENDAR
VERSION:2.0
PRODID:-//Salem Home - ECPv6.15.20//NONSGML v1.0//EN
CALSCALE:GREGORIAN
METHOD:PUBLISH
X-ORIGINAL-URL:https://www.salemhome.ca
X-WR-CALDESC:Events for Salem Home
REFRESH-INTERVAL;VALUE=DURATION:PT1H
X-Robots-Tag:noindex
X-PUBLISHED-TTL:PT1H
BEGIN:VTIMEZONE
TZID:America/Winnipeg
BEGIN:DAYLIGHT
TZOFFSETFROM:-0600
TZOFFSETTO:-0500
TZNAME:CDT
DTSTART:20230312T080000
END:DAYLIGHT
BEGIN:STANDARD
TZOFFSETFROM:-0500
TZOFFSETTO:-0600
TZNAME:CST
DTSTART:20231105T070000
END:STANDARD
BEGIN:DAYLIGHT
TZOFFSETFROM:-0600
TZOFFSETTO:-0500
TZNAME:CDT
DTSTART:20240310T080000
END:DAYLIGHT
BEGIN:STANDARD
TZOFFSETFROM:-0500
TZOFFSETTO:-0600
TZNAME:CST
DTSTART:20241103T070000
END:STANDARD
BEGIN:DAYLIGHT
TZOFFSETFROM:-0600
TZOFFSETTO:-0500
TZNAME:CDT
DTSTART:20250309T080000
END:DAYLIGHT
BEGIN:STANDARD
TZOFFSETFROM:-0500
TZOFFSETTO:-0600
TZNAME:CST
DTSTART:20251102T070000
END:STANDARD
END:VTIMEZONE
BEGIN:VEVENT
DTSTART;TZID=America/Winnipeg:20241101T100000
DTEND;TZID=America/Winnipeg:20241101T110000
DTSTAMP:20260425T152822
CREATED:20240729T221521Z
LAST-MODIFIED:20241101T061530Z
UID:43119-1730455200-1730458800@www.salemhome.ca
SUMMARY:Men's Coffee Shop
DESCRIPTION:
URL:https://www.salemhome.ca/event/mens-coffee-shop-449/
CATEGORIES:Evergreen
END:VEVENT
BEGIN:VEVENT
DTSTART;TZID=America/Winnipeg:20241101T101500
DTEND;TZID=America/Winnipeg:20241101T104500
DTSTAMP:20260425T152822
CREATED:20240729T221521Z
LAST-MODIFIED:20241101T061530Z
UID:43117-1730456100-1730457900@www.salemhome.ca
SUMMARY:Chapel
DESCRIPTION:
URL:https://www.salemhome.ca/event/chapel-597/
CATEGORIES:Evergreen
END:VEVENT
BEGIN:VEVENT
DTSTART;TZID=America/Winnipeg:20241101T110000
DTEND;TZID=America/Winnipeg:20241101T120000
DTSTAMP:20260425T152822
CREATED:20240729T221521Z
LAST-MODIFIED:20241101T061530Z
UID:43118-1730458800-1730462400@www.salemhome.ca
SUMMARY:Music by Dave Nickel
DESCRIPTION:
URL:https://www.salemhome.ca/event/music-by-dave-nickel-95/
CATEGORIES:Evergreen
END:VEVENT
BEGIN:VEVENT
DTSTART;TZID=America/Winnipeg:20241101T140000
DTEND;TZID=America/Winnipeg:20241101T150000
DTSTAMP:20260425T152822
CREATED:20240729T221522Z
LAST-MODIFIED:20241101T061531Z
UID:43120-1730469600-1730473200@www.salemhome.ca
SUMMARY:Music Therapy
DESCRIPTION:
URL:https://www.salemhome.ca/event/music-therapy-198/
CATEGORIES:Evergreen
END:VEVENT
BEGIN:VEVENT
DTSTART;TZID=America/Winnipeg:20241102T100000
DTEND;TZID=America/Winnipeg:20241102T110000
DTSTAMP:20260425T152822
CREATED:20240812T234528Z
LAST-MODIFIED:20241102T061527Z
UID:43574-1730541600-1730545200@www.salemhome.ca
SUMMARY:Bingo
DESCRIPTION:
URL:https://www.salemhome.ca/event/bingo-566/
CATEGORIES:Evergreen
END:VEVENT
BEGIN:VEVENT
DTSTART;TZID=America/Winnipeg:20241102T150000
DTEND;TZID=America/Winnipeg:20241102T160000
DTSTAMP:20260425T152822
CREATED:20241030T061519Z
LAST-MODIFIED:20241102T061527Z
UID:46220-1730559600-1730563200@www.salemhome.ca
SUMMARY:Devotions
DESCRIPTION:
URL:https://www.salemhome.ca/event/devotions-104/
CATEGORIES:Evergreen
END:VEVENT
BEGIN:VEVENT
DTSTART;VALUE=DATE:20241103
DTEND;VALUE=DATE:20241104
DTSTAMP:20260425T152822
CREATED:20240812T234529Z
LAST-MODIFIED:20241103T061513Z
UID:43575-1730592000-1730678399@www.salemhome.ca
SUMMARY:Day of Rest
DESCRIPTION:
URL:https://www.salemhome.ca/event/day-of-rest-183/
CATEGORIES:Evergreen
END:VEVENT
BEGIN:VEVENT
DTSTART;TZID=America/Winnipeg:20241103T094500
DTEND;TZID=America/Winnipeg:20241103T104500
DTSTAMP:20260425T152822
CREATED:20241030T061519Z
LAST-MODIFIED:20241103T061513Z
UID:46221-1730627100-1730630700@www.salemhome.ca
SUMMARY:Chapel: Emmanuel Mennonite
DESCRIPTION:
URL:https://www.salemhome.ca/event/chapel-emmanuel-mennonite-15/
CATEGORIES:Evergreen
END:VEVENT
BEGIN:VEVENT
DTSTART;TZID=America/Winnipeg:20241104T100000
DTEND;TZID=America/Winnipeg:20241104T110000
DTSTAMP:20260425T152822
CREATED:20240812T234529Z
LAST-MODIFIED:20241104T061528Z
UID:43576-1730714400-1730718000@www.salemhome.ca
SUMMARY:Men's Coffee Shop
DESCRIPTION:
URL:https://www.salemhome.ca/event/mens-coffee-shop-456/
CATEGORIES:Evergreen
END:VEVENT
BEGIN:VEVENT
DTSTART;TZID=America/Winnipeg:20241104T100000
DTEND;TZID=America/Winnipeg:20241104T110000
DTSTAMP:20260425T152822
CREATED:20241030T061519Z
LAST-MODIFIED:20241104T061528Z
UID:46223-1730714400-1730718000@www.salemhome.ca
SUMMARY:Devotions
DESCRIPTION:
URL:https://www.salemhome.ca/event/devotions-105/
CATEGORIES:Evergreen
END:VEVENT
BEGIN:VEVENT
DTSTART;TZID=America/Winnipeg:20241104T103000
DTEND;TZID=America/Winnipeg:20241104T113000
DTSTAMP:20260425T152822
CREATED:20241030T061519Z
LAST-MODIFIED:20241104T061528Z
UID:46222-1730716200-1730719800@www.salemhome.ca
SUMMARY:Name That Sound
DESCRIPTION:
URL:https://www.salemhome.ca/event/name-that-sound-2/
CATEGORIES:Evergreen
END:VEVENT
BEGIN:VEVENT
DTSTART;TZID=America/Winnipeg:20241104T144500
DTEND;TZID=America/Winnipeg:20241104T154500
DTSTAMP:20260425T152822
CREATED:20240812T234529Z
LAST-MODIFIED:20241104T061528Z
UID:43577-1730731500-1730735100@www.salemhome.ca
SUMMARY:Men's Group
DESCRIPTION:Located on Evergreen\, residents from all care areas welcome.
URL:https://www.salemhome.ca/event/mens-group-534/
CATEGORIES:Evergreen
END:VEVENT
BEGIN:VEVENT
DTSTART;TZID=America/Winnipeg:20241104T150000
DTEND;TZID=America/Winnipeg:20241104T160000
DTSTAMP:20260425T152822
CREATED:20241030T061519Z
LAST-MODIFIED:20241104T061528Z
UID:46224-1730732400-1730736000@www.salemhome.ca
SUMMARY:Christmas Craft
DESCRIPTION:
URL:https://www.salemhome.ca/event/christmas-craft-2/
CATEGORIES:Evergreen
END:VEVENT
BEGIN:VEVENT
DTSTART;TZID=America/Winnipeg:20241105T100000
DTEND;TZID=America/Winnipeg:20241105T110000
DTSTAMP:20260425T152822
CREATED:20240812T234529Z
LAST-MODIFIED:20241105T061529Z
UID:43578-1730800800-1730804400@www.salemhome.ca
SUMMARY:Men's Coffee Shop
DESCRIPTION:
URL:https://www.salemhome.ca/event/mens-coffee-shop-457/
CATEGORIES:Evergreen
END:VEVENT
BEGIN:VEVENT
DTSTART;TZID=America/Winnipeg:20241105T150000
DTEND;TZID=America/Winnipeg:20241105T160000
DTSTAMP:20260425T152822
CREATED:20241030T061519Z
LAST-MODIFIED:20241105T061529Z
UID:46225-1730818800-1730822400@www.salemhome.ca
SUMMARY:Games
DESCRIPTION:
URL:https://www.salemhome.ca/event/games-103/
CATEGORIES:Evergreen
END:VEVENT
BEGIN:VEVENT
DTSTART;TZID=America/Winnipeg:20241105T180000
DTEND;TZID=America/Winnipeg:20241105T190000
DTSTAMP:20260425T152822
CREATED:20240813T234528Z
LAST-MODIFIED:20241105T061529Z
UID:43607-1730829600-1730833200@www.salemhome.ca
SUMMARY:Movie Night
DESCRIPTION:
URL:https://www.salemhome.ca/event/movie-night-94/
CATEGORIES:Evergreen
END:VEVENT
BEGIN:VEVENT
DTSTART;TZID=America/Winnipeg:20241106T100000
DTEND;TZID=America/Winnipeg:20241106T110000
DTSTAMP:20260425T152822
CREATED:20240813T234528Z
LAST-MODIFIED:20241106T061528Z
UID:43608-1730887200-1730890800@www.salemhome.ca
SUMMARY:Men's Coffee Shop
DESCRIPTION:
URL:https://www.salemhome.ca/event/mens-coffee-shop-462/
CATEGORIES:Evergreen
END:VEVENT
BEGIN:VEVENT
DTSTART;TZID=America/Winnipeg:20241106T100000
DTEND;TZID=America/Winnipeg:20241106T110000
DTSTAMP:20260425T152822
CREATED:20240926T043023Z
LAST-MODIFIED:20240927T043040Z
UID:45208-1730887200-1730890800@www.salemhome.ca
SUMMARY:John & Irene Plantz
DESCRIPTION:
URL:https://www.salemhome.ca/event/john-irene-plantz-25/
CATEGORIES:Evergreen
END:VEVENT
BEGIN:VEVENT
DTSTART;TZID=America/Winnipeg:20241106T100000
DTEND;TZID=America/Winnipeg:20241106T110000
DTSTAMP:20260425T152822
CREATED:20241030T061520Z
LAST-MODIFIED:20241106T061528Z
UID:46226-1730887200-1730890800@www.salemhome.ca
SUMMARY:Sing Along
DESCRIPTION:
URL:https://www.salemhome.ca/event/sing-along-114/
CATEGORIES:Evergreen
END:VEVENT
BEGIN:VEVENT
DTSTART;TZID=America/Winnipeg:20241106T144500
DTEND;TZID=America/Winnipeg:20241106T154500
DTSTAMP:20260425T152822
CREATED:20240814T234529Z
LAST-MODIFIED:20241106T061528Z
UID:43643-1730904300-1730907900@www.salemhome.ca
SUMMARY:Men's Group
DESCRIPTION:Located on Maple North. Residents from all care areas are welcome to attend.
URL:https://www.salemhome.ca/event/mens-group-540/
CATEGORIES:Evergreen
END:VEVENT
BEGIN:VEVENT
DTSTART;TZID=America/Winnipeg:20241106T144500
DTEND;TZID=America/Winnipeg:20241106T154500
DTSTAMP:20260425T152822
CREATED:20240814T234529Z
LAST-MODIFIED:20241029T061531Z
UID:43644-1730904300-1730907900@www.salemhome.ca
SUMMARY:Bingo
DESCRIPTION:
URL:https://www.salemhome.ca/event/bingo-567/
CATEGORIES:Evergreen
END:VEVENT
BEGIN:VEVENT
DTSTART;TZID=America/Winnipeg:20241106T144500
DTEND;TZID=America/Winnipeg:20241106T154500
DTSTAMP:20260425T152822
CREATED:20241030T061520Z
LAST-MODIFIED:20241106T061528Z
UID:46227-1730904300-1730907900@www.salemhome.ca
SUMMARY:Bingo
DESCRIPTION:
URL:https://www.salemhome.ca/event/bingo-639/
CATEGORIES:Evergreen
END:VEVENT
BEGIN:VEVENT
DTSTART;TZID=America/Winnipeg:20241107T103000
DTEND;TZID=America/Winnipeg:20241107T113000
DTSTAMP:20260425T152822
CREATED:20241030T061520Z
LAST-MODIFIED:20241107T061518Z
UID:46228-1730975400-1730979000@www.salemhome.ca
SUMMARY:Chapel: Harvest Christian
DESCRIPTION:
URL:https://www.salemhome.ca/event/chapel-harvest-christian-7/
CATEGORIES:Evergreen
END:VEVENT
BEGIN:VEVENT
DTSTART;TZID=America/Winnipeg:20241107T110000
DTEND;TZID=America/Winnipeg:20241107T120000
DTSTAMP:20260425T152822
CREATED:20240814T234529Z
LAST-MODIFIED:20241107T061518Z
UID:43645-1730977200-1730980800@www.salemhome.ca
SUMMARY:Spa Day
DESCRIPTION:
URL:https://www.salemhome.ca/event/spa-day-93/
CATEGORIES:Evergreen
END:VEVENT
BEGIN:VEVENT
DTSTART;TZID=America/Winnipeg:20241107T144500
DTEND;TZID=America/Winnipeg:20241107T154500
DTSTAMP:20260425T152822
CREATED:20241030T061520Z
LAST-MODIFIED:20241107T061519Z
UID:46229-1730990700-1730994300@www.salemhome.ca
SUMMARY:Cards & Chat
DESCRIPTION:
URL:https://www.salemhome.ca/event/cards-chat-2/
CATEGORIES:Evergreen
END:VEVENT
BEGIN:VEVENT
DTSTART;TZID=America/Winnipeg:20241108T100000
DTEND;TZID=America/Winnipeg:20241108T110000
DTSTAMP:20260425T152822
CREATED:20240814T234529Z
LAST-MODIFIED:20241108T061530Z
UID:43647-1731060000-1731063600@www.salemhome.ca
SUMMARY:Men's Coffee Shop
DESCRIPTION:
URL:https://www.salemhome.ca/event/mens-coffee-shop-465/
CATEGORIES:Evergreen
END:VEVENT
BEGIN:VEVENT
DTSTART;TZID=America/Winnipeg:20241108T101500
DTEND;TZID=America/Winnipeg:20241108T104500
DTSTAMP:20260425T152822
CREATED:20240815T234633Z
LAST-MODIFIED:20241108T061530Z
UID:43677-1731060900-1731062700@www.salemhome.ca
SUMMARY:Chapel
DESCRIPTION:
URL:https://www.salemhome.ca/event/chapel-598/
CATEGORIES:Evergreen
END:VEVENT
BEGIN:VEVENT
DTSTART;TZID=America/Winnipeg:20241108T110000
DTEND;TZID=America/Winnipeg:20241108T120000
DTSTAMP:20260425T152822
CREATED:20240814T234529Z
LAST-MODIFIED:20241108T061530Z
UID:43646-1731063600-1731067200@www.salemhome.ca
SUMMARY:Music by Dave Nickel
DESCRIPTION:
URL:https://www.salemhome.ca/event/music-by-dave-nickel-96/
CATEGORIES:Evergreen
END:VEVENT
BEGIN:VEVENT
DTSTART;TZID=America/Winnipeg:20241108T140000
DTEND;TZID=America/Winnipeg:20241108T150000
DTSTAMP:20260425T152822
CREATED:20240815T234634Z
LAST-MODIFIED:20241108T061530Z
UID:43680-1731074400-1731078000@www.salemhome.ca
SUMMARY:Music Therapy
DESCRIPTION:
URL:https://www.salemhome.ca/event/music-therapy-200/
CATEGORIES:Evergreen
END:VEVENT
BEGIN:VEVENT
DTSTART;TZID=America/Winnipeg:20241109T100000
DTEND;TZID=America/Winnipeg:20241109T110000
DTSTAMP:20260425T152822
CREATED:20240815T234634Z
LAST-MODIFIED:20241109T063031Z
UID:43681-1731146400-1731150000@www.salemhome.ca
SUMMARY:Bingo
DESCRIPTION:
URL:https://www.salemhome.ca/event/bingo-570/
CATEGORIES:Evergreen
END:VEVENT
END:VCALENDAR