BEGIN:VCALENDAR
VERSION:2.0
PRODID:-//Salem Home - ECPv6.15.20//NONSGML v1.0//EN
CALSCALE:GREGORIAN
METHOD:PUBLISH
X-WR-CALNAME:Salem Home
X-ORIGINAL-URL:https://www.salemhome.ca
X-WR-CALDESC:Events for Salem Home
REFRESH-INTERVAL;VALUE=DURATION:PT1H
X-Robots-Tag:noindex
X-PUBLISHED-TTL:PT1H
BEGIN:VTIMEZONE
TZID:America/Winnipeg
BEGIN:DAYLIGHT
TZOFFSETFROM:-0600
TZOFFSETTO:-0500
TZNAME:CDT
DTSTART:20230312T080000
END:DAYLIGHT
BEGIN:STANDARD
TZOFFSETFROM:-0500
TZOFFSETTO:-0600
TZNAME:CST
DTSTART:20231105T070000
END:STANDARD
BEGIN:DAYLIGHT
TZOFFSETFROM:-0600
TZOFFSETTO:-0500
TZNAME:CDT
DTSTART:20240310T080000
END:DAYLIGHT
BEGIN:STANDARD
TZOFFSETFROM:-0500
TZOFFSETTO:-0600
TZNAME:CST
DTSTART:20241103T070000
END:STANDARD
BEGIN:DAYLIGHT
TZOFFSETFROM:-0600
TZOFFSETTO:-0500
TZNAME:CDT
DTSTART:20250309T080000
END:DAYLIGHT
BEGIN:STANDARD
TZOFFSETFROM:-0500
TZOFFSETTO:-0600
TZNAME:CST
DTSTART:20251102T070000
END:STANDARD
END:VTIMEZONE
BEGIN:VEVENT
DTSTART;VALUE=DATE:20241201
DTEND;VALUE=DATE:20241202
DTSTAMP:20260425T120827
CREATED:20240907T040027Z
LAST-MODIFIED:20241201T071531Z
UID:44436-1733011200-1733097599@www.salemhome.ca
SUMMARY:Day of Rest
DESCRIPTION:
URL:https://www.salemhome.ca/event/day-of-rest-196/
CATEGORIES:Evergreen
END:VEVENT
BEGIN:VEVENT
DTSTART;TZID=America/Winnipeg:20241201T094500
DTEND;TZID=America/Winnipeg:20241201T104500
DTSTAMP:20260425T120827
CREATED:20241129T071515Z
LAST-MODIFIED:20241201T071531Z
UID:47137-1733046300-1733049900@www.salemhome.ca
SUMMARY:Chapel: Pathway Community Church
DESCRIPTION:
URL:https://www.salemhome.ca/event/chapel-pathway-community-church-20/
CATEGORIES:Evergreen
END:VEVENT
BEGIN:VEVENT
DTSTART;TZID=America/Winnipeg:20241202T100000
DTEND;TZID=America/Winnipeg:20241202T110000
DTSTAMP:20260425T120827
CREATED:20240908T040033Z
LAST-MODIFIED:20241202T073014Z
UID:44459-1733133600-1733137200@www.salemhome.ca
SUMMARY:Men's Coffee Shop
DESCRIPTION:
URL:https://www.salemhome.ca/event/mens-coffee-shop-503/
CATEGORIES:Evergreen
END:VEVENT
BEGIN:VEVENT
DTSTART;TZID=America/Winnipeg:20241202T100000
DTEND;TZID=America/Winnipeg:20241202T110000
DTSTAMP:20260425T120827
CREATED:20241129T071515Z
LAST-MODIFIED:20241202T073014Z
UID:47138-1733133600-1733137200@www.salemhome.ca
SUMMARY:Devotions
DESCRIPTION:
URL:https://www.salemhome.ca/event/devotions-108/
CATEGORIES:Evergreen
END:VEVENT
BEGIN:VEVENT
DTSTART;TZID=America/Winnipeg:20241202T123000
DTEND;TZID=America/Winnipeg:20241202T133000
DTSTAMP:20260425T120827
CREATED:20241129T071515Z
LAST-MODIFIED:20241202T073014Z
UID:47139-1733142600-1733146200@www.salemhome.ca
SUMMARY:12 Voices of Christmas
DESCRIPTION:
URL:https://www.salemhome.ca/event/12-voices-of-christmas-7/
CATEGORIES:Evergreen
END:VEVENT
BEGIN:VEVENT
DTSTART;TZID=America/Winnipeg:20241202T144500
DTEND;TZID=America/Winnipeg:20241202T154500
DTSTAMP:20260425T120827
CREATED:20240908T040033Z
LAST-MODIFIED:20241202T073014Z
UID:44460-1733150700-1733154300@www.salemhome.ca
SUMMARY:Men's Group
DESCRIPTION:Located on Evergreen\, residents from all care areas welcome.
URL:https://www.salemhome.ca/event/mens-group-564/
CATEGORIES:Evergreen
END:VEVENT
BEGIN:VEVENT
DTSTART;TZID=America/Winnipeg:20241202T150000
DTEND;TZID=America/Winnipeg:20241202T160000
DTSTAMP:20260425T120827
CREATED:20241129T071515Z
LAST-MODIFIED:20241202T073014Z
UID:47140-1733151600-1733155200@www.salemhome.ca
SUMMARY:Kings In a Corner
DESCRIPTION:
URL:https://www.salemhome.ca/event/kings-in-a-corner/
CATEGORIES:Evergreen
END:VEVENT
BEGIN:VEVENT
DTSTART;TZID=America/Winnipeg:20241203T100000
DTEND;TZID=America/Winnipeg:20241203T110000
DTSTAMP:20260425T120827
CREATED:20240909T040026Z
LAST-MODIFIED:20241203T073013Z
UID:44478-1733220000-1733223600@www.salemhome.ca
SUMMARY:Men's Coffee Shop
DESCRIPTION:
URL:https://www.salemhome.ca/event/mens-coffee-shop-504/
CATEGORIES:Evergreen
END:VEVENT
BEGIN:VEVENT
DTSTART;TZID=America/Winnipeg:20241203T150000
DTEND;TZID=America/Winnipeg:20241203T160000
DTSTAMP:20260425T120827
CREATED:20241129T071516Z
LAST-MODIFIED:20241203T073013Z
UID:47141-1733238000-1733241600@www.salemhome.ca
SUMMARY:Games
DESCRIPTION:
URL:https://www.salemhome.ca/event/games-109/
CATEGORIES:Evergreen
END:VEVENT
BEGIN:VEVENT
DTSTART;TZID=America/Winnipeg:20241203T180000
DTEND;TZID=America/Winnipeg:20241203T190000
DTSTAMP:20260425T120827
CREATED:20240909T040026Z
LAST-MODIFIED:20241203T073013Z
UID:44479-1733248800-1733252400@www.salemhome.ca
SUMMARY:Movie Night
DESCRIPTION:
URL:https://www.salemhome.ca/event/movie-night-98/
CATEGORIES:Evergreen
END:VEVENT
BEGIN:VEVENT
DTSTART;TZID=America/Winnipeg:20241204T100000
DTEND;TZID=America/Winnipeg:20241204T110000
DTSTAMP:20260425T120827
CREATED:20240910T040027Z
LAST-MODIFIED:20241204T073033Z
UID:44501-1733306400-1733310000@www.salemhome.ca
SUMMARY:Men's Coffee Shop
DESCRIPTION:
URL:https://www.salemhome.ca/event/mens-coffee-shop-508/
CATEGORIES:Evergreen
END:VEVENT
BEGIN:VEVENT
DTSTART;TZID=America/Winnipeg:20241204T100000
DTEND;TZID=America/Winnipeg:20241204T110000
DTSTAMP:20260425T120827
CREATED:20240926T043027Z
LAST-MODIFIED:20240927T043044Z
UID:45212-1733306400-1733310000@www.salemhome.ca
SUMMARY:John & Irene Plantz
DESCRIPTION:
URL:https://www.salemhome.ca/event/john-irene-plantz-29/
CATEGORIES:Evergreen
END:VEVENT
BEGIN:VEVENT
DTSTART;TZID=America/Winnipeg:20241204T100000
DTEND;TZID=America/Winnipeg:20241204T110000
DTSTAMP:20260425T120827
CREATED:20241129T071516Z
LAST-MODIFIED:20241204T073033Z
UID:47142-1733306400-1733310000@www.salemhome.ca
SUMMARY:John & Irene Plantz
DESCRIPTION:
URL:https://www.salemhome.ca/event/john-irene-plantz-31/
CATEGORIES:Evergreen
END:VEVENT
BEGIN:VEVENT
DTSTART;TZID=America/Winnipeg:20241204T144500
DTEND;TZID=America/Winnipeg:20241204T154500
DTSTAMP:20260425T120827
CREATED:20240910T040027Z
LAST-MODIFIED:20241204T073033Z
UID:44503-1733323500-1733327100@www.salemhome.ca
SUMMARY:Bingo
DESCRIPTION:
URL:https://www.salemhome.ca/event/bingo-588/
CATEGORIES:Evergreen
END:VEVENT
BEGIN:VEVENT
DTSTART;TZID=America/Winnipeg:20241204T144500
DTEND;TZID=America/Winnipeg:20241204T154500
DTSTAMP:20260425T120827
CREATED:20240910T040027Z
LAST-MODIFIED:20241204T073033Z
UID:44502-1733323500-1733327100@www.salemhome.ca
SUMMARY:Men's Group
DESCRIPTION:Located on Maple North. Residents from all care areas are welcome to attend.
URL:https://www.salemhome.ca/event/mens-group-568/
CATEGORIES:Evergreen
END:VEVENT
BEGIN:VEVENT
DTSTART;TZID=America/Winnipeg:20241205T103000
DTEND;TZID=America/Winnipeg:20241205T113000
DTSTAMP:20260425T120827
CREATED:20241129T071516Z
LAST-MODIFIED:20241205T073011Z
UID:47143-1733394600-1733398200@www.salemhome.ca
SUMMARY:Chapel: Sommerfeld Church\, Communion
DESCRIPTION:
URL:https://www.salemhome.ca/event/chapel-sommerfeld-church-communion/
CATEGORIES:Evergreen
END:VEVENT
BEGIN:VEVENT
DTSTART;TZID=America/Winnipeg:20241205T110000
DTEND;TZID=America/Winnipeg:20241205T120000
DTSTAMP:20260425T120827
CREATED:20240911T040026Z
LAST-MODIFIED:20241205T073011Z
UID:44535-1733396400-1733400000@www.salemhome.ca
SUMMARY:Spa Day
DESCRIPTION:
URL:https://www.salemhome.ca/event/spa-day-97/
CATEGORIES:Evergreen
END:VEVENT
BEGIN:VEVENT
DTSTART;TZID=America/Winnipeg:20241205T150000
DTEND;TZID=America/Winnipeg:20241205T160000
DTSTAMP:20260425T120827
CREATED:20241129T071516Z
LAST-MODIFIED:20241205T073012Z
UID:47144-1733410800-1733414400@www.salemhome.ca
SUMMARY:Christmas Cards
DESCRIPTION:
URL:https://www.salemhome.ca/event/christmas-cards/
CATEGORIES:Evergreen
END:VEVENT
BEGIN:VEVENT
DTSTART;TZID=America/Winnipeg:20241205T184500
DTEND;TZID=America/Winnipeg:20241205T194500
DTSTAMP:20260425T120827
CREATED:20241129T071516Z
LAST-MODIFIED:20241205T073012Z
UID:47145-1733424300-1733427900@www.salemhome.ca
SUMMARY:Advent Service
DESCRIPTION:
URL:https://www.salemhome.ca/event/advent-service-5/
CATEGORIES:Evergreen
END:VEVENT
BEGIN:VEVENT
DTSTART;TZID=America/Winnipeg:20241206T100000
DTEND;TZID=America/Winnipeg:20241206T110000
DTSTAMP:20260425T120827
CREATED:20240911T040026Z
LAST-MODIFIED:20241206T073031Z
UID:44536-1733479200-1733482800@www.salemhome.ca
SUMMARY:Men's Coffee Shop
DESCRIPTION:
URL:https://www.salemhome.ca/event/mens-coffee-shop-512/
CATEGORIES:Evergreen
END:VEVENT
BEGIN:VEVENT
DTSTART;TZID=America/Winnipeg:20241206T101500
DTEND;TZID=America/Winnipeg:20241206T104500
DTSTAMP:20260425T120827
CREATED:20240911T040026Z
LAST-MODIFIED:20241206T073031Z
UID:44537-1733480100-1733481900@www.salemhome.ca
SUMMARY:Chapel
DESCRIPTION:
URL:https://www.salemhome.ca/event/chapel-608/
CATEGORIES:Evergreen
END:VEVENT
BEGIN:VEVENT
DTSTART;TZID=America/Winnipeg:20241206T110000
DTEND;TZID=America/Winnipeg:20241206T120000
DTSTAMP:20260425T120827
CREATED:20240912T040032Z
LAST-MODIFIED:20241206T073031Z
UID:44576-1733482800-1733486400@www.salemhome.ca
SUMMARY:Music by Dave Nickel
DESCRIPTION:
URL:https://www.salemhome.ca/event/music-by-dave-nickel-100/
CATEGORIES:Evergreen
END:VEVENT
BEGIN:VEVENT
DTSTART;TZID=America/Winnipeg:20241206T140000
DTEND;TZID=America/Winnipeg:20241206T150000
DTSTAMP:20260425T120827
CREATED:20240912T040032Z
LAST-MODIFIED:20241206T073031Z
UID:44578-1733493600-1733497200@www.salemhome.ca
SUMMARY:Music Therapy
DESCRIPTION:
URL:https://www.salemhome.ca/event/music-therapy-206/
CATEGORIES:Evergreen
END:VEVENT
BEGIN:VEVENT
DTSTART;TZID=America/Winnipeg:20241207T100000
DTEND;TZID=America/Winnipeg:20241207T110000
DTSTAMP:20260425T120827
CREATED:20240912T040032Z
LAST-MODIFIED:20241207T073011Z
UID:44579-1733565600-1733569200@www.salemhome.ca
SUMMARY:Bingo
DESCRIPTION:
URL:https://www.salemhome.ca/event/bingo-591/
CATEGORIES:Evergreen
END:VEVENT
BEGIN:VEVENT
DTSTART;VALUE=DATE:20241208
DTEND;VALUE=DATE:20241209
DTSTAMP:20260425T120827
CREATED:20240912T040033Z
LAST-MODIFIED:20241208T073015Z
UID:44580-1733616000-1733702399@www.salemhome.ca
SUMMARY:Day of Rest
DESCRIPTION:
URL:https://www.salemhome.ca/event/day-of-rest-200/
CATEGORIES:Evergreen
END:VEVENT
BEGIN:VEVENT
DTSTART;TZID=America/Winnipeg:20241208T094500
DTEND;TZID=America/Winnipeg:20241208T104500
DTSTAMP:20260425T120827
CREATED:20241129T071517Z
LAST-MODIFIED:20241208T073015Z
UID:47146-1733651100-1733654700@www.salemhome.ca
SUMMARY:Chapel: Covenant Mennonite
DESCRIPTION:
URL:https://www.salemhome.ca/event/chapel-covenant-mennonite-17/
CATEGORIES:Evergreen
END:VEVENT
BEGIN:VEVENT
DTSTART;TZID=America/Winnipeg:20241209T100000
DTEND;TZID=America/Winnipeg:20241209T110000
DTSTAMP:20260425T120827
CREATED:20240913T040027Z
LAST-MODIFIED:20241209T073016Z
UID:44619-1733738400-1733742000@www.salemhome.ca
SUMMARY:Men's Coffee Shop
DESCRIPTION:
URL:https://www.salemhome.ca/event/mens-coffee-shop-518/
CATEGORIES:Evergreen
END:VEVENT
BEGIN:VEVENT
DTSTART;TZID=America/Winnipeg:20241209T100000
DTEND;TZID=America/Winnipeg:20241209T110000
DTSTAMP:20260425T120827
CREATED:20241129T071517Z
LAST-MODIFIED:20241209T073016Z
UID:47147-1733738400-1733742000@www.salemhome.ca
SUMMARY:Snakes & Ladders
DESCRIPTION:
URL:https://www.salemhome.ca/event/snakes-ladders-32/
CATEGORIES:Evergreen
END:VEVENT
BEGIN:VEVENT
DTSTART;TZID=America/Winnipeg:20241209T144500
DTEND;TZID=America/Winnipeg:20241209T154500
DTSTAMP:20260425T120827
CREATED:20240913T040027Z
LAST-MODIFIED:20241209T073016Z
UID:44620-1733755500-1733759100@www.salemhome.ca
SUMMARY:Men's Group
DESCRIPTION:Located on Evergreen\, residents from all care areas welcome.
URL:https://www.salemhome.ca/event/mens-group-574/
CATEGORIES:Evergreen
END:VEVENT
BEGIN:VEVENT
DTSTART;TZID=America/Winnipeg:20241210T100000
DTEND;TZID=America/Winnipeg:20241210T110000
DTSTAMP:20260425T120827
CREATED:20240913T040027Z
LAST-MODIFIED:20241210T073017Z
UID:44621-1733824800-1733828400@www.salemhome.ca
SUMMARY:Men's Coffee Shop
DESCRIPTION:
URL:https://www.salemhome.ca/event/mens-coffee-shop-519/
CATEGORIES:Evergreen
END:VEVENT
END:VCALENDAR