BEGIN:VCALENDAR
VERSION:2.0
PRODID:-//Salem Home - ECPv6.15.20//NONSGML v1.0//EN
CALSCALE:GREGORIAN
METHOD:PUBLISH
X-ORIGINAL-URL:https://www.salemhome.ca
X-WR-CALDESC:Events for Salem Home
REFRESH-INTERVAL;VALUE=DURATION:PT1H
X-Robots-Tag:noindex
X-PUBLISHED-TTL:PT1H
BEGIN:VTIMEZONE
TZID:America/Winnipeg
BEGIN:DAYLIGHT
TZOFFSETFROM:-0600
TZOFFSETTO:-0500
TZNAME:CDT
DTSTART:20240310T080000
END:DAYLIGHT
BEGIN:STANDARD
TZOFFSETFROM:-0500
TZOFFSETTO:-0600
TZNAME:CST
DTSTART:20241103T070000
END:STANDARD
BEGIN:DAYLIGHT
TZOFFSETFROM:-0600
TZOFFSETTO:-0500
TZNAME:CDT
DTSTART:20250309T080000
END:DAYLIGHT
BEGIN:STANDARD
TZOFFSETFROM:-0500
TZOFFSETTO:-0600
TZNAME:CST
DTSTART:20251102T070000
END:STANDARD
BEGIN:DAYLIGHT
TZOFFSETFROM:-0600
TZOFFSETTO:-0500
TZNAME:CDT
DTSTART:20260308T080000
END:DAYLIGHT
BEGIN:STANDARD
TZOFFSETFROM:-0500
TZOFFSETTO:-0600
TZNAME:CST
DTSTART:20261101T070000
END:STANDARD
END:VTIMEZONE
BEGIN:VEVENT
DTSTART;TZID=America/Winnipeg:20250101T100000
DTEND;TZID=America/Winnipeg:20250101T110000
DTSTAMP:20260425T054328
CREATED:20241011T050033Z
LAST-MODIFIED:20250101T084513Z
UID:45619-1735725600-1735729200@www.salemhome.ca
SUMMARY:Men's Coffee Shop
DESCRIPTION:
URL:https://www.salemhome.ca/event/mens-coffee-shop-559/
CATEGORIES:Evergreen
END:VEVENT
BEGIN:VEVENT
DTSTART;TZID=America/Winnipeg:20250101T144500
DTEND;TZID=America/Winnipeg:20250101T154500
DTSTAMP:20260425T054328
CREATED:20241011T050033Z
LAST-MODIFIED:20250101T084513Z
UID:45620-1735742700-1735746300@www.salemhome.ca
SUMMARY:Bingo
DESCRIPTION:
URL:https://www.salemhome.ca/event/bingo-618/
CATEGORIES:Evergreen
END:VEVENT
BEGIN:VEVENT
DTSTART;TZID=America/Winnipeg:20250101T144500
DTEND;TZID=America/Winnipeg:20250101T154500
DTSTAMP:20260425T054328
CREATED:20241011T050033Z
LAST-MODIFIED:20250101T084513Z
UID:45621-1735742700-1735746300@www.salemhome.ca
SUMMARY:Men's Group
DESCRIPTION:Located on Maple North. Residents from all care areas are welcome to attend.
URL:https://www.salemhome.ca/event/mens-group-603/
CATEGORIES:Evergreen
END:VEVENT
BEGIN:VEVENT
DTSTART;TZID=America/Winnipeg:20250102T110000
DTEND;TZID=America/Winnipeg:20250102T120000
DTSTAMP:20260425T054328
CREATED:20241011T050033Z
LAST-MODIFIED:20250102T084511Z
UID:45622-1735815600-1735819200@www.salemhome.ca
SUMMARY:Spa Day
DESCRIPTION:
URL:https://www.salemhome.ca/event/spa-day-101/
CATEGORIES:Evergreen
END:VEVENT
BEGIN:VEVENT
DTSTART;TZID=America/Winnipeg:20250103T100000
DTEND;TZID=America/Winnipeg:20250103T110000
DTSTAMP:20260425T054328
CREATED:20241012T050026Z
LAST-MODIFIED:20250103T084529Z
UID:45650-1735898400-1735902000@www.salemhome.ca
SUMMARY:Men's Coffee Shop
DESCRIPTION:
URL:https://www.salemhome.ca/event/mens-coffee-shop-561/
CATEGORIES:Evergreen
END:VEVENT
BEGIN:VEVENT
DTSTART;TZID=America/Winnipeg:20250103T101500
DTEND;TZID=America/Winnipeg:20250103T104500
DTSTAMP:20260425T054328
CREATED:20241012T050026Z
LAST-MODIFIED:20250103T084529Z
UID:45648-1735899300-1735901100@www.salemhome.ca
SUMMARY:Chapel
DESCRIPTION:
URL:https://www.salemhome.ca/event/chapel-620/
CATEGORIES:Evergreen
END:VEVENT
BEGIN:VEVENT
DTSTART;TZID=America/Winnipeg:20250103T110000
DTEND;TZID=America/Winnipeg:20250103T120000
DTSTAMP:20260425T054328
CREATED:20241012T050026Z
LAST-MODIFIED:20250103T084529Z
UID:45649-1735902000-1735905600@www.salemhome.ca
SUMMARY:Music by Dave Nickel
DESCRIPTION:
URL:https://www.salemhome.ca/event/music-by-dave-nickel-104/
CATEGORIES:Evergreen
END:VEVENT
BEGIN:VEVENT
DTSTART;TZID=America/Winnipeg:20250103T140000
DTEND;TZID=America/Winnipeg:20250103T150000
DTSTAMP:20260425T054328
CREATED:20241012T050026Z
LAST-MODIFIED:20250103T084529Z
UID:45651-1735912800-1735916400@www.salemhome.ca
SUMMARY:Music Therapy
DESCRIPTION:
URL:https://www.salemhome.ca/event/music-therapy-212/
CATEGORIES:Evergreen
END:VEVENT
BEGIN:VEVENT
DTSTART;TZID=America/Winnipeg:20250104T100000
DTEND;TZID=America/Winnipeg:20250104T110000
DTSTAMP:20260425T054328
CREATED:20241012T050026Z
LAST-MODIFIED:20250104T084510Z
UID:45652-1735984800-1735988400@www.salemhome.ca
SUMMARY:Bingo
DESCRIPTION:
URL:https://www.salemhome.ca/event/bingo-619/
CATEGORIES:Evergreen
END:VEVENT
BEGIN:VEVENT
DTSTART;VALUE=DATE:20250105
DTEND;VALUE=DATE:20250106
DTSTAMP:20260425T054328
CREATED:20241013T050030Z
LAST-MODIFIED:20250105T084510Z
UID:45693-1736035200-1736121599@www.salemhome.ca
SUMMARY:Day of Rest
DESCRIPTION:
URL:https://www.salemhome.ca/event/day-of-rest-219/
CATEGORIES:Evergreen
END:VEVENT
BEGIN:VEVENT
DTSTART;TZID=America/Winnipeg:20250105T103000
DTEND;TZID=America/Winnipeg:20250105T113000
DTSTAMP:20260425T054328
CREATED:20250103T084515Z
LAST-MODIFIED:20250105T084510Z
UID:48370-1736073000-1736076600@www.salemhome.ca
SUMMARY:Chapel: Sommerfeld Mennonite
DESCRIPTION:
URL:https://www.salemhome.ca/event/chapel-sommerfeld-mennonite-49/
CATEGORIES:Evergreen
END:VEVENT
BEGIN:VEVENT
DTSTART;TZID=America/Winnipeg:20250106T100000
DTEND;TZID=America/Winnipeg:20250106T110000
DTSTAMP:20260425T054328
CREATED:20241013T050030Z
LAST-MODIFIED:20250106T084516Z
UID:45694-1736157600-1736161200@www.salemhome.ca
SUMMARY:Men's Coffee Shop
DESCRIPTION:
URL:https://www.salemhome.ca/event/mens-coffee-shop-564/
CATEGORIES:Evergreen
END:VEVENT
BEGIN:VEVENT
DTSTART;TZID=America/Winnipeg:20250106T144500
DTEND;TZID=America/Winnipeg:20250106T154500
DTSTAMP:20260425T054328
CREATED:20241014T050029Z
LAST-MODIFIED:20250106T084516Z
UID:45712-1736174700-1736178300@www.salemhome.ca
SUMMARY:Men's Group
DESCRIPTION:Located on Evergreen\, residents from all care areas welcome.
URL:https://www.salemhome.ca/event/mens-group-608/
CATEGORIES:Evergreen
END:VEVENT
BEGIN:VEVENT
DTSTART;TZID=America/Winnipeg:20250106T150000
DTEND;TZID=America/Winnipeg:20250106T160000
DTSTAMP:20260425T054328
CREATED:20250103T084515Z
LAST-MODIFIED:20250106T084516Z
UID:48371-1736175600-1736179200@www.salemhome.ca
SUMMARY:Snakes & Ladders
DESCRIPTION:
URL:https://www.salemhome.ca/event/snakes-ladders-35/
CATEGORIES:Evergreen
END:VEVENT
BEGIN:VEVENT
DTSTART;TZID=America/Winnipeg:20250107T100000
DTEND;TZID=America/Winnipeg:20250107T110000
DTSTAMP:20260425T054328
CREATED:20241014T050030Z
LAST-MODIFIED:20250107T084527Z
UID:45713-1736244000-1736247600@www.salemhome.ca
SUMMARY:Men's Coffee Shop
DESCRIPTION:
URL:https://www.salemhome.ca/event/mens-coffee-shop-567/
CATEGORIES:Evergreen
END:VEVENT
BEGIN:VEVENT
DTSTART;TZID=America/Winnipeg:20250107T150000
DTEND;TZID=America/Winnipeg:20250107T160000
DTSTAMP:20260425T054328
CREATED:20250103T084515Z
LAST-MODIFIED:20250107T084527Z
UID:48372-1736262000-1736265600@www.salemhome.ca
SUMMARY:Tin Foil Craft
DESCRIPTION:
URL:https://www.salemhome.ca/event/tin-foil-craft/
CATEGORIES:Evergreen
END:VEVENT
BEGIN:VEVENT
DTSTART;TZID=America/Winnipeg:20250107T180000
DTEND;TZID=America/Winnipeg:20250107T190000
DTSTAMP:20260425T054328
CREATED:20241016T050030Z
LAST-MODIFIED:20250107T084527Z
UID:45744-1736272800-1736276400@www.salemhome.ca
SUMMARY:Movie Night
DESCRIPTION:
URL:https://www.salemhome.ca/event/movie-night-103/
CATEGORIES:Evergreen
END:VEVENT
BEGIN:VEVENT
DTSTART;TZID=America/Winnipeg:20250108T100000
DTEND;TZID=America/Winnipeg:20250108T110000
DTSTAMP:20260425T054328
CREATED:20241016T050030Z
LAST-MODIFIED:20250108T084518Z
UID:45745-1736330400-1736334000@www.salemhome.ca
SUMMARY:Men's Coffee Shop
DESCRIPTION:
URL:https://www.salemhome.ca/event/mens-coffee-shop-570/
CATEGORIES:Evergreen
END:VEVENT
BEGIN:VEVENT
DTSTART;TZID=America/Winnipeg:20250108T100000
DTEND;TZID=America/Winnipeg:20250108T110000
DTSTAMP:20260425T054328
CREATED:20250103T084516Z
LAST-MODIFIED:20250108T084518Z
UID:48373-1736330400-1736334000@www.salemhome.ca
SUMMARY:Balloon Badminton
DESCRIPTION:
URL:https://www.salemhome.ca/event/balloon-badminton-38/
CATEGORIES:Evergreen
END:VEVENT
BEGIN:VEVENT
DTSTART;TZID=America/Winnipeg:20250108T144500
DTEND;TZID=America/Winnipeg:20250108T154500
DTSTAMP:20260425T054328
CREATED:20241016T050031Z
LAST-MODIFIED:20250108T084518Z
UID:45746-1736347500-1736351100@www.salemhome.ca
SUMMARY:Bingo
DESCRIPTION:
URL:https://www.salemhome.ca/event/bingo-622/
CATEGORIES:Evergreen
END:VEVENT
BEGIN:VEVENT
DTSTART;TZID=America/Winnipeg:20250108T144500
DTEND;TZID=America/Winnipeg:20250108T154500
DTSTAMP:20260425T054328
CREATED:20241017T051532Z
LAST-MODIFIED:20250108T084518Z
UID:45783-1736347500-1736351100@www.salemhome.ca
SUMMARY:Men's Group
DESCRIPTION:Located on Maple North. Residents from all care areas are welcome to attend.
URL:https://www.salemhome.ca/event/mens-group-612/
CATEGORIES:Evergreen
END:VEVENT
BEGIN:VEVENT
DTSTART;TZID=America/Winnipeg:20250109T103000
DTEND;TZID=America/Winnipeg:20250109T113000
DTSTAMP:20260425T054328
CREATED:20250103T084516Z
LAST-MODIFIED:20250109T084530Z
UID:48374-1736418600-1736422200@www.salemhome.ca
SUMMARY:Chapel: Old Colony Mennonite
DESCRIPTION:
URL:https://www.salemhome.ca/event/chapel-old-colony-mennonite-80/
CATEGORIES:Evergreen
END:VEVENT
BEGIN:VEVENT
DTSTART;TZID=America/Winnipeg:20250109T110000
DTEND;TZID=America/Winnipeg:20250109T120000
DTSTAMP:20260425T054328
CREATED:20241017T051532Z
LAST-MODIFIED:20250109T084531Z
UID:45784-1736420400-1736424000@www.salemhome.ca
SUMMARY:Spa Day
DESCRIPTION:
URL:https://www.salemhome.ca/event/spa-day-102/
CATEGORIES:Evergreen
END:VEVENT
BEGIN:VEVENT
DTSTART;TZID=America/Winnipeg:20250109T150000
DTEND;TZID=America/Winnipeg:20250109T160000
DTSTAMP:20260425T054328
CREATED:20250103T084516Z
LAST-MODIFIED:20250109T084531Z
UID:48375-1736434800-1736438400@www.salemhome.ca
SUMMARY:Keep it Up!
DESCRIPTION:
URL:https://www.salemhome.ca/event/keep-it-up/
CATEGORIES:Evergreen
END:VEVENT
BEGIN:VEVENT
DTSTART;TZID=America/Winnipeg:20250110T100000
DTEND;TZID=America/Winnipeg:20250110T110000
DTSTAMP:20260425T054328
CREATED:20241017T051533Z
LAST-MODIFIED:20250110T084510Z
UID:45785-1736503200-1736506800@www.salemhome.ca
SUMMARY:Men's Coffee Shop
DESCRIPTION:
URL:https://www.salemhome.ca/event/mens-coffee-shop-572/
CATEGORIES:Evergreen
END:VEVENT
BEGIN:VEVENT
DTSTART;TZID=America/Winnipeg:20250110T101500
DTEND;TZID=America/Winnipeg:20250110T104500
DTSTAMP:20260425T054328
CREATED:20241017T051533Z
LAST-MODIFIED:20250110T084510Z
UID:45786-1736504100-1736505900@www.salemhome.ca
SUMMARY:Chapel
DESCRIPTION:
URL:https://www.salemhome.ca/event/chapel-623/
CATEGORIES:Evergreen
END:VEVENT
BEGIN:VEVENT
DTSTART;TZID=America/Winnipeg:20250110T110000
DTEND;TZID=America/Winnipeg:20250110T120000
DTSTAMP:20260425T054328
CREATED:20241018T051527Z
LAST-MODIFIED:20250110T084510Z
UID:45815-1736506800-1736510400@www.salemhome.ca
SUMMARY:Music by Dave Nickel
DESCRIPTION:
URL:https://www.salemhome.ca/event/music-by-dave-nickel-105/
CATEGORIES:Evergreen
END:VEVENT
BEGIN:VEVENT
DTSTART;TZID=America/Winnipeg:20250110T140000
DTEND;TZID=America/Winnipeg:20250110T150000
DTSTAMP:20260425T054328
CREATED:20241018T051528Z
LAST-MODIFIED:20250110T084510Z
UID:45816-1736517600-1736521200@www.salemhome.ca
SUMMARY:Music Therapy
DESCRIPTION:
URL:https://www.salemhome.ca/event/music-therapy-214/
CATEGORIES:Evergreen
END:VEVENT
BEGIN:VEVENT
DTSTART;TZID=America/Winnipeg:20250111T100000
DTEND;TZID=America/Winnipeg:20250111T110000
DTSTAMP:20260425T054328
CREATED:20241018T051528Z
LAST-MODIFIED:20250111T084511Z
UID:45817-1736589600-1736593200@www.salemhome.ca
SUMMARY:Bingo
DESCRIPTION:
URL:https://www.salemhome.ca/event/bingo-624/
CATEGORIES:Evergreen
END:VEVENT
BEGIN:VEVENT
DTSTART;TZID=America/Winnipeg:20250111T150000
DTEND;TZID=America/Winnipeg:20250111T160000
DTSTAMP:20260425T054328
CREATED:20250103T084516Z
LAST-MODIFIED:20250111T084511Z
UID:48376-1736607600-1736611200@www.salemhome.ca
SUMMARY:Celebrate Lyall
DESCRIPTION:
URL:https://www.salemhome.ca/event/celebrate-lyall/
CATEGORIES:Evergreen
END:VEVENT
END:VCALENDAR