BEGIN:VCALENDAR
VERSION:2.0
PRODID:-//Salem Home - ECPv6.15.20//NONSGML v1.0//EN
CALSCALE:GREGORIAN
METHOD:PUBLISH
X-ORIGINAL-URL:https://www.salemhome.ca
X-WR-CALDESC:Events for Salem Home
REFRESH-INTERVAL;VALUE=DURATION:PT1H
X-Robots-Tag:noindex
X-PUBLISHED-TTL:PT1H
BEGIN:VTIMEZONE
TZID:America/Winnipeg
BEGIN:DAYLIGHT
TZOFFSETFROM:-0600
TZOFFSETTO:-0500
TZNAME:CDT
DTSTART:20240310T080000
END:DAYLIGHT
BEGIN:STANDARD
TZOFFSETFROM:-0500
TZOFFSETTO:-0600
TZNAME:CST
DTSTART:20241103T070000
END:STANDARD
BEGIN:DAYLIGHT
TZOFFSETFROM:-0600
TZOFFSETTO:-0500
TZNAME:CDT
DTSTART:20250309T080000
END:DAYLIGHT
BEGIN:STANDARD
TZOFFSETFROM:-0500
TZOFFSETTO:-0600
TZNAME:CST
DTSTART:20251102T070000
END:STANDARD
BEGIN:DAYLIGHT
TZOFFSETFROM:-0600
TZOFFSETTO:-0500
TZNAME:CDT
DTSTART:20260308T080000
END:DAYLIGHT
BEGIN:STANDARD
TZOFFSETFROM:-0500
TZOFFSETTO:-0600
TZNAME:CST
DTSTART:20261101T070000
END:STANDARD
END:VTIMEZONE
BEGIN:VEVENT
DTSTART;TZID=America/Winnipeg:20250201T100000
DTEND;TZID=America/Winnipeg:20250201T110000
DTSTAMP:20260424T194050
CREATED:20241109T063030Z
LAST-MODIFIED:20250127T093028Z
UID:46605-1738404000-1738407600@www.salemhome.ca
SUMMARY:Bingo
DESCRIPTION:
URL:https://www.salemhome.ca/event/bingo-652/
CATEGORIES:Evergreen
END:VEVENT
BEGIN:VEVENT
DTSTART;TZID=America/Winnipeg:20250201T100000
DTEND;TZID=America/Winnipeg:20250201T110000
DTSTAMP:20260424T194050
CREATED:20250128T093015Z
LAST-MODIFIED:20250201T094530Z
UID:49242-1738404000-1738407600@www.salemhome.ca
SUMMARY:Fill In The Blank
DESCRIPTION:
URL:https://www.salemhome.ca/event/fill-in-the-blank-61/
CATEGORIES:Evergreen
END:VEVENT
BEGIN:VEVENT
DTSTART;TZID=America/Winnipeg:20250201T150000
DTEND;TZID=America/Winnipeg:20250201T160000
DTSTAMP:20260424T194050
CREATED:20250128T093015Z
LAST-MODIFIED:20250201T094530Z
UID:49243-1738422000-1738425600@www.salemhome.ca
SUMMARY:Bingo
DESCRIPTION:
URL:https://www.salemhome.ca/event/bingo-734/
CATEGORIES:Evergreen
END:VEVENT
BEGIN:VEVENT
DTSTART;VALUE=DATE:20250202
DTEND;VALUE=DATE:20250203
DTSTAMP:20260424T194050
CREATED:20241109T063030Z
LAST-MODIFIED:20250202T094528Z
UID:46606-1738454400-1738540799@www.salemhome.ca
SUMMARY:Day of Rest
DESCRIPTION:
URL:https://www.salemhome.ca/event/day-of-rest-237/
CATEGORIES:Evergreen
END:VEVENT
BEGIN:VEVENT
DTSTART;TZID=America/Winnipeg:20250202T103000
DTEND;TZID=America/Winnipeg:20250202T113000
DTSTAMP:20260424T194050
CREATED:20250128T093016Z
LAST-MODIFIED:20250202T094528Z
UID:49244-1738492200-1738495800@www.salemhome.ca
SUMMARY:Chapel: Reinland Mennonite
DESCRIPTION:
URL:https://www.salemhome.ca/event/chapel-reinland-mennonite-103/
CATEGORIES:Evergreen
END:VEVENT
BEGIN:VEVENT
DTSTART;TZID=America/Winnipeg:20250203T100000
DTEND;TZID=America/Winnipeg:20250203T110000
DTSTAMP:20260424T194050
CREATED:20241109T063031Z
LAST-MODIFIED:20250203T094513Z
UID:46607-1738576800-1738580400@www.salemhome.ca
SUMMARY:Men's Coffee Shop
DESCRIPTION:
URL:https://www.salemhome.ca/event/mens-coffee-shop-621/
CATEGORIES:Evergreen
END:VEVENT
BEGIN:VEVENT
DTSTART;TZID=America/Winnipeg:20250203T100000
DTEND;TZID=America/Winnipeg:20250203T110000
DTSTAMP:20260424T194050
CREATED:20250128T093016Z
LAST-MODIFIED:20250203T094513Z
UID:49245-1738576800-1738580400@www.salemhome.ca
SUMMARY:Devotions
DESCRIPTION:
URL:https://www.salemhome.ca/event/devotions-116/
CATEGORIES:Evergreen
END:VEVENT
BEGIN:VEVENT
DTSTART;TZID=America/Winnipeg:20250203T144500
DTEND;TZID=America/Winnipeg:20250203T154500
DTSTAMP:20260424T194050
CREATED:20241109T063031Z
LAST-MODIFIED:20250203T094514Z
UID:46608-1738593900-1738597500@www.salemhome.ca
SUMMARY:Men's Group
DESCRIPTION:Located on Evergreen\, residents from all care areas welcome.
URL:https://www.salemhome.ca/event/mens-group-644/
CATEGORIES:Evergreen
END:VEVENT
BEGIN:VEVENT
DTSTART;TZID=America/Winnipeg:20250203T150000
DTEND;TZID=America/Winnipeg:20250203T160000
DTSTAMP:20260424T194050
CREATED:20250128T093016Z
LAST-MODIFIED:20250203T094513Z
UID:49246-1738594800-1738598400@www.salemhome.ca
SUMMARY:Daily Topic
DESCRIPTION:
URL:https://www.salemhome.ca/event/daily-topic/
CATEGORIES:Evergreen
END:VEVENT
BEGIN:VEVENT
DTSTART;TZID=America/Winnipeg:20250204T100000
DTEND;TZID=America/Winnipeg:20250204T110000
DTSTAMP:20260424T194050
CREATED:20241110T063023Z
LAST-MODIFIED:20250204T094514Z
UID:46624-1738663200-1738666800@www.salemhome.ca
SUMMARY:Men's Coffee Shop
DESCRIPTION:
URL:https://www.salemhome.ca/event/mens-coffee-shop-623/
CATEGORIES:Evergreen
END:VEVENT
BEGIN:VEVENT
DTSTART;TZID=America/Winnipeg:20250204T150000
DTEND;TZID=America/Winnipeg:20250204T160000
DTSTAMP:20260424T194050
CREATED:20250128T093016Z
LAST-MODIFIED:20250204T094514Z
UID:49247-1738681200-1738684800@www.salemhome.ca
SUMMARY:Sequence
DESCRIPTION:
URL:https://www.salemhome.ca/event/sequence-5/
CATEGORIES:Evergreen
END:VEVENT
BEGIN:VEVENT
DTSTART;TZID=America/Winnipeg:20250204T180000
DTEND;TZID=America/Winnipeg:20250204T190000
DTSTAMP:20260424T194050
CREATED:20241111T063031Z
LAST-MODIFIED:20250204T094515Z
UID:46638-1738692000-1738695600@www.salemhome.ca
SUMMARY:Movie Night
DESCRIPTION:
URL:https://www.salemhome.ca/event/movie-night-107/
CATEGORIES:Evergreen
END:VEVENT
BEGIN:VEVENT
DTSTART;TZID=America/Winnipeg:20250205T100000
DTEND;TZID=America/Winnipeg:20250205T110000
DTSTAMP:20260424T194050
CREATED:20241111T063031Z
LAST-MODIFIED:20250205T100014Z
UID:46639-1738749600-1738753200@www.salemhome.ca
SUMMARY:Men's Coffee Shop
DESCRIPTION:
URL:https://www.salemhome.ca/event/mens-coffee-shop-625/
CATEGORIES:Evergreen
END:VEVENT
BEGIN:VEVENT
DTSTART;TZID=America/Winnipeg:20250205T100000
DTEND;TZID=America/Winnipeg:20250205T110000
DTSTAMP:20260424T194050
CREATED:20250128T093016Z
LAST-MODIFIED:20250205T100013Z
UID:49248-1738749600-1738753200@www.salemhome.ca
SUMMARY:Sing Along
DESCRIPTION:
URL:https://www.salemhome.ca/event/sing-along-142/
CATEGORIES:Evergreen
END:VEVENT
BEGIN:VEVENT
DTSTART;TZID=America/Winnipeg:20250205T144500
DTEND;TZID=America/Winnipeg:20250205T154500
DTSTAMP:20260424T194050
CREATED:20241113T070107Z
LAST-MODIFIED:20250205T100014Z
UID:46667-1738766700-1738770300@www.salemhome.ca
SUMMARY:Bingo
DESCRIPTION:
URL:https://www.salemhome.ca/event/bingo-654/
CATEGORIES:Evergreen
END:VEVENT
BEGIN:VEVENT
DTSTART;TZID=America/Winnipeg:20250205T144500
DTEND;TZID=America/Winnipeg:20250205T154500
DTSTAMP:20260424T194050
CREATED:20241113T070107Z
LAST-MODIFIED:20250127T093029Z
UID:46666-1738766700-1738770300@www.salemhome.ca
SUMMARY:Men's Group
DESCRIPTION:Located on Maple North. Residents from all care areas are welcome to attend.
URL:https://www.salemhome.ca/event/mens-group-647/
CATEGORIES:Evergreen
END:VEVENT
BEGIN:VEVENT
DTSTART;TZID=America/Winnipeg:20250205T144500
DTEND;TZID=America/Winnipeg:20250205T154500
DTSTAMP:20260424T194050
CREATED:20250128T093017Z
LAST-MODIFIED:20250205T100014Z
UID:49249-1738766700-1738770300@www.salemhome.ca
SUMMARY:Men's Group
DESCRIPTION:Located on Maple North. Residents from all care areas are welcome to attend.
URL:https://www.salemhome.ca/event/mens-group-746/
CATEGORIES:Evergreen
END:VEVENT
BEGIN:VEVENT
DTSTART;TZID=America/Winnipeg:20250206T103000
DTEND;TZID=America/Winnipeg:20250206T113000
DTSTAMP:20260424T194050
CREATED:20250128T093017Z
LAST-MODIFIED:20250206T100012Z
UID:49250-1738837800-1738841400@www.salemhome.ca
SUMMARY:Chapel: Zion\, Communion
DESCRIPTION:
URL:https://www.salemhome.ca/event/chapel-zion-communion/
CATEGORIES:Evergreen
END:VEVENT
BEGIN:VEVENT
DTSTART;TZID=America/Winnipeg:20250206T110000
DTEND;TZID=America/Winnipeg:20250206T120000
DTSTAMP:20260424T194050
CREATED:20241113T070107Z
LAST-MODIFIED:20250206T100013Z
UID:46668-1738839600-1738843200@www.salemhome.ca
SUMMARY:Spa Day
DESCRIPTION:
URL:https://www.salemhome.ca/event/spa-day-106/
CATEGORIES:Evergreen
END:VEVENT
BEGIN:VEVENT
DTSTART;TZID=America/Winnipeg:20250206T150000
DTEND;TZID=America/Winnipeg:20250206T160000
DTSTAMP:20260424T194050
CREATED:20250128T093017Z
LAST-MODIFIED:20250206T100013Z
UID:49252-1738854000-1738857600@www.salemhome.ca
SUMMARY:Keep It Up!
DESCRIPTION:
URL:https://www.salemhome.ca/event/keep-it-up-2/
CATEGORIES:Evergreen
END:VEVENT
BEGIN:VEVENT
DTSTART;TZID=America/Winnipeg:20250206T160000
DTEND;TZID=America/Winnipeg:20250206T170000
DTSTAMP:20260424T194050
CREATED:20250128T093017Z
LAST-MODIFIED:20250206T100013Z
UID:49251-1738857600-1738861200@www.salemhome.ca
SUMMARY:Joan VDL
DESCRIPTION:
URL:https://www.salemhome.ca/event/joan-vdl/
CATEGORIES:Evergreen
END:VEVENT
BEGIN:VEVENT
DTSTART;TZID=America/Winnipeg:20250207T100000
DTEND;TZID=America/Winnipeg:20250207T110000
DTSTAMP:20260424T194050
CREATED:20241114T070057Z
LAST-MODIFIED:20250207T100010Z
UID:46694-1738922400-1738926000@www.salemhome.ca
SUMMARY:Men's Coffee Shop
DESCRIPTION:
URL:https://www.salemhome.ca/event/mens-coffee-shop-628/
CATEGORIES:Evergreen
END:VEVENT
BEGIN:VEVENT
DTSTART;TZID=America/Winnipeg:20250207T101500
DTEND;TZID=America/Winnipeg:20250207T104500
DTSTAMP:20260424T194050
CREATED:20241114T070057Z
LAST-MODIFIED:20250207T100010Z
UID:46695-1738923300-1738925100@www.salemhome.ca
SUMMARY:Chapel
DESCRIPTION:
URL:https://www.salemhome.ca/event/chapel-637/
CATEGORIES:Evergreen
END:VEVENT
BEGIN:VEVENT
DTSTART;TZID=America/Winnipeg:20250207T110000
DTEND;TZID=America/Winnipeg:20250207T120000
DTSTAMP:20260424T194050
CREATED:20241114T070057Z
LAST-MODIFIED:20250207T100010Z
UID:46696-1738926000-1738929600@www.salemhome.ca
SUMMARY:Music by Dave Nickel
DESCRIPTION:
URL:https://www.salemhome.ca/event/music-by-dave-nickel-109/
CATEGORIES:Evergreen
END:VEVENT
BEGIN:VEVENT
DTSTART;TZID=America/Winnipeg:20250207T140000
DTEND;TZID=America/Winnipeg:20250207T150000
DTSTAMP:20260424T194050
CREATED:20241114T070057Z
LAST-MODIFIED:20250207T100010Z
UID:46697-1738936800-1738940400@www.salemhome.ca
SUMMARY:Music Therapy
DESCRIPTION:
URL:https://www.salemhome.ca/event/music-therapy-220/
CATEGORIES:Evergreen
END:VEVENT
BEGIN:VEVENT
DTSTART;TZID=America/Winnipeg:20250208T100000
DTEND;TZID=America/Winnipeg:20250208T110000
DTSTAMP:20260424T194050
CREATED:20250128T093018Z
LAST-MODIFIED:20250208T101512Z
UID:49254-1739008800-1739012400@www.salemhome.ca
SUMMARY:Devotions
DESCRIPTION:
URL:https://www.salemhome.ca/event/devotions-117/
CATEGORIES:Evergreen
END:VEVENT
BEGIN:VEVENT
DTSTART;TZID=America/Winnipeg:20250208T103000
DTEND;TZID=America/Winnipeg:20250208T113000
DTSTAMP:20260424T194050
CREATED:20250128T093017Z
LAST-MODIFIED:20250208T101512Z
UID:49253-1739010600-1739014200@www.salemhome.ca
SUMMARY:Did You Know
DESCRIPTION:
URL:https://www.salemhome.ca/event/did-you-know-3/
CATEGORIES:Evergreen
END:VEVENT
BEGIN:VEVENT
DTSTART;TZID=America/Winnipeg:20250208T150000
DTEND;TZID=America/Winnipeg:20250208T160000
DTSTAMP:20260424T194050
CREATED:20241115T070058Z
LAST-MODIFIED:20250208T101512Z
UID:46726-1739026800-1739030400@www.salemhome.ca
SUMMARY:Bingo
DESCRIPTION:
URL:https://www.salemhome.ca/event/bingo-655/
CATEGORIES:Evergreen
END:VEVENT
BEGIN:VEVENT
DTSTART;VALUE=DATE:20250209
DTEND;VALUE=DATE:20250210
DTSTAMP:20260424T194050
CREATED:20241115T070058Z
LAST-MODIFIED:20250209T101514Z
UID:46727-1739059200-1739145599@www.salemhome.ca
SUMMARY:Day of Rest
DESCRIPTION:
URL:https://www.salemhome.ca/event/day-of-rest-241/
CATEGORIES:Evergreen
END:VEVENT
BEGIN:VEVENT
DTSTART;TZID=America/Winnipeg:20250209T094500
DTEND;TZID=America/Winnipeg:20250209T104500
DTSTAMP:20260424T194050
CREATED:20250128T093018Z
LAST-MODIFIED:20250209T101514Z
UID:49255-1739094300-1739097900@www.salemhome.ca
SUMMARY:Chapel: Winkler Bergthaler
DESCRIPTION:
URL:https://www.salemhome.ca/event/chapel-winkler-bergthaler-28/
CATEGORIES:Evergreen
END:VEVENT
END:VCALENDAR