BEGIN:VCALENDAR
VERSION:2.0
PRODID:-//Salem Home - ECPv6.15.20//NONSGML v1.0//EN
CALSCALE:GREGORIAN
METHOD:PUBLISH
X-WR-CALNAME:Salem Home
X-ORIGINAL-URL:https://www.salemhome.ca
X-WR-CALDESC:Events for Salem Home
REFRESH-INTERVAL;VALUE=DURATION:PT1H
X-Robots-Tag:noindex
X-PUBLISHED-TTL:PT1H
BEGIN:VTIMEZONE
TZID:America/Winnipeg
BEGIN:DAYLIGHT
TZOFFSETFROM:-0600
TZOFFSETTO:-0500
TZNAME:CDT
DTSTART:20240310T080000
END:DAYLIGHT
BEGIN:STANDARD
TZOFFSETFROM:-0500
TZOFFSETTO:-0600
TZNAME:CST
DTSTART:20241103T070000
END:STANDARD
BEGIN:DAYLIGHT
TZOFFSETFROM:-0600
TZOFFSETTO:-0500
TZNAME:CDT
DTSTART:20250309T080000
END:DAYLIGHT
BEGIN:STANDARD
TZOFFSETFROM:-0500
TZOFFSETTO:-0600
TZNAME:CST
DTSTART:20251102T070000
END:STANDARD
BEGIN:DAYLIGHT
TZOFFSETFROM:-0600
TZOFFSETTO:-0500
TZNAME:CDT
DTSTART:20260308T080000
END:DAYLIGHT
BEGIN:STANDARD
TZOFFSETFROM:-0500
TZOFFSETTO:-0600
TZNAME:CST
DTSTART:20261101T070000
END:STANDARD
END:VTIMEZONE
BEGIN:VEVENT
DTSTART;VALUE=DATE:20250601
DTEND;VALUE=DATE:20250602
DTSTAMP:20260423T054322
CREATED:20250224T104528Z
LAST-MODIFIED:20250519T202350Z
UID:50231-1748736000-1748822399@www.salemhome.ca
SUMMARY:Day of Rest
DESCRIPTION:
URL:https://www.salemhome.ca/event/day-of-rest-304/
CATEGORIES:Evergreen
END:VEVENT
BEGIN:VEVENT
DTSTART;TZID=America/Winnipeg:20250602T100000
DTEND;TZID=America/Winnipeg:20250602T110000
DTSTAMP:20260423T054322
CREATED:20250224T104528Z
LAST-MODIFIED:20250519T202350Z
UID:50232-1748858400-1748862000@www.salemhome.ca
SUMMARY:Men's Coffee Shop
DESCRIPTION:
URL:https://www.salemhome.ca/event/mens-coffee-shop-822/
CATEGORIES:Evergreen
END:VEVENT
BEGIN:VEVENT
DTSTART;TZID=America/Winnipeg:20250602T144500
DTEND;TZID=America/Winnipeg:20250602T154500
DTSTAMP:20260423T054322
CREATED:20250225T104527Z
LAST-MODIFIED:20250519T202350Z
UID:50250-1748875500-1748879100@www.salemhome.ca
SUMMARY:Men's Group
DESCRIPTION:Located on Evergreen\, residents from all care areas welcome.
URL:https://www.salemhome.ca/event/mens-group-796/
CATEGORIES:Evergreen
END:VEVENT
BEGIN:VEVENT
DTSTART;TZID=America/Winnipeg:20250603T100000
DTEND;TZID=America/Winnipeg:20250603T110000
DTSTAMP:20260423T054322
CREATED:20250225T104527Z
LAST-MODIFIED:20250519T202350Z
UID:50251-1748944800-1748948400@www.salemhome.ca
SUMMARY:Men's Coffee Shop
DESCRIPTION:
URL:https://www.salemhome.ca/event/mens-coffee-shop-825/
CATEGORIES:Evergreen
END:VEVENT
BEGIN:VEVENT
DTSTART;TZID=America/Winnipeg:20250603T100000
DTEND;TZID=America/Winnipeg:20250603T110000
DTSTAMP:20260423T054322
CREATED:20250326T172243Z
LAST-MODIFIED:20250519T202351Z
UID:51481-1748944800-1748948400@www.salemhome.ca
SUMMARY:Move With Grace
DESCRIPTION:
URL:https://www.salemhome.ca/event/move-with-grace-44/
CATEGORIES:Evergreen
END:VEVENT
BEGIN:VEVENT
DTSTART;TZID=America/Winnipeg:20250603T180000
DTEND;TZID=America/Winnipeg:20250603T190000
DTSTAMP:20260423T054322
CREATED:20250225T104527Z
LAST-MODIFIED:20250519T202351Z
UID:50252-1748973600-1748977200@www.salemhome.ca
SUMMARY:Movie Night
DESCRIPTION:
URL:https://www.salemhome.ca/event/movie-night-124/
CATEGORIES:Evergreen
END:VEVENT
BEGIN:VEVENT
DTSTART;TZID=America/Winnipeg:20250604T100000
DTEND;TZID=America/Winnipeg:20250604T110000
DTSTAMP:20260423T054322
CREATED:20250225T104527Z
LAST-MODIFIED:20250519T202351Z
UID:50253-1749031200-1749034800@www.salemhome.ca
SUMMARY:Men's Coffee Shop
DESCRIPTION:
URL:https://www.salemhome.ca/event/mens-coffee-shop-826/
CATEGORIES:Evergreen
END:VEVENT
BEGIN:VEVENT
DTSTART;TZID=America/Winnipeg:20250604T100000
DTEND;TZID=America/Winnipeg:20250604T110000
DTSTAMP:20260423T054322
CREATED:20250326T172244Z
LAST-MODIFIED:20250519T202351Z
UID:51482-1749031200-1749034800@www.salemhome.ca
SUMMARY:John & Irene Plantz
DESCRIPTION:
URL:https://www.salemhome.ca/event/john-irene-plantz-45/
CATEGORIES:Evergreen
END:VEVENT
BEGIN:VEVENT
DTSTART;TZID=America/Winnipeg:20250604T144500
DTEND;TZID=America/Winnipeg:20250604T154500
DTSTAMP:20260423T054322
CREATED:20250311T113958Z
LAST-MODIFIED:20250519T202351Z
UID:50771-1749048300-1749051900@www.salemhome.ca
SUMMARY:Bingo
DESCRIPTION:
URL:https://www.salemhome.ca/event/bingo-780/
CATEGORIES:Evergreen
END:VEVENT
BEGIN:VEVENT
DTSTART;TZID=America/Winnipeg:20250605T110000
DTEND;TZID=America/Winnipeg:20250605T120000
DTSTAMP:20260423T054322
CREATED:20250311T113958Z
LAST-MODIFIED:20250519T202351Z
UID:50772-1749121200-1749124800@www.salemhome.ca
SUMMARY:Spa Day
DESCRIPTION:
URL:https://www.salemhome.ca/event/spa-day-123/
CATEGORIES:Evergreen
END:VEVENT
BEGIN:VEVENT
DTSTART;TZID=America/Winnipeg:20250606T100000
DTEND;TZID=America/Winnipeg:20250606T110000
DTSTAMP:20260423T054322
CREATED:20250311T113958Z
LAST-MODIFIED:20250519T202351Z
UID:50773-1749204000-1749207600@www.salemhome.ca
SUMMARY:Men's Coffee Shop
DESCRIPTION:
URL:https://www.salemhome.ca/event/mens-coffee-shop-840/
CATEGORIES:Evergreen
END:VEVENT
BEGIN:VEVENT
DTSTART;TZID=America/Winnipeg:20250606T101500
DTEND;TZID=America/Winnipeg:20250606T104500
DTSTAMP:20260423T054322
CREATED:20250311T113958Z
LAST-MODIFIED:20250519T202351Z
UID:50774-1749204900-1749206700@www.salemhome.ca
SUMMARY:Chapel
DESCRIPTION:
URL:https://www.salemhome.ca/event/chapel-706/
CATEGORIES:Evergreen
END:VEVENT
BEGIN:VEVENT
DTSTART;TZID=America/Winnipeg:20250606T110000
DTEND;TZID=America/Winnipeg:20250606T120000
DTSTAMP:20260423T054322
CREATED:20250312T114001Z
LAST-MODIFIED:20250519T202351Z
UID:50793-1749207600-1749211200@www.salemhome.ca
SUMMARY:Music by Dave Nickel
DESCRIPTION:
URL:https://www.salemhome.ca/event/music-by-dave-nickel-126/
CATEGORIES:Evergreen
END:VEVENT
BEGIN:VEVENT
DTSTART;TZID=America/Winnipeg:20250606T140000
DTEND;TZID=America/Winnipeg:20250606T150000
DTSTAMP:20260423T054322
CREATED:20250312T114002Z
LAST-MODIFIED:20250519T202351Z
UID:50794-1749218400-1749222000@www.salemhome.ca
SUMMARY:Music Therapy
DESCRIPTION:
URL:https://www.salemhome.ca/event/music-therapy-247/
CATEGORIES:Evergreen
END:VEVENT
BEGIN:VEVENT
DTSTART;TZID=America/Winnipeg:20250607T150000
DTEND;TZID=America/Winnipeg:20250607T160000
DTSTAMP:20260423T054322
CREATED:20250312T114002Z
LAST-MODIFIED:20250519T202351Z
UID:50795-1749308400-1749312000@www.salemhome.ca
SUMMARY:Bingo
DESCRIPTION:
URL:https://www.salemhome.ca/event/bingo-782/
CATEGORIES:Evergreen
END:VEVENT
BEGIN:VEVENT
DTSTART;VALUE=DATE:20250608
DTEND;VALUE=DATE:20250609
DTSTAMP:20260423T054322
CREATED:20250312T114002Z
LAST-MODIFIED:20250519T202352Z
UID:50796-1749340800-1749427199@www.salemhome.ca
SUMMARY:Day of Rest
DESCRIPTION:
URL:https://www.salemhome.ca/event/day-of-rest-309/
CATEGORIES:Evergreen
END:VEVENT
BEGIN:VEVENT
DTSTART;TZID=America/Winnipeg:20250609T100000
DTEND;TZID=America/Winnipeg:20250609T110000
DTSTAMP:20260423T054322
CREATED:20250312T114002Z
LAST-MODIFIED:20250519T202352Z
UID:50797-1749463200-1749466800@www.salemhome.ca
SUMMARY:Men's Coffee Shop
DESCRIPTION:
URL:https://www.salemhome.ca/event/mens-coffee-shop-842/
CATEGORIES:Evergreen
END:VEVENT
BEGIN:VEVENT
DTSTART;TZID=America/Winnipeg:20250609T144500
DTEND;TZID=America/Winnipeg:20250609T154500
DTSTAMP:20260423T054322
CREATED:20250317T163749Z
LAST-MODIFIED:20250519T202352Z
UID:50905-1749480300-1749483900@www.salemhome.ca
SUMMARY:Men's Group
DESCRIPTION:Located on Evergreen\, residents from all care areas welcome.
URL:https://www.salemhome.ca/event/mens-group-808/
CATEGORIES:Evergreen
END:VEVENT
BEGIN:VEVENT
DTSTART;TZID=America/Winnipeg:20250610T100000
DTEND;TZID=America/Winnipeg:20250610T110000
DTSTAMP:20260423T054322
CREATED:20250317T163749Z
LAST-MODIFIED:20250519T202352Z
UID:50906-1749549600-1749553200@www.salemhome.ca
SUMMARY:Men's Coffee Shop
DESCRIPTION:
URL:https://www.salemhome.ca/event/mens-coffee-shop-844/
CATEGORIES:Evergreen
END:VEVENT
BEGIN:VEVENT
DTSTART;TZID=America/Winnipeg:20250610T100000
DTEND;TZID=America/Winnipeg:20250610T110000
DTSTAMP:20260423T054322
CREATED:20250327T172242Z
LAST-MODIFIED:20250519T202352Z
UID:51767-1749549600-1749553200@www.salemhome.ca
SUMMARY:Move With Grace
DESCRIPTION:
URL:https://www.salemhome.ca/event/move-with-grace-45/
CATEGORIES:Evergreen
END:VEVENT
BEGIN:VEVENT
DTSTART;TZID=America/Winnipeg:20250610T180000
DTEND;TZID=America/Winnipeg:20250610T190000
DTSTAMP:20260423T054322
CREATED:20250317T163749Z
LAST-MODIFIED:20250519T202352Z
UID:50907-1749578400-1749582000@www.salemhome.ca
SUMMARY:Movie Night
DESCRIPTION:
URL:https://www.salemhome.ca/event/movie-night-125/
CATEGORIES:Evergreen
END:VEVENT
BEGIN:VEVENT
DTSTART;TZID=America/Winnipeg:20250611T100000
DTEND;TZID=America/Winnipeg:20250611T110000
DTSTAMP:20260423T054322
CREATED:20250317T163749Z
LAST-MODIFIED:20250519T202352Z
UID:50908-1749636000-1749639600@www.salemhome.ca
SUMMARY:Men's Coffee Shop
DESCRIPTION:
URL:https://www.salemhome.ca/event/mens-coffee-shop-845/
CATEGORIES:Evergreen
END:VEVENT
BEGIN:VEVENT
DTSTART;TZID=America/Winnipeg:20250611T100000
DTEND;TZID=America/Winnipeg:20250611T110000
DTSTAMP:20260423T054322
CREATED:20250328T172250Z
LAST-MODIFIED:20250519T202352Z
UID:51819-1749636000-1749639600@www.salemhome.ca
SUMMARY:John & Irene Plantz
DESCRIPTION:
URL:https://www.salemhome.ca/event/john-irene-plantz-46/
CATEGORIES:Evergreen
END:VEVENT
BEGIN:VEVENT
DTSTART;TZID=America/Winnipeg:20250611T144500
DTEND;TZID=America/Winnipeg:20250611T154500
DTSTAMP:20260423T054322
CREATED:20250317T163750Z
LAST-MODIFIED:20250519T202353Z
UID:50910-1749653100-1749656700@www.salemhome.ca
SUMMARY:Bingo
DESCRIPTION:
URL:https://www.salemhome.ca/event/bingo-784/
CATEGORIES:Evergreen
END:VEVENT
BEGIN:VEVENT
DTSTART;TZID=America/Winnipeg:20250611T144500
DTEND;TZID=America/Winnipeg:20250611T154500
DTSTAMP:20260423T054322
CREATED:20250317T163750Z
LAST-MODIFIED:20250519T202353Z
UID:50909-1749653100-1749656700@www.salemhome.ca
SUMMARY:Men's Group
DESCRIPTION:Located on Maple North. Residents from all care areas are welcome to attend.
URL:https://www.salemhome.ca/event/mens-group-809/
CATEGORIES:Evergreen
END:VEVENT
BEGIN:VEVENT
DTSTART;TZID=America/Winnipeg:20250612T110000
DTEND;TZID=America/Winnipeg:20250612T120000
DTSTAMP:20260423T054322
CREATED:20250317T163751Z
LAST-MODIFIED:20250611T211109Z
UID:50911-1749726000-1749729600@www.salemhome.ca
SUMMARY:Spa Day
DESCRIPTION:
URL:https://www.salemhome.ca/event/spa-day-124/
CATEGORIES:Evergreen
END:VEVENT
BEGIN:VEVENT
DTSTART;TZID=America/Winnipeg:20250613T100000
DTEND;TZID=America/Winnipeg:20250613T110000
DTSTAMP:20260423T054322
CREATED:20250317T163751Z
LAST-MODIFIED:20250612T212515Z
UID:50912-1749808800-1749812400@www.salemhome.ca
SUMMARY:Men's Coffee Shop
DESCRIPTION:
URL:https://www.salemhome.ca/event/mens-coffee-shop-846/
CATEGORIES:Evergreen
END:VEVENT
BEGIN:VEVENT
DTSTART;TZID=America/Winnipeg:20250613T101500
DTEND;TZID=America/Winnipeg:20250613T104500
DTSTAMP:20260423T054322
CREATED:20250317T163752Z
LAST-MODIFIED:20250612T212515Z
UID:50913-1749809700-1749811500@www.salemhome.ca
SUMMARY:Chapel
DESCRIPTION:
URL:https://www.salemhome.ca/event/chapel-709/
CATEGORIES:Evergreen
END:VEVENT
BEGIN:VEVENT
DTSTART;TZID=America/Winnipeg:20250613T110000
DTEND;TZID=America/Winnipeg:20250613T120000
DTSTAMP:20260423T054322
CREATED:20250317T163752Z
LAST-MODIFIED:20250612T212515Z
UID:50914-1749812400-1749816000@www.salemhome.ca
SUMMARY:Music by Dave Nickel
DESCRIPTION:
URL:https://www.salemhome.ca/event/music-by-dave-nickel-127/
CATEGORIES:Evergreen
END:VEVENT
BEGIN:VEVENT
DTSTART;TZID=America/Winnipeg:20250613T140000
DTEND;TZID=America/Winnipeg:20250613T150000
DTSTAMP:20260423T054322
CREATED:20250317T163753Z
LAST-MODIFIED:20250612T212516Z
UID:50915-1749823200-1749826800@www.salemhome.ca
SUMMARY:Music Therapy
DESCRIPTION:
URL:https://www.salemhome.ca/event/music-therapy-248/
CATEGORIES:Evergreen
END:VEVENT
END:VCALENDAR