BEGIN:VCALENDAR
VERSION:2.0
PRODID:-//Salem Home - ECPv6.15.20//NONSGML v1.0//EN
CALSCALE:GREGORIAN
METHOD:PUBLISH
X-WR-CALNAME:Salem Home
X-ORIGINAL-URL:https://www.salemhome.ca
X-WR-CALDESC:Events for Salem Home
REFRESH-INTERVAL;VALUE=DURATION:PT1H
X-Robots-Tag:noindex
X-PUBLISHED-TTL:PT1H
BEGIN:VTIMEZONE
TZID:America/Winnipeg
BEGIN:DAYLIGHT
TZOFFSETFROM:-0600
TZOFFSETTO:-0500
TZNAME:CDT
DTSTART:20220313T080000
END:DAYLIGHT
BEGIN:STANDARD
TZOFFSETFROM:-0500
TZOFFSETTO:-0600
TZNAME:CST
DTSTART:20221106T070000
END:STANDARD
BEGIN:DAYLIGHT
TZOFFSETFROM:-0600
TZOFFSETTO:-0500
TZNAME:CDT
DTSTART:20230312T080000
END:DAYLIGHT
BEGIN:STANDARD
TZOFFSETFROM:-0500
TZOFFSETTO:-0600
TZNAME:CST
DTSTART:20231105T070000
END:STANDARD
BEGIN:DAYLIGHT
TZOFFSETFROM:-0600
TZOFFSETTO:-0500
TZNAME:CDT
DTSTART:20240310T080000
END:DAYLIGHT
BEGIN:STANDARD
TZOFFSETFROM:-0500
TZOFFSETTO:-0600
TZNAME:CST
DTSTART:20241103T070000
END:STANDARD
END:VTIMEZONE
BEGIN:VEVENT
DTSTART;TZID=America/Winnipeg:20231109T103000
DTEND;TZID=America/Winnipeg:20231109T113000
DTSTAMP:20260425T111956
CREATED:20231028T054513Z
LAST-MODIFIED:20231109T071607Z
UID:32032-1699525800-1699529400@www.salemhome.ca
SUMMARY:Chapel: Old Colony Mennonite
DESCRIPTION:
URL:https://www.salemhome.ca/event/chapel-old-colony-mennonite-21/
CATEGORIES:Evergreen
END:VEVENT
BEGIN:VEVENT
DTSTART;TZID=America/Winnipeg:20231109T110000
DTEND;TZID=America/Winnipeg:20231109T120000
DTSTAMP:20260425T111956
CREATED:20230518T101527Z
LAST-MODIFIED:20231109T071607Z
UID:26588-1699527600-1699531200@www.salemhome.ca
SUMMARY:Spa Day
DESCRIPTION:
URL:https://www.salemhome.ca/event/spa-day-41/
CATEGORIES:Evergreen
END:VEVENT
BEGIN:VEVENT
DTSTART;TZID=America/Winnipeg:20231109T110000
DTEND;TZID=America/Winnipeg:20231109T120000
DTSTAMP:20260425T111956
CREATED:20231028T054513Z
LAST-MODIFIED:20231109T071607Z
UID:32031-1699527600-1699531200@www.salemhome.ca
SUMMARY:Men's Coffee
DESCRIPTION:
URL:https://www.salemhome.ca/event/mens-coffee-3/
CATEGORIES:Evergreen
END:VEVENT
BEGIN:VEVENT
DTSTART;TZID=America/Winnipeg:20231109T150000
DTEND;TZID=America/Winnipeg:20231109T160000
DTSTAMP:20260425T111956
CREATED:20231028T054513Z
LAST-MODIFIED:20231109T071607Z
UID:32033-1699542000-1699545600@www.salemhome.ca
SUMMARY:Bible Quiz
DESCRIPTION:
URL:https://www.salemhome.ca/event/bible-quiz-7/
CATEGORIES:Evergreen
END:VEVENT
END:VCALENDAR