BEGIN:VCALENDAR
VERSION:2.0
PRODID:-//Salem Home - ECPv6.15.20//NONSGML v1.0//EN
CALSCALE:GREGORIAN
METHOD:PUBLISH
X-ORIGINAL-URL:https://www.salemhome.ca
X-WR-CALDESC:Events for Salem Home
REFRESH-INTERVAL;VALUE=DURATION:PT1H
X-Robots-Tag:noindex
X-PUBLISHED-TTL:PT1H
BEGIN:VTIMEZONE
TZID:America/Winnipeg
BEGIN:DAYLIGHT
TZOFFSETFROM:-0600
TZOFFSETTO:-0500
TZNAME:CDT
DTSTART:20220313T080000
END:DAYLIGHT
BEGIN:STANDARD
TZOFFSETFROM:-0500
TZOFFSETTO:-0600
TZNAME:CST
DTSTART:20221106T070000
END:STANDARD
BEGIN:DAYLIGHT
TZOFFSETFROM:-0600
TZOFFSETTO:-0500
TZNAME:CDT
DTSTART:20230312T080000
END:DAYLIGHT
BEGIN:STANDARD
TZOFFSETFROM:-0500
TZOFFSETTO:-0600
TZNAME:CST
DTSTART:20231105T070000
END:STANDARD
BEGIN:DAYLIGHT
TZOFFSETFROM:-0600
TZOFFSETTO:-0500
TZNAME:CDT
DTSTART:20240310T080000
END:DAYLIGHT
BEGIN:STANDARD
TZOFFSETFROM:-0500
TZOFFSETTO:-0600
TZNAME:CST
DTSTART:20241103T070000
END:STANDARD
END:VTIMEZONE
BEGIN:VEVENT
DTSTART;TZID=America/Winnipeg:20231120T100000
DTEND;TZID=America/Winnipeg:20231120T110000
DTSTAMP:20260425T080731
CREATED:20230524T103023Z
LAST-MODIFIED:20230731T130106Z
UID:26706-1700474400-1700478000@www.salemhome.ca
SUMMARY:Men's Group with Kris (Oma's Kitchen)
DESCRIPTION:
URL:https://www.salemhome.ca/event/mens-group-with-kris-omas-kitchen-179/
CATEGORIES:Evergreen
END:VEVENT
BEGIN:VEVENT
DTSTART;TZID=America/Winnipeg:20231120T100000
DTEND;TZID=America/Winnipeg:20231120T110000
DTSTAMP:20260425T080731
CREATED:20231028T054514Z
LAST-MODIFIED:20231120T081512Z
UID:32042-1700474400-1700478000@www.salemhome.ca
SUMMARY:Resident Family Council
DESCRIPTION:
URL:https://www.salemhome.ca/event/resident-family-council-11/
CATEGORIES:Evergreen
END:VEVENT
BEGIN:VEVENT
DTSTART;TZID=America/Winnipeg:20231120T150000
DTEND;TZID=America/Winnipeg:20231120T160000
DTSTAMP:20260425T080731
CREATED:20231028T054515Z
LAST-MODIFIED:20231120T081512Z
UID:32043-1700492400-1700496000@www.salemhome.ca
SUMMARY:What Sound Is This
DESCRIPTION:
URL:https://www.salemhome.ca/event/what-sound-is-this/
CATEGORIES:Evergreen
END:VEVENT
BEGIN:VEVENT
DTSTART;TZID=America/Winnipeg:20231120T180000
DTEND;TZID=America/Winnipeg:20231120T190000
DTSTAMP:20260425T080731
CREATED:20231028T054515Z
LAST-MODIFIED:20231120T081512Z
UID:32044-1700503200-1700506800@www.salemhome.ca
SUMMARY:Yolanda Wolfe
DESCRIPTION:
URL:https://www.salemhome.ca/event/yolanda-wolfe-3/
CATEGORIES:Evergreen
END:VEVENT
END:VCALENDAR