BEGIN:VCALENDAR
VERSION:2.0
PRODID:-//Salem Home - ECPv6.15.20//NONSGML v1.0//EN
CALSCALE:GREGORIAN
METHOD:PUBLISH
X-WR-CALNAME:Salem Home
X-ORIGINAL-URL:https://www.salemhome.ca
X-WR-CALDESC:Events for Salem Home
REFRESH-INTERVAL;VALUE=DURATION:PT1H
X-Robots-Tag:noindex
X-PUBLISHED-TTL:PT1H
BEGIN:VTIMEZONE
TZID:America/Winnipeg
BEGIN:DAYLIGHT
TZOFFSETFROM:-0600
TZOFFSETTO:-0500
TZNAME:CDT
DTSTART:20220313T080000
END:DAYLIGHT
BEGIN:STANDARD
TZOFFSETFROM:-0500
TZOFFSETTO:-0600
TZNAME:CST
DTSTART:20221106T070000
END:STANDARD
BEGIN:DAYLIGHT
TZOFFSETFROM:-0600
TZOFFSETTO:-0500
TZNAME:CDT
DTSTART:20230312T080000
END:DAYLIGHT
BEGIN:STANDARD
TZOFFSETFROM:-0500
TZOFFSETTO:-0600
TZNAME:CST
DTSTART:20231105T070000
END:STANDARD
BEGIN:DAYLIGHT
TZOFFSETFROM:-0600
TZOFFSETTO:-0500
TZNAME:CDT
DTSTART:20240310T080000
END:DAYLIGHT
BEGIN:STANDARD
TZOFFSETFROM:-0500
TZOFFSETTO:-0600
TZNAME:CST
DTSTART:20241103T070000
END:STANDARD
END:VTIMEZONE
BEGIN:VEVENT
DTSTART;TZID=America/Winnipeg:20231127T100000
DTEND;TZID=America/Winnipeg:20231127T110000
DTSTAMP:20260425T111755
CREATED:20230527T104538Z
LAST-MODIFIED:20230731T130106Z
UID:26767-1701079200-1701082800@www.salemhome.ca
SUMMARY:Men's Group with Kris (Oma's Kitchen)
DESCRIPTION:
URL:https://www.salemhome.ca/event/mens-group-with-kris-omas-kitchen-182/
CATEGORIES:Evergreen
END:VEVENT
BEGIN:VEVENT
DTSTART;TZID=America/Winnipeg:20231127T100000
DTEND;TZID=America/Winnipeg:20231127T110000
DTSTAMP:20260425T111755
CREATED:20231028T054516Z
LAST-MODIFIED:20231127T081532Z
UID:32054-1701079200-1701082800@www.salemhome.ca
SUMMARY:Devotions
DESCRIPTION:
URL:https://www.salemhome.ca/event/devotions-65/
CATEGORIES:Evergreen
END:VEVENT
BEGIN:VEVENT
DTSTART;TZID=America/Winnipeg:20231127T103000
DTEND;TZID=America/Winnipeg:20231127T113000
DTSTAMP:20260425T111755
CREATED:20231028T054515Z
LAST-MODIFIED:20231127T081532Z
UID:32053-1701081000-1701084600@www.salemhome.ca
SUMMARY:Current Events
DESCRIPTION:
URL:https://www.salemhome.ca/event/current-events/
CATEGORIES:Evergreen
END:VEVENT
BEGIN:VEVENT
DTSTART;TZID=America/Winnipeg:20231127T150000
DTEND;TZID=America/Winnipeg:20231127T160000
DTSTAMP:20260425T111755
CREATED:20231028T054516Z
LAST-MODIFIED:20231127T081532Z
UID:32055-1701097200-1701100800@www.salemhome.ca
SUMMARY:Baking
DESCRIPTION:
URL:https://www.salemhome.ca/event/baking-52/
CATEGORIES:Evergreen
END:VEVENT
END:VCALENDAR