BEGIN:VCALENDAR
VERSION:2.0
PRODID:-//Salem Home - ECPv6.15.20//NONSGML v1.0//EN
CALSCALE:GREGORIAN
METHOD:PUBLISH
X-WR-CALNAME:Salem Home
X-ORIGINAL-URL:https://www.salemhome.ca
X-WR-CALDESC:Events for Salem Home
REFRESH-INTERVAL;VALUE=DURATION:PT1H
X-Robots-Tag:noindex
X-PUBLISHED-TTL:PT1H
BEGIN:VTIMEZONE
TZID:America/Winnipeg
BEGIN:DAYLIGHT
TZOFFSETFROM:-0600
TZOFFSETTO:-0500
TZNAME:CDT
DTSTART:20220313T080000
END:DAYLIGHT
BEGIN:STANDARD
TZOFFSETFROM:-0500
TZOFFSETTO:-0600
TZNAME:CST
DTSTART:20221106T070000
END:STANDARD
BEGIN:DAYLIGHT
TZOFFSETFROM:-0600
TZOFFSETTO:-0500
TZNAME:CDT
DTSTART:20230312T080000
END:DAYLIGHT
BEGIN:STANDARD
TZOFFSETFROM:-0500
TZOFFSETTO:-0600
TZNAME:CST
DTSTART:20231105T070000
END:STANDARD
BEGIN:DAYLIGHT
TZOFFSETFROM:-0600
TZOFFSETTO:-0500
TZNAME:CDT
DTSTART:20240310T080000
END:DAYLIGHT
BEGIN:STANDARD
TZOFFSETFROM:-0500
TZOFFSETTO:-0600
TZNAME:CST
DTSTART:20241103T070000
END:STANDARD
END:VTIMEZONE
BEGIN:VEVENT
DTSTART;TZID=America/Winnipeg:20231130T100000
DTEND;TZID=America/Winnipeg:20231130T110000
DTSTAMP:20260423T002211
CREATED:20231028T054516Z
LAST-MODIFIED:20231130T081539Z
UID:32059-1701338400-1701342000@www.salemhome.ca
SUMMARY:Devotions
DESCRIPTION:
URL:https://www.salemhome.ca/event/devotions-66/
CATEGORIES:Evergreen
END:VEVENT
BEGIN:VEVENT
DTSTART;TZID=America/Winnipeg:20231130T103000
DTEND;TZID=America/Winnipeg:20231130T113000
DTSTAMP:20260423T002211
CREATED:20231028T054516Z
LAST-MODIFIED:20231130T081541Z
UID:32058-1701340200-1701343800@www.salemhome.ca
SUMMARY:Chapel: Winkler EMMC
DESCRIPTION:
URL:https://www.salemhome.ca/event/chapel-winkler-emmc-16/
CATEGORIES:Evergreen
END:VEVENT
BEGIN:VEVENT
DTSTART;TZID=America/Winnipeg:20231130T110000
DTEND;TZID=America/Winnipeg:20231130T120000
DTSTAMP:20260423T002211
CREATED:20230615T110025Z
LAST-MODIFIED:20231130T081541Z
UID:27236-1701342000-1701345600@www.salemhome.ca
SUMMARY:Spa Day
DESCRIPTION:
URL:https://www.salemhome.ca/event/spa-day-44/
CATEGORIES:Evergreen
END:VEVENT
BEGIN:VEVENT
DTSTART;TZID=America/Winnipeg:20231130T110000
DTEND;TZID=America/Winnipeg:20231130T120000
DTSTAMP:20260423T002211
CREATED:20231028T054516Z
LAST-MODIFIED:20231130T081541Z
UID:32060-1701342000-1701345600@www.salemhome.ca
SUMMARY:Men's Coffee
DESCRIPTION:
URL:https://www.salemhome.ca/event/mens-coffee-6/
CATEGORIES:Evergreen
END:VEVENT
BEGIN:VEVENT
DTSTART;TZID=America/Winnipeg:20231130T150000
DTEND;TZID=America/Winnipeg:20231130T160000
DTSTAMP:20260423T002211
CREATED:20231028T054516Z
LAST-MODIFIED:20231130T081541Z
UID:32061-1701356400-1701360000@www.salemhome.ca
SUMMARY:Reminisce
DESCRIPTION:
URL:https://www.salemhome.ca/event/reminisce-4/
CATEGORIES:Evergreen
END:VEVENT
END:VCALENDAR