BEGIN:VCALENDAR
VERSION:2.0
PRODID:-//Salem Home - ECPv6.15.20//NONSGML v1.0//EN
CALSCALE:GREGORIAN
METHOD:PUBLISH
X-ORIGINAL-URL:https://www.salemhome.ca
X-WR-CALDESC:Events for Salem Home
REFRESH-INTERVAL;VALUE=DURATION:PT1H
X-Robots-Tag:noindex
X-PUBLISHED-TTL:PT1H
BEGIN:VTIMEZONE
TZID:America/Winnipeg
BEGIN:DAYLIGHT
TZOFFSETFROM:-0600
TZOFFSETTO:-0500
TZNAME:CDT
DTSTART:20230312T080000
END:DAYLIGHT
BEGIN:STANDARD
TZOFFSETFROM:-0500
TZOFFSETTO:-0600
TZNAME:CST
DTSTART:20231105T070000
END:STANDARD
BEGIN:DAYLIGHT
TZOFFSETFROM:-0600
TZOFFSETTO:-0500
TZNAME:CDT
DTSTART:20240310T080000
END:DAYLIGHT
BEGIN:STANDARD
TZOFFSETFROM:-0500
TZOFFSETTO:-0600
TZNAME:CST
DTSTART:20241103T070000
END:STANDARD
BEGIN:DAYLIGHT
TZOFFSETFROM:-0600
TZOFFSETTO:-0500
TZNAME:CDT
DTSTART:20250309T080000
END:DAYLIGHT
BEGIN:STANDARD
TZOFFSETFROM:-0500
TZOFFSETTO:-0600
TZNAME:CST
DTSTART:20251102T070000
END:STANDARD
END:VTIMEZONE
BEGIN:VEVENT
DTSTART;TZID=America/Winnipeg:20240131T100000
DTEND;TZID=America/Winnipeg:20240131T110000
DTSTAMP:20260423T212328
CREATED:20240104T093039Z
LAST-MODIFIED:20240131T114526Z
UID:34918-1706695200-1706698800@www.salemhome.ca
SUMMARY:Sing Along
DESCRIPTION:
URL:https://www.salemhome.ca/event/sing-along-55/
CATEGORIES:Evergreen
END:VEVENT
BEGIN:VEVENT
DTSTART;TZID=America/Winnipeg:20240131T143000
DTEND;TZID=America/Winnipeg:20240131T153000
DTSTAMP:20260423T212328
CREATED:20240104T093039Z
LAST-MODIFIED:20240131T114527Z
UID:34919-1706711400-1706715000@www.salemhome.ca
SUMMARY:Men's Group
DESCRIPTION:Located on Maple North. Residents from all care areas are welcome to attend.
URL:https://www.salemhome.ca/event/mens-group-104/
CATEGORIES:Evergreen
END:VEVENT
BEGIN:VEVENT
DTSTART;TZID=America/Winnipeg:20240131T150000
DTEND;TZID=America/Winnipeg:20240131T160000
DTSTAMP:20260423T212328
CREATED:20230731T130110Z
LAST-MODIFIED:20240131T114527Z
UID:29443-1706713200-1706716800@www.salemhome.ca
SUMMARY:Bingo
DESCRIPTION:
URL:https://www.salemhome.ca/event/bingo-282/
CATEGORIES:Evergreen
END:VEVENT
END:VCALENDAR