BEGIN:VCALENDAR
VERSION:2.0
PRODID:-//Salem Home - ECPv6.15.20//NONSGML v1.0//EN
CALSCALE:GREGORIAN
METHOD:PUBLISH
X-ORIGINAL-URL:https://www.salemhome.ca
X-WR-CALDESC:Events for Salem Home
REFRESH-INTERVAL;VALUE=DURATION:PT1H
X-Robots-Tag:noindex
X-PUBLISHED-TTL:PT1H
BEGIN:VTIMEZONE
TZID:America/Winnipeg
BEGIN:DAYLIGHT
TZOFFSETFROM:-0600
TZOFFSETTO:-0500
TZNAME:CDT
DTSTART:20230312T080000
END:DAYLIGHT
BEGIN:STANDARD
TZOFFSETFROM:-0500
TZOFFSETTO:-0600
TZNAME:CST
DTSTART:20231105T070000
END:STANDARD
BEGIN:DAYLIGHT
TZOFFSETFROM:-0600
TZOFFSETTO:-0500
TZNAME:CDT
DTSTART:20240310T080000
END:DAYLIGHT
BEGIN:STANDARD
TZOFFSETFROM:-0500
TZOFFSETTO:-0600
TZNAME:CST
DTSTART:20241103T070000
END:STANDARD
BEGIN:DAYLIGHT
TZOFFSETFROM:-0600
TZOFFSETTO:-0500
TZNAME:CDT
DTSTART:20250309T080000
END:DAYLIGHT
BEGIN:STANDARD
TZOFFSETFROM:-0500
TZOFFSETTO:-0600
TZNAME:CST
DTSTART:20251102T070000
END:STANDARD
END:VTIMEZONE
BEGIN:VEVENT
DTSTART;TZID=America/Winnipeg:20240208T103000
DTEND;TZID=America/Winnipeg:20240208T113000
DTSTAMP:20260425T120948
CREATED:20240124T110031Z
LAST-MODIFIED:20240208T121548Z
UID:36669-1707388200-1707391800@www.salemhome.ca
SUMMARY:Chapel: Old Colony Mennonite
DESCRIPTION:
URL:https://www.salemhome.ca/event/chapel-old-colony-mennonite-35/
CATEGORIES:Evergreen
END:VEVENT
BEGIN:VEVENT
DTSTART;TZID=America/Winnipeg:20240208T110000
DTEND;TZID=America/Winnipeg:20240208T120000
DTSTAMP:20260425T120948
CREATED:20230810T133051Z
LAST-MODIFIED:20240208T121548Z
UID:30030-1707390000-1707393600@www.salemhome.ca
SUMMARY:Spa Day
DESCRIPTION:
URL:https://www.salemhome.ca/event/spa-day-54/
CATEGORIES:Evergreen
END:VEVENT
BEGIN:VEVENT
DTSTART;TZID=America/Winnipeg:20240208T110000
DTEND;TZID=America/Winnipeg:20240208T120000
DTSTAMP:20260425T120948
CREATED:20231028T054522Z
LAST-MODIFIED:20240123T110015Z
UID:32071-1707390000-1707393600@www.salemhome.ca
SUMMARY:Men's Coffee
DESCRIPTION:
URL:https://www.salemhome.ca/event/mens-coffee-16/
CATEGORIES:Evergreen
END:VEVENT
BEGIN:VEVENT
DTSTART;TZID=America/Winnipeg:20240208T150000
DTEND;TZID=America/Winnipeg:20240208T160000
DTSTAMP:20260425T120948
CREATED:20240124T110031Z
LAST-MODIFIED:20240208T121548Z
UID:36670-1707404400-1707408000@www.salemhome.ca
SUMMARY:Musical Questions
DESCRIPTION:
URL:https://www.salemhome.ca/event/musical-questions-4/
CATEGORIES:Evergreen
END:VEVENT
BEGIN:VEVENT
DTSTART;TZID=America/Winnipeg:20240208T160000
DTEND;TZID=America/Winnipeg:20240208T170000
DTSTAMP:20260425T120948
CREATED:20240124T110031Z
LAST-MODIFIED:20240208T121548Z
UID:36671-1707408000-1707411600@www.salemhome.ca
SUMMARY:Adam T Elvis
DESCRIPTION:
URL:https://www.salemhome.ca/event/adam-t-elvis-4/
CATEGORIES:Evergreen
END:VEVENT
END:VCALENDAR