BEGIN:VCALENDAR
VERSION:2.0
PRODID:-//Salem Home - ECPv6.15.20//NONSGML v1.0//EN
CALSCALE:GREGORIAN
METHOD:PUBLISH
X-WR-CALNAME:Salem Home
X-ORIGINAL-URL:https://www.salemhome.ca
X-WR-CALDESC:Events for Salem Home
REFRESH-INTERVAL;VALUE=DURATION:PT1H
X-Robots-Tag:noindex
X-PUBLISHED-TTL:PT1H
BEGIN:VTIMEZONE
TZID:America/Winnipeg
BEGIN:DAYLIGHT
TZOFFSETFROM:-0600
TZOFFSETTO:-0500
TZNAME:CDT
DTSTART:20230312T080000
END:DAYLIGHT
BEGIN:STANDARD
TZOFFSETFROM:-0500
TZOFFSETTO:-0600
TZNAME:CST
DTSTART:20231105T070000
END:STANDARD
BEGIN:DAYLIGHT
TZOFFSETFROM:-0600
TZOFFSETTO:-0500
TZNAME:CDT
DTSTART:20240310T080000
END:DAYLIGHT
BEGIN:STANDARD
TZOFFSETFROM:-0500
TZOFFSETTO:-0600
TZNAME:CST
DTSTART:20241103T070000
END:STANDARD
BEGIN:DAYLIGHT
TZOFFSETFROM:-0600
TZOFFSETTO:-0500
TZNAME:CDT
DTSTART:20250309T080000
END:DAYLIGHT
BEGIN:STANDARD
TZOFFSETFROM:-0500
TZOFFSETTO:-0600
TZNAME:CST
DTSTART:20251102T070000
END:STANDARD
END:VTIMEZONE
BEGIN:VEVENT
DTSTART;TZID=America/Winnipeg:20240215T103000
DTEND;TZID=America/Winnipeg:20240215T113000
DTSTAMP:20260424T091240
CREATED:20240124T110033Z
LAST-MODIFIED:20240215T123038Z
UID:36679-1707993000-1707996600@www.salemhome.ca
SUMMARY:Chapel: Reinland Mennonite
DESCRIPTION:
URL:https://www.salemhome.ca/event/chapel-reinland-mennonite-46/
CATEGORIES:Evergreen
END:VEVENT
BEGIN:VEVENT
DTSTART;TZID=America/Winnipeg:20240215T110000
DTEND;TZID=America/Winnipeg:20240215T120000
DTSTAMP:20260424T091240
CREATED:20230812T134922Z
LAST-MODIFIED:20240215T123038Z
UID:30097-1707994800-1707998400@www.salemhome.ca
SUMMARY:Spa Day
DESCRIPTION:
URL:https://www.salemhome.ca/event/spa-day-55/
CATEGORIES:Evergreen
END:VEVENT
BEGIN:VEVENT
DTSTART;TZID=America/Winnipeg:20240215T110000
DTEND;TZID=America/Winnipeg:20240215T120000
DTSTAMP:20260424T091240
CREATED:20231028T054522Z
LAST-MODIFIED:20240123T110016Z
UID:32072-1707994800-1707998400@www.salemhome.ca
SUMMARY:Men's Coffee
DESCRIPTION:
URL:https://www.salemhome.ca/event/mens-coffee-17/
CATEGORIES:Evergreen
END:VEVENT
BEGIN:VEVENT
DTSTART;TZID=America/Winnipeg:20240215T150000
DTEND;TZID=America/Winnipeg:20240215T160000
DTSTAMP:20260424T091240
CREATED:20240124T110033Z
LAST-MODIFIED:20240215T123038Z
UID:36680-1708009200-1708012800@www.salemhome.ca
SUMMARY:Move It To The Music
DESCRIPTION:
URL:https://www.salemhome.ca/event/move-it-to-the-music/
CATEGORIES:Evergreen
END:VEVENT
END:VCALENDAR