BEGIN:VCALENDAR
VERSION:2.0
PRODID:-//Salem Home - ECPv6.15.20//NONSGML v1.0//EN
CALSCALE:GREGORIAN
METHOD:PUBLISH
X-WR-CALNAME:Salem Home
X-ORIGINAL-URL:https://www.salemhome.ca
X-WR-CALDESC:Events for Salem Home
REFRESH-INTERVAL;VALUE=DURATION:PT1H
X-Robots-Tag:noindex
X-PUBLISHED-TTL:PT1H
BEGIN:VTIMEZONE
TZID:America/Winnipeg
BEGIN:DAYLIGHT
TZOFFSETFROM:-0600
TZOFFSETTO:-0500
TZNAME:CDT
DTSTART:20230312T080000
END:DAYLIGHT
BEGIN:STANDARD
TZOFFSETFROM:-0500
TZOFFSETTO:-0600
TZNAME:CST
DTSTART:20231105T070000
END:STANDARD
BEGIN:DAYLIGHT
TZOFFSETFROM:-0600
TZOFFSETTO:-0500
TZNAME:CDT
DTSTART:20240310T080000
END:DAYLIGHT
BEGIN:STANDARD
TZOFFSETFROM:-0500
TZOFFSETTO:-0600
TZNAME:CST
DTSTART:20241103T070000
END:STANDARD
BEGIN:DAYLIGHT
TZOFFSETFROM:-0600
TZOFFSETTO:-0500
TZNAME:CDT
DTSTART:20250309T080000
END:DAYLIGHT
BEGIN:STANDARD
TZOFFSETFROM:-0500
TZOFFSETTO:-0600
TZNAME:CST
DTSTART:20251102T070000
END:STANDARD
END:VTIMEZONE
BEGIN:VEVENT
DTSTART;TZID=America/Winnipeg:20240314T094500
DTEND;TZID=America/Winnipeg:20240314T104500
DTSTAMP:20260425T054357
CREATED:20240224T124514Z
LAST-MODIFIED:20240314T134510Z
UID:37949-1710409500-1710413100@www.salemhome.ca
SUMMARY:Chapel: Old Colony Mennonite
DESCRIPTION:
URL:https://www.salemhome.ca/event/chapel-old-colony-mennonite-38/
CATEGORIES:Evergreen
END:VEVENT
BEGIN:VEVENT
DTSTART;TZID=America/Winnipeg:20240314T110000
DTEND;TZID=America/Winnipeg:20240314T120000
DTSTAMP:20260425T054357
CREATED:20230910T230034Z
LAST-MODIFIED:20240314T134510Z
UID:31043-1710414000-1710417600@www.salemhome.ca
SUMMARY:Spa Day
DESCRIPTION:
URL:https://www.salemhome.ca/event/spa-day-59/
CATEGORIES:Evergreen
END:VEVENT
BEGIN:VEVENT
DTSTART;TZID=America/Winnipeg:20240314T110000
DTEND;TZID=America/Winnipeg:20240314T120000
DTSTAMP:20260425T054357
CREATED:20231028T054524Z
LAST-MODIFIED:20240123T110019Z
UID:32076-1710414000-1710417600@www.salemhome.ca
SUMMARY:Men's Coffee
DESCRIPTION:
URL:https://www.salemhome.ca/event/mens-coffee-21/
CATEGORIES:Evergreen
END:VEVENT
BEGIN:VEVENT
DTSTART;TZID=America/Winnipeg:20240314T150000
DTEND;TZID=America/Winnipeg:20240314T160000
DTSTAMP:20260425T054357
CREATED:20240224T124514Z
LAST-MODIFIED:20240314T134510Z
UID:37950-1710428400-1710432000@www.salemhome.ca
SUMMARY:Move To Music
DESCRIPTION:
URL:https://www.salemhome.ca/event/move-to-music/
CATEGORIES:Evergreen
END:VEVENT
BEGIN:VEVENT
DTSTART;TZID=America/Winnipeg:20240314T183000
DTEND;TZID=America/Winnipeg:20240314T193000
DTSTAMP:20260425T054357
CREATED:20240224T124514Z
LAST-MODIFIED:20240314T134510Z
UID:37951-1710441000-1710444600@www.salemhome.ca
SUMMARY:Lenton Service
DESCRIPTION:
URL:https://www.salemhome.ca/event/lenton-service-3/
CATEGORIES:Evergreen
END:VEVENT
END:VCALENDAR