BEGIN:VCALENDAR
VERSION:2.0
PRODID:-//Salem Home - ECPv6.15.20//NONSGML v1.0//EN
CALSCALE:GREGORIAN
METHOD:PUBLISH
X-ORIGINAL-URL:https://www.salemhome.ca
X-WR-CALDESC:Events for Salem Home
REFRESH-INTERVAL;VALUE=DURATION:PT1H
X-Robots-Tag:noindex
X-PUBLISHED-TTL:PT1H
BEGIN:VTIMEZONE
TZID:America/Winnipeg
BEGIN:DAYLIGHT
TZOFFSETFROM:-0600
TZOFFSETTO:-0500
TZNAME:CDT
DTSTART:20230312T080000
END:DAYLIGHT
BEGIN:STANDARD
TZOFFSETFROM:-0500
TZOFFSETTO:-0600
TZNAME:CST
DTSTART:20231105T070000
END:STANDARD
BEGIN:DAYLIGHT
TZOFFSETFROM:-0600
TZOFFSETTO:-0500
TZNAME:CDT
DTSTART:20240310T080000
END:DAYLIGHT
BEGIN:STANDARD
TZOFFSETFROM:-0500
TZOFFSETTO:-0600
TZNAME:CST
DTSTART:20241103T070000
END:STANDARD
BEGIN:DAYLIGHT
TZOFFSETFROM:-0600
TZOFFSETTO:-0500
TZNAME:CDT
DTSTART:20250309T080000
END:DAYLIGHT
BEGIN:STANDARD
TZOFFSETFROM:-0500
TZOFFSETTO:-0600
TZNAME:CST
DTSTART:20251102T070000
END:STANDARD
END:VTIMEZONE
BEGIN:VEVENT
DTSTART;TZID=America/Winnipeg:20240320T100000
DTEND;TZID=America/Winnipeg:20240320T110000
DTSTAMP:20260425T104347
CREATED:20240224T124515Z
LAST-MODIFIED:20240320T134512Z
UID:37957-1710928800-1710932400@www.salemhome.ca
SUMMARY:Resurrection Eggs
DESCRIPTION:
URL:https://www.salemhome.ca/event/resurrection-eggs-3/
CATEGORIES:Evergreen
END:VEVENT
BEGIN:VEVENT
DTSTART;TZID=America/Winnipeg:20240320T143000
DTEND;TZID=America/Winnipeg:20240320T153000
DTSTAMP:20260425T104347
CREATED:20240104T093046Z
LAST-MODIFIED:20240123T110019Z
UID:34940-1710945000-1710948600@www.salemhome.ca
SUMMARY:Men's Group
DESCRIPTION:Located on Maple North. Residents from all care areas are welcome to attend.
URL:https://www.salemhome.ca/event/mens-group-118/
CATEGORIES:Evergreen
END:VEVENT
BEGIN:VEVENT
DTSTART;TZID=America/Winnipeg:20240320T144500
DTEND;TZID=America/Winnipeg:20240320T154500
DTSTAMP:20260425T104347
CREATED:20240124T110039Z
LAST-MODIFIED:20240320T134512Z
UID:36707-1710945900-1710949500@www.salemhome.ca
SUMMARY:Men's Group
DESCRIPTION:Located on Maple North. Residents from all care areas are welcome to attend.
URL:https://www.salemhome.ca/event/mens-group-323/
CATEGORIES:Evergreen
END:VEVENT
BEGIN:VEVENT
DTSTART;TZID=America/Winnipeg:20240320T150000
DTEND;TZID=America/Winnipeg:20240320T160000
DTSTAMP:20260425T104347
CREATED:20230913T231642Z
LAST-MODIFIED:20240320T134512Z
UID:31094-1710946800-1710950400@www.salemhome.ca
SUMMARY:Bingo
DESCRIPTION:
URL:https://www.salemhome.ca/event/bingo-356/
CATEGORIES:Evergreen
END:VEVENT
END:VCALENDAR