BEGIN:VCALENDAR
VERSION:2.0
PRODID:-//Salem Home - ECPv6.15.20//NONSGML v1.0//EN
CALSCALE:GREGORIAN
METHOD:PUBLISH
X-WR-CALNAME:Salem Home
X-ORIGINAL-URL:https://www.salemhome.ca
X-WR-CALDESC:Events for Salem Home
REFRESH-INTERVAL;VALUE=DURATION:PT1H
X-Robots-Tag:noindex
X-PUBLISHED-TTL:PT1H
BEGIN:VTIMEZONE
TZID:America/Winnipeg
BEGIN:DAYLIGHT
TZOFFSETFROM:-0600
TZOFFSETTO:-0500
TZNAME:CDT
DTSTART:20230312T080000
END:DAYLIGHT
BEGIN:STANDARD
TZOFFSETFROM:-0500
TZOFFSETTO:-0600
TZNAME:CST
DTSTART:20231105T070000
END:STANDARD
BEGIN:DAYLIGHT
TZOFFSETFROM:-0600
TZOFFSETTO:-0500
TZNAME:CDT
DTSTART:20240310T080000
END:DAYLIGHT
BEGIN:STANDARD
TZOFFSETFROM:-0500
TZOFFSETTO:-0600
TZNAME:CST
DTSTART:20241103T070000
END:STANDARD
BEGIN:DAYLIGHT
TZOFFSETFROM:-0600
TZOFFSETTO:-0500
TZNAME:CDT
DTSTART:20250309T080000
END:DAYLIGHT
BEGIN:STANDARD
TZOFFSETFROM:-0500
TZOFFSETTO:-0600
TZNAME:CST
DTSTART:20251102T070000
END:STANDARD
END:VTIMEZONE
BEGIN:VEVENT
DTSTART;TZID=America/Winnipeg:20240321T103000
DTEND;TZID=America/Winnipeg:20240321T113000
DTSTAMP:20260425T172704
CREATED:20240224T124515Z
LAST-MODIFIED:20240321T134511Z
UID:37958-1711017000-1711020600@www.salemhome.ca
SUMMARY:Chapel: Reinland Mennonite
DESCRIPTION:
URL:https://www.salemhome.ca/event/chapel-reinland-mennonite-52/
CATEGORIES:Evergreen
END:VEVENT
BEGIN:VEVENT
DTSTART;TZID=America/Winnipeg:20240321T110000
DTEND;TZID=America/Winnipeg:20240321T120000
DTSTAMP:20260425T172704
CREATED:20230913T231642Z
LAST-MODIFIED:20240321T134511Z
UID:31095-1711018800-1711022400@www.salemhome.ca
SUMMARY:Spa Day
DESCRIPTION:
URL:https://www.salemhome.ca/event/spa-day-60/
CATEGORIES:Evergreen
END:VEVENT
BEGIN:VEVENT
DTSTART;TZID=America/Winnipeg:20240321T110000
DTEND;TZID=America/Winnipeg:20240321T120000
DTSTAMP:20260425T172704
CREATED:20231028T054524Z
LAST-MODIFIED:20240123T110020Z
UID:32077-1711018800-1711022400@www.salemhome.ca
SUMMARY:Men's Coffee
DESCRIPTION:
URL:https://www.salemhome.ca/event/mens-coffee-22/
CATEGORIES:Evergreen
END:VEVENT
BEGIN:VEVENT
DTSTART;TZID=America/Winnipeg:20240321T150000
DTEND;TZID=America/Winnipeg:20240321T160000
DTSTAMP:20260425T172704
CREATED:20240224T124515Z
LAST-MODIFIED:20240321T134511Z
UID:37959-1711033200-1711036800@www.salemhome.ca
SUMMARY:Balloon Games
DESCRIPTION:
URL:https://www.salemhome.ca/event/balloon-games/
CATEGORIES:Evergreen
END:VEVENT
END:VCALENDAR