BEGIN:VCALENDAR
VERSION:2.0
PRODID:-//Salem Home - ECPv6.15.20//NONSGML v1.0//EN
CALSCALE:GREGORIAN
METHOD:PUBLISH
X-ORIGINAL-URL:https://www.salemhome.ca
X-WR-CALDESC:Events for Salem Home
REFRESH-INTERVAL;VALUE=DURATION:PT1H
X-Robots-Tag:noindex
X-PUBLISHED-TTL:PT1H
BEGIN:VTIMEZONE
TZID:America/Winnipeg
BEGIN:DAYLIGHT
TZOFFSETFROM:-0600
TZOFFSETTO:-0500
TZNAME:CDT
DTSTART:20230312T080000
END:DAYLIGHT
BEGIN:STANDARD
TZOFFSETFROM:-0500
TZOFFSETTO:-0600
TZNAME:CST
DTSTART:20231105T070000
END:STANDARD
BEGIN:DAYLIGHT
TZOFFSETFROM:-0600
TZOFFSETTO:-0500
TZNAME:CDT
DTSTART:20240310T080000
END:DAYLIGHT
BEGIN:STANDARD
TZOFFSETFROM:-0500
TZOFFSETTO:-0600
TZNAME:CST
DTSTART:20241103T070000
END:STANDARD
BEGIN:DAYLIGHT
TZOFFSETFROM:-0600
TZOFFSETTO:-0500
TZNAME:CDT
DTSTART:20250309T080000
END:DAYLIGHT
BEGIN:STANDARD
TZOFFSETFROM:-0500
TZOFFSETTO:-0600
TZNAME:CST
DTSTART:20251102T070000
END:STANDARD
END:VTIMEZONE
BEGIN:VEVENT
DTSTART;TZID=America/Winnipeg:20241116T100000
DTEND;TZID=America/Winnipeg:20241116T110000
DTSTAMP:20260425T170457
CREATED:20240821T040057Z
LAST-MODIFIED:20241116T070057Z
UID:43831-1731751200-1731754800@www.salemhome.ca
SUMMARY:Bingo
DESCRIPTION:
URL:https://www.salemhome.ca/event/bingo-572/
CATEGORIES:Evergreen
END:VEVENT
BEGIN:VEVENT
DTSTART;TZID=America/Winnipeg:20241116T103000
DTEND;TZID=America/Winnipeg:20241116T113000
DTSTAMP:20260425T170457
CREATED:20241030T061522Z
LAST-MODIFIED:20241116T070057Z
UID:46235-1731753000-1731756600@www.salemhome.ca
SUMMARY:Trivia
DESCRIPTION:
URL:https://www.salemhome.ca/event/trivia-9/
CATEGORIES:Evergreen
END:VEVENT
BEGIN:VEVENT
DTSTART;TZID=America/Winnipeg:20241116T150000
DTEND;TZID=America/Winnipeg:20241116T160000
DTSTAMP:20260425T170457
CREATED:20241030T061522Z
LAST-MODIFIED:20241116T070057Z
UID:46236-1731769200-1731772800@www.salemhome.ca
SUMMARY:Devotions
DESCRIPTION:
URL:https://www.salemhome.ca/event/devotions-106/
CATEGORIES:Evergreen
END:VEVENT
BEGIN:VEVENT
DTSTART;TZID=America/Winnipeg:20241116T181500
DTEND;TZID=America/Winnipeg:20241116T191500
DTSTAMP:20260425T170457
CREATED:20240821T040057Z
LAST-MODIFIED:20241029T061532Z
UID:43832-1731780900-1731784500@www.salemhome.ca
SUMMARY:The Pilgrims
DESCRIPTION:
URL:https://www.salemhome.ca/event/the-pilgrims-75/
CATEGORIES:Evergreen
END:VEVENT
END:VCALENDAR