BEGIN:VCALENDAR
VERSION:2.0
PRODID:-//Salem Home - ECPv6.15.20//NONSGML v1.0//EN
CALSCALE:GREGORIAN
METHOD:PUBLISH
X-WR-CALNAME:Salem Home
X-ORIGINAL-URL:https://www.salemhome.ca
X-WR-CALDESC:Events for Salem Home
REFRESH-INTERVAL;VALUE=DURATION:PT1H
X-Robots-Tag:noindex
X-PUBLISHED-TTL:PT1H
BEGIN:VTIMEZONE
TZID:America/Winnipeg
BEGIN:DAYLIGHT
TZOFFSETFROM:-0600
TZOFFSETTO:-0500
TZNAME:CDT
DTSTART:20230312T080000
END:DAYLIGHT
BEGIN:STANDARD
TZOFFSETFROM:-0500
TZOFFSETTO:-0600
TZNAME:CST
DTSTART:20231105T070000
END:STANDARD
BEGIN:DAYLIGHT
TZOFFSETFROM:-0600
TZOFFSETTO:-0500
TZNAME:CDT
DTSTART:20240310T080000
END:DAYLIGHT
BEGIN:STANDARD
TZOFFSETFROM:-0500
TZOFFSETTO:-0600
TZNAME:CST
DTSTART:20241103T070000
END:STANDARD
BEGIN:DAYLIGHT
TZOFFSETFROM:-0600
TZOFFSETTO:-0500
TZNAME:CDT
DTSTART:20250309T080000
END:DAYLIGHT
BEGIN:STANDARD
TZOFFSETFROM:-0500
TZOFFSETTO:-0600
TZNAME:CST
DTSTART:20251102T070000
END:STANDARD
END:VTIMEZONE
BEGIN:VEVENT
DTSTART;TZID=America/Winnipeg:20241205T103000
DTEND;TZID=America/Winnipeg:20241205T113000
DTSTAMP:20260425T203045
CREATED:20241129T071516Z
LAST-MODIFIED:20241205T073011Z
UID:47143-1733394600-1733398200@www.salemhome.ca
SUMMARY:Chapel: Sommerfeld Church\, Communion
DESCRIPTION:
URL:https://www.salemhome.ca/event/chapel-sommerfeld-church-communion/
CATEGORIES:Evergreen
END:VEVENT
BEGIN:VEVENT
DTSTART;TZID=America/Winnipeg:20241205T110000
DTEND;TZID=America/Winnipeg:20241205T120000
DTSTAMP:20260425T203045
CREATED:20240911T040026Z
LAST-MODIFIED:20241205T073011Z
UID:44535-1733396400-1733400000@www.salemhome.ca
SUMMARY:Spa Day
DESCRIPTION:
URL:https://www.salemhome.ca/event/spa-day-97/
CATEGORIES:Evergreen
END:VEVENT
BEGIN:VEVENT
DTSTART;TZID=America/Winnipeg:20241205T150000
DTEND;TZID=America/Winnipeg:20241205T160000
DTSTAMP:20260425T203045
CREATED:20241129T071516Z
LAST-MODIFIED:20241205T073012Z
UID:47144-1733410800-1733414400@www.salemhome.ca
SUMMARY:Christmas Cards
DESCRIPTION:
URL:https://www.salemhome.ca/event/christmas-cards/
CATEGORIES:Evergreen
END:VEVENT
BEGIN:VEVENT
DTSTART;TZID=America/Winnipeg:20241205T184500
DTEND;TZID=America/Winnipeg:20241205T194500
DTSTAMP:20260425T203045
CREATED:20241129T071516Z
LAST-MODIFIED:20241205T073012Z
UID:47145-1733424300-1733427900@www.salemhome.ca
SUMMARY:Advent Service
DESCRIPTION:
URL:https://www.salemhome.ca/event/advent-service-5/
CATEGORIES:Evergreen
END:VEVENT
END:VCALENDAR