BEGIN:VCALENDAR
VERSION:2.0
PRODID:-//Salem Home - ECPv6.15.20//NONSGML v1.0//EN
CALSCALE:GREGORIAN
METHOD:PUBLISH
X-ORIGINAL-URL:https://www.salemhome.ca
X-WR-CALDESC:Events for Salem Home
REFRESH-INTERVAL;VALUE=DURATION:PT1H
X-Robots-Tag:noindex
X-PUBLISHED-TTL:PT1H
BEGIN:VTIMEZONE
TZID:America/Winnipeg
BEGIN:DAYLIGHT
TZOFFSETFROM:-0600
TZOFFSETTO:-0500
TZNAME:CDT
DTSTART:20240310T080000
END:DAYLIGHT
BEGIN:STANDARD
TZOFFSETFROM:-0500
TZOFFSETTO:-0600
TZNAME:CST
DTSTART:20241103T070000
END:STANDARD
BEGIN:DAYLIGHT
TZOFFSETFROM:-0600
TZOFFSETTO:-0500
TZNAME:CDT
DTSTART:20250309T080000
END:DAYLIGHT
BEGIN:STANDARD
TZOFFSETFROM:-0500
TZOFFSETTO:-0600
TZNAME:CST
DTSTART:20251102T070000
END:STANDARD
BEGIN:DAYLIGHT
TZOFFSETFROM:-0600
TZOFFSETTO:-0500
TZNAME:CDT
DTSTART:20260308T080000
END:DAYLIGHT
BEGIN:STANDARD
TZOFFSETFROM:-0500
TZOFFSETTO:-0600
TZNAME:CST
DTSTART:20261101T070000
END:STANDARD
END:VTIMEZONE
BEGIN:VEVENT
DTSTART;TZID=America/Winnipeg:20250120T100000
DTEND;TZID=America/Winnipeg:20250120T110000
DTSTAMP:20260425T220245
CREATED:20241023T054527Z
LAST-MODIFIED:20250120T091510Z
UID:45982-1737367200-1737370800@www.salemhome.ca
SUMMARY:Men's Coffee Shop
DESCRIPTION:
URL:https://www.salemhome.ca/event/mens-coffee-shop-592/
CATEGORIES:Evergreen
END:VEVENT
BEGIN:VEVENT
DTSTART;TZID=America/Winnipeg:20250120T100000
DTEND;TZID=America/Winnipeg:20250120T110000
DTSTAMP:20260425T220245
CREATED:20250103T084518Z
LAST-MODIFIED:20250120T091510Z
UID:48387-1737367200-1737370800@www.salemhome.ca
SUMMARY:Resident Family Council
DESCRIPTION:
URL:https://www.salemhome.ca/event/resident-family-council-31/
CATEGORIES:Evergreen
END:VEVENT
BEGIN:VEVENT
DTSTART;TZID=America/Winnipeg:20250120T144500
DTEND;TZID=America/Winnipeg:20250120T154500
DTSTAMP:20260425T220245
CREATED:20241023T054527Z
LAST-MODIFIED:20250120T091510Z
UID:45983-1737384300-1737387900@www.salemhome.ca
SUMMARY:Men's Group
DESCRIPTION:Located on Evergreen\, residents from all care areas welcome.
URL:https://www.salemhome.ca/event/mens-group-625/
CATEGORIES:Evergreen
END:VEVENT
BEGIN:VEVENT
DTSTART;TZID=America/Winnipeg:20250120T150000
DTEND;TZID=America/Winnipeg:20250120T160000
DTSTAMP:20260425T220245
CREATED:20250103T084519Z
LAST-MODIFIED:20250120T091510Z
UID:48388-1737385200-1737388800@www.salemhome.ca
SUMMARY:Crokinole
DESCRIPTION:
URL:https://www.salemhome.ca/event/crokinole-35/
CATEGORIES:Evergreen
END:VEVENT
END:VCALENDAR