BEGIN:VCALENDAR
VERSION:2.0
PRODID:-//Salem Home - ECPv6.15.20//NONSGML v1.0//EN
CALSCALE:GREGORIAN
METHOD:PUBLISH
X-WR-CALNAME:Salem Home
X-ORIGINAL-URL:https://www.salemhome.ca
X-WR-CALDESC:Events for Salem Home
REFRESH-INTERVAL;VALUE=DURATION:PT1H
X-Robots-Tag:noindex
X-PUBLISHED-TTL:PT1H
BEGIN:VTIMEZONE
TZID:America/Winnipeg
BEGIN:DAYLIGHT
TZOFFSETFROM:-0600
TZOFFSETTO:-0500
TZNAME:CDT
DTSTART:20240310T080000
END:DAYLIGHT
BEGIN:STANDARD
TZOFFSETFROM:-0500
TZOFFSETTO:-0600
TZNAME:CST
DTSTART:20241103T070000
END:STANDARD
BEGIN:DAYLIGHT
TZOFFSETFROM:-0600
TZOFFSETTO:-0500
TZNAME:CDT
DTSTART:20250309T080000
END:DAYLIGHT
BEGIN:STANDARD
TZOFFSETFROM:-0500
TZOFFSETTO:-0600
TZNAME:CST
DTSTART:20251102T070000
END:STANDARD
BEGIN:DAYLIGHT
TZOFFSETFROM:-0600
TZOFFSETTO:-0500
TZNAME:CDT
DTSTART:20260308T080000
END:DAYLIGHT
BEGIN:STANDARD
TZOFFSETFROM:-0500
TZOFFSETTO:-0600
TZNAME:CST
DTSTART:20261101T070000
END:STANDARD
END:VTIMEZONE
BEGIN:VEVENT
DTSTART;TZID=America/Winnipeg:20250211T100000
DTEND;TZID=America/Winnipeg:20250211T110000
DTSTAMP:20260425T054400
CREATED:20241116T070056Z
LAST-MODIFIED:20250211T101509Z
UID:46758-1739268000-1739271600@www.salemhome.ca
SUMMARY:Men's Coffee Shop
DESCRIPTION:
URL:https://www.salemhome.ca/event/mens-coffee-shop-635/
CATEGORIES:Evergreen
END:VEVENT
BEGIN:VEVENT
DTSTART;TZID=America/Winnipeg:20250211T150000
DTEND;TZID=America/Winnipeg:20250211T160000
DTSTAMP:20260425T054400
CREATED:20250128T093018Z
LAST-MODIFIED:20250211T101510Z
UID:49258-1739286000-1739289600@www.salemhome.ca
SUMMARY:Sequence
DESCRIPTION:
URL:https://www.salemhome.ca/event/sequence-6/
CATEGORIES:Evergreen
END:VEVENT
BEGIN:VEVENT
DTSTART;TZID=America/Winnipeg:20250211T180000
DTEND;TZID=America/Winnipeg:20250211T190000
DTSTAMP:20260425T054400
CREATED:20241116T070056Z
LAST-MODIFIED:20250211T101510Z
UID:46759-1739296800-1739300400@www.salemhome.ca
SUMMARY:The Sanderson's
DESCRIPTION:
URL:https://www.salemhome.ca/event/movie-night-108/
CATEGORIES:Evergreen
END:VEVENT
END:VCALENDAR