BEGIN:VCALENDAR
VERSION:2.0
PRODID:-//Salem Home - ECPv6.15.20//NONSGML v1.0//EN
CALSCALE:GREGORIAN
METHOD:PUBLISH
X-ORIGINAL-URL:https://www.salemhome.ca
X-WR-CALDESC:Events for Salem Home
REFRESH-INTERVAL;VALUE=DURATION:PT1H
X-Robots-Tag:noindex
X-PUBLISHED-TTL:PT1H
BEGIN:VTIMEZONE
TZID:America/Winnipeg
BEGIN:DAYLIGHT
TZOFFSETFROM:-0600
TZOFFSETTO:-0500
TZNAME:CDT
DTSTART:20240310T080000
END:DAYLIGHT
BEGIN:STANDARD
TZOFFSETFROM:-0500
TZOFFSETTO:-0600
TZNAME:CST
DTSTART:20241103T070000
END:STANDARD
BEGIN:DAYLIGHT
TZOFFSETFROM:-0600
TZOFFSETTO:-0500
TZNAME:CDT
DTSTART:20250309T080000
END:DAYLIGHT
BEGIN:STANDARD
TZOFFSETFROM:-0500
TZOFFSETTO:-0600
TZNAME:CST
DTSTART:20251102T070000
END:STANDARD
BEGIN:DAYLIGHT
TZOFFSETFROM:-0600
TZOFFSETTO:-0500
TZNAME:CDT
DTSTART:20260308T080000
END:DAYLIGHT
BEGIN:STANDARD
TZOFFSETFROM:-0500
TZOFFSETTO:-0600
TZNAME:CST
DTSTART:20261101T070000
END:STANDARD
END:VTIMEZONE
BEGIN:VEVENT
DTSTART;TZID=America/Winnipeg:20250227T103000
DTEND;TZID=America/Winnipeg:20250227T113000
DTSTAMP:20260424T194330
CREATED:20250128T093022Z
LAST-MODIFIED:20250227T104528Z
UID:49276-1740652200-1740655800@www.salemhome.ca
SUMMARY:Chapel: Winkler Bergthaler
DESCRIPTION:
URL:https://www.salemhome.ca/event/chapel-winkler-bergthaler-30/
CATEGORIES:Evergreen
END:VEVENT
BEGIN:VEVENT
DTSTART;TZID=America/Winnipeg:20250227T110000
DTEND;TZID=America/Winnipeg:20250227T120000
DTSTAMP:20260424T194330
CREATED:20241127T071530Z
LAST-MODIFIED:20250227T104528Z
UID:47074-1740654000-1740657600@www.salemhome.ca
SUMMARY:Spa Day
DESCRIPTION:
URL:https://www.salemhome.ca/event/spa-day-109/
CATEGORIES:Evergreen
END:VEVENT
BEGIN:VEVENT
DTSTART;TZID=America/Winnipeg:20250227T150000
DTEND;TZID=America/Winnipeg:20250227T160000
DTSTAMP:20260424T194330
CREATED:20250128T093023Z
LAST-MODIFIED:20250227T104529Z
UID:49277-1740668400-1740672000@www.salemhome.ca
SUMMARY:Move It To Music
DESCRIPTION:
URL:https://www.salemhome.ca/event/move-it-to-music-6/
CATEGORIES:Evergreen
END:VEVENT
END:VCALENDAR