BEGIN:VCALENDAR
VERSION:2.0
PRODID:-//Salem Home - ECPv6.15.20//NONSGML v1.0//EN
CALSCALE:GREGORIAN
METHOD:PUBLISH
X-ORIGINAL-URL:https://www.salemhome.ca
X-WR-CALDESC:Events for Salem Home
REFRESH-INTERVAL;VALUE=DURATION:PT1H
X-Robots-Tag:noindex
X-PUBLISHED-TTL:PT1H
BEGIN:VTIMEZONE
TZID:America/Winnipeg
BEGIN:DAYLIGHT
TZOFFSETFROM:-0600
TZOFFSETTO:-0500
TZNAME:CDT
DTSTART:20240310T080000
END:DAYLIGHT
BEGIN:STANDARD
TZOFFSETFROM:-0500
TZOFFSETTO:-0600
TZNAME:CST
DTSTART:20241103T070000
END:STANDARD
BEGIN:DAYLIGHT
TZOFFSETFROM:-0600
TZOFFSETTO:-0500
TZNAME:CDT
DTSTART:20250309T080000
END:DAYLIGHT
BEGIN:STANDARD
TZOFFSETFROM:-0500
TZOFFSETTO:-0600
TZNAME:CST
DTSTART:20251102T070000
END:STANDARD
BEGIN:DAYLIGHT
TZOFFSETFROM:-0600
TZOFFSETTO:-0500
TZNAME:CDT
DTSTART:20260308T080000
END:DAYLIGHT
BEGIN:STANDARD
TZOFFSETFROM:-0500
TZOFFSETTO:-0600
TZNAME:CST
DTSTART:20261101T070000
END:STANDARD
END:VTIMEZONE
BEGIN:VEVENT
DTSTART;TZID=America/Winnipeg:20250303T100000
DTEND;TZID=America/Winnipeg:20250303T110000
DTSTAMP:20260424T194447
CREATED:20241207T073026Z
LAST-MODIFIED:20250303T110011Z
UID:47600-1740996000-1740999600@www.salemhome.ca
SUMMARY:Men's Coffee Shop
DESCRIPTION:
URL:https://www.salemhome.ca/event/mens-coffee-shop-666/
CATEGORIES:Evergreen
END:VEVENT
BEGIN:VEVENT
DTSTART;TZID=America/Winnipeg:20250303T100000
DTEND;TZID=America/Winnipeg:20250303T110000
DTSTAMP:20260424T194447
CREATED:20250226T104515Z
LAST-MODIFIED:20250303T110011Z
UID:50284-1740996000-1740999600@www.salemhome.ca
SUMMARY:Reading
DESCRIPTION:
URL:https://www.salemhome.ca/event/reading-12/
CATEGORIES:Evergreen
END:VEVENT
BEGIN:VEVENT
DTSTART;TZID=America/Winnipeg:20250303T144500
DTEND;TZID=America/Winnipeg:20250303T154500
DTSTAMP:20260424T194447
CREATED:20241207T073026Z
LAST-MODIFIED:20250303T110011Z
UID:47601-1741013100-1741016700@www.salemhome.ca
SUMMARY:Men's Group
DESCRIPTION:Located on Evergreen\, residents from all care areas welcome.
URL:https://www.salemhome.ca/event/mens-group-675/
CATEGORIES:Evergreen
END:VEVENT
BEGIN:VEVENT
DTSTART;TZID=America/Winnipeg:20250303T150000
DTEND;TZID=America/Winnipeg:20250303T160000
DTSTAMP:20260424T194447
CREATED:20250226T104515Z
LAST-MODIFIED:20250303T110011Z
UID:50285-1741014000-1741017600@www.salemhome.ca
SUMMARY:This or That?
DESCRIPTION:
URL:https://www.salemhome.ca/event/this-or-that/
CATEGORIES:Evergreen
END:VEVENT
END:VCALENDAR