BEGIN:VCALENDAR
VERSION:2.0
PRODID:-//Salem Home - ECPv6.15.20//NONSGML v1.0//EN
CALSCALE:GREGORIAN
METHOD:PUBLISH
X-ORIGINAL-URL:https://www.salemhome.ca
X-WR-CALDESC:Events for Salem Home
REFRESH-INTERVAL;VALUE=DURATION:PT1H
X-Robots-Tag:noindex
X-PUBLISHED-TTL:PT1H
BEGIN:VTIMEZONE
TZID:America/Winnipeg
BEGIN:DAYLIGHT
TZOFFSETFROM:-0600
TZOFFSETTO:-0500
TZNAME:CDT
DTSTART:20240310T080000
END:DAYLIGHT
BEGIN:STANDARD
TZOFFSETFROM:-0500
TZOFFSETTO:-0600
TZNAME:CST
DTSTART:20241103T070000
END:STANDARD
BEGIN:DAYLIGHT
TZOFFSETFROM:-0600
TZOFFSETTO:-0500
TZNAME:CDT
DTSTART:20250309T080000
END:DAYLIGHT
BEGIN:STANDARD
TZOFFSETFROM:-0500
TZOFFSETTO:-0600
TZNAME:CST
DTSTART:20251102T070000
END:STANDARD
BEGIN:DAYLIGHT
TZOFFSETFROM:-0600
TZOFFSETTO:-0500
TZNAME:CDT
DTSTART:20260308T080000
END:DAYLIGHT
BEGIN:STANDARD
TZOFFSETFROM:-0500
TZOFFSETTO:-0600
TZNAME:CST
DTSTART:20261101T070000
END:STANDARD
END:VTIMEZONE
BEGIN:VEVENT
DTSTART;TZID=America/Winnipeg:20250311T100000
DTEND;TZID=America/Winnipeg:20250311T110000
DTSTAMP:20260424T194501
CREATED:20241213T074526Z
LAST-MODIFIED:20250311T113942Z
UID:47709-1741687200-1741690800@www.salemhome.ca
SUMMARY:Men's Coffee Shop
DESCRIPTION:
URL:https://www.salemhome.ca/event/mens-coffee-shop-675/
CATEGORIES:Evergreen
END:VEVENT
BEGIN:VEVENT
DTSTART;TZID=America/Winnipeg:20250311T100000
DTEND;TZID=America/Winnipeg:20250311T110000
DTSTAMP:20260424T194501
CREATED:20250226T104517Z
LAST-MODIFIED:20250311T113942Z
UID:50294-1741687200-1741690800@www.salemhome.ca
SUMMARY:Move With Grace
DESCRIPTION:
URL:https://www.salemhome.ca/event/move-with-grace/
CATEGORIES:Evergreen
END:VEVENT
BEGIN:VEVENT
DTSTART;TZID=America/Winnipeg:20250311T150000
DTEND;TZID=America/Winnipeg:20250311T160000
DTSTAMP:20260424T194501
CREATED:20250226T104517Z
LAST-MODIFIED:20250311T113942Z
UID:50295-1741705200-1741708800@www.salemhome.ca
SUMMARY:Sequence
DESCRIPTION:
URL:https://www.salemhome.ca/event/sequence-7/
CATEGORIES:Evergreen
END:VEVENT
BEGIN:VEVENT
DTSTART;TZID=America/Winnipeg:20250311T180000
DTEND;TZID=America/Winnipeg:20250311T190000
DTSTAMP:20260424T194501
CREATED:20241213T074526Z
LAST-MODIFIED:20250311T113943Z
UID:47710-1741716000-1741719600@www.salemhome.ca
SUMMARY:Movie Night
DESCRIPTION:
URL:https://www.salemhome.ca/event/movie-night-112/
CATEGORIES:Evergreen
END:VEVENT
BEGIN:VEVENT
DTSTART;TZID=America/Winnipeg:20250311T180000
DTEND;TZID=America/Winnipeg:20250311T190000
DTSTAMP:20260424T194501
CREATED:20250226T104517Z
LAST-MODIFIED:20250311T113943Z
UID:50296-1741716000-1741719600@www.salemhome.ca
SUMMARY:The Sanderson's
DESCRIPTION:
URL:https://www.salemhome.ca/event/the-sandersons-26/
CATEGORIES:Evergreen
END:VEVENT
END:VCALENDAR