BEGIN:VCALENDAR
VERSION:2.0
PRODID:-//Salem Home - ECPv6.15.20//NONSGML v1.0//EN
CALSCALE:GREGORIAN
METHOD:PUBLISH
X-WR-CALNAME:Salem Home
X-ORIGINAL-URL:https://www.salemhome.ca
X-WR-CALDESC:Events for Salem Home
REFRESH-INTERVAL;VALUE=DURATION:PT1H
X-Robots-Tag:noindex
X-PUBLISHED-TTL:PT1H
BEGIN:VTIMEZONE
TZID:America/Winnipeg
BEGIN:DAYLIGHT
TZOFFSETFROM:-0600
TZOFFSETTO:-0500
TZNAME:CDT
DTSTART:20240310T080000
END:DAYLIGHT
BEGIN:STANDARD
TZOFFSETFROM:-0500
TZOFFSETTO:-0600
TZNAME:CST
DTSTART:20241103T070000
END:STANDARD
BEGIN:DAYLIGHT
TZOFFSETFROM:-0600
TZOFFSETTO:-0500
TZNAME:CDT
DTSTART:20250309T080000
END:DAYLIGHT
BEGIN:STANDARD
TZOFFSETFROM:-0500
TZOFFSETTO:-0600
TZNAME:CST
DTSTART:20251102T070000
END:STANDARD
BEGIN:DAYLIGHT
TZOFFSETFROM:-0600
TZOFFSETTO:-0500
TZNAME:CDT
DTSTART:20260308T080000
END:DAYLIGHT
BEGIN:STANDARD
TZOFFSETFROM:-0500
TZOFFSETTO:-0600
TZNAME:CST
DTSTART:20261101T070000
END:STANDARD
END:VTIMEZONE
BEGIN:VEVENT
DTSTART;TZID=America/Winnipeg:20250313T103000
DTEND;TZID=America/Winnipeg:20250313T113000
DTSTAMP:20260424T212525
CREATED:20250226T104517Z
LAST-MODIFIED:20250313T115833Z
UID:50298-1741861800-1741865400@www.salemhome.ca
SUMMARY:Chapel: Old Colony
DESCRIPTION:
URL:https://www.salemhome.ca/event/chapel-old-colony-33/
CATEGORIES:Evergreen
END:VEVENT
BEGIN:VEVENT
DTSTART;TZID=America/Winnipeg:20250313T110000
DTEND;TZID=America/Winnipeg:20250313T120000
DTSTAMP:20260424T212525
CREATED:20241214T074527Z
LAST-MODIFIED:20250313T115837Z
UID:47749-1741863600-1741867200@www.salemhome.ca
SUMMARY:Spa Day
DESCRIPTION:
URL:https://www.salemhome.ca/event/spa-day-111/
CATEGORIES:Evergreen
END:VEVENT
BEGIN:VEVENT
DTSTART;TZID=America/Winnipeg:20250313T150000
DTEND;TZID=America/Winnipeg:20250313T160000
DTSTAMP:20260424T212525
CREATED:20250226T104517Z
LAST-MODIFIED:20250313T120001Z
UID:50300-1741878000-1741881600@www.salemhome.ca
SUMMARY:Octaband Fun
DESCRIPTION:
URL:https://www.salemhome.ca/event/octaband-fun/
CATEGORIES:Evergreen
END:VEVENT
BEGIN:VEVENT
DTSTART;TZID=America/Winnipeg:20250313T160000
DTEND;TZID=America/Winnipeg:20250313T170000
DTSTAMP:20260424T212525
CREATED:20250226T104517Z
LAST-MODIFIED:20250313T115952Z
UID:50299-1741881600-1741885200@www.salemhome.ca
SUMMARY:Joan Van der Linde
DESCRIPTION:
URL:https://www.salemhome.ca/event/joan-van-der-linde-33/
CATEGORIES:Evergreen
END:VEVENT
END:VCALENDAR