BEGIN:VCALENDAR
VERSION:2.0
PRODID:-//Salem Home - ECPv6.15.20//NONSGML v1.0//EN
CALSCALE:GREGORIAN
METHOD:PUBLISH
X-WR-CALNAME:Salem Home
X-ORIGINAL-URL:https://www.salemhome.ca
X-WR-CALDESC:Events for Salem Home
REFRESH-INTERVAL;VALUE=DURATION:PT1H
X-Robots-Tag:noindex
X-PUBLISHED-TTL:PT1H
BEGIN:VTIMEZONE
TZID:America/Winnipeg
BEGIN:DAYLIGHT
TZOFFSETFROM:-0600
TZOFFSETTO:-0500
TZNAME:CDT
DTSTART:20240310T080000
END:DAYLIGHT
BEGIN:STANDARD
TZOFFSETFROM:-0500
TZOFFSETTO:-0600
TZNAME:CST
DTSTART:20241103T070000
END:STANDARD
BEGIN:DAYLIGHT
TZOFFSETFROM:-0600
TZOFFSETTO:-0500
TZNAME:CDT
DTSTART:20250309T080000
END:DAYLIGHT
BEGIN:STANDARD
TZOFFSETFROM:-0500
TZOFFSETTO:-0600
TZNAME:CST
DTSTART:20251102T070000
END:STANDARD
BEGIN:DAYLIGHT
TZOFFSETFROM:-0600
TZOFFSETTO:-0500
TZNAME:CDT
DTSTART:20260308T080000
END:DAYLIGHT
BEGIN:STANDARD
TZOFFSETFROM:-0500
TZOFFSETTO:-0600
TZNAME:CST
DTSTART:20261101T070000
END:STANDARD
END:VTIMEZONE
BEGIN:VEVENT
DTSTART;TZID=America/Winnipeg:20250315T100000
DTEND;TZID=America/Winnipeg:20250315T110000
DTSTAMP:20260425T054458
CREATED:20241216T074529Z
LAST-MODIFIED:20250127T093037Z
UID:47830-1742032800-1742036400@www.salemhome.ca
SUMMARY:Bingo
DESCRIPTION:
URL:https://www.salemhome.ca/event/bingo-685/
CATEGORIES:Evergreen
END:VEVENT
BEGIN:VEVENT
DTSTART;TZID=America/Winnipeg:20250315T100000
DTEND;TZID=America/Winnipeg:20250315T110000
DTSTAMP:20260425T054458
CREATED:20250226T104518Z
LAST-MODIFIED:20250312T114005Z
UID:50301-1742032800-1742036400@www.salemhome.ca
SUMMARY:Irish Sing Along
DESCRIPTION:
URL:https://www.salemhome.ca/event/irish-sing-along/
CATEGORIES:Evergreen
END:VEVENT
BEGIN:VEVENT
DTSTART;TZID=America/Winnipeg:20250315T150000
DTEND;TZID=America/Winnipeg:20250315T160000
DTSTAMP:20260425T054458
CREATED:20250128T093025Z
LAST-MODIFIED:20250312T114005Z
UID:49280-1742050800-1742054400@www.salemhome.ca
SUMMARY:Bingo
DESCRIPTION:
URL:https://www.salemhome.ca/event/bingo-737/
CATEGORIES:Evergreen
END:VEVENT
BEGIN:VEVENT
DTSTART;TZID=America/Winnipeg:20250315T181500
DTEND;TZID=America/Winnipeg:20250315T191500
DTSTAMP:20260425T054458
CREATED:20241217T074528Z
LAST-MODIFIED:20250225T104530Z
UID:47853-1742062500-1742066100@www.salemhome.ca
SUMMARY:The Pilgrims
DESCRIPTION:
URL:https://www.salemhome.ca/event/the-pilgrims-91/
CATEGORIES:Evergreen
END:VEVENT
END:VCALENDAR