BEGIN:VCALENDAR
VERSION:2.0
PRODID:-//Salem Home - ECPv6.15.20//NONSGML v1.0//EN
CALSCALE:GREGORIAN
METHOD:PUBLISH
X-WR-CALNAME:Salem Home
X-ORIGINAL-URL:https://www.salemhome.ca
X-WR-CALDESC:Events for Salem Home
REFRESH-INTERVAL;VALUE=DURATION:PT1H
X-Robots-Tag:noindex
X-PUBLISHED-TTL:PT1H
BEGIN:VTIMEZONE
TZID:America/Winnipeg
BEGIN:DAYLIGHT
TZOFFSETFROM:-0600
TZOFFSETTO:-0500
TZNAME:CDT
DTSTART:20240310T080000
END:DAYLIGHT
BEGIN:STANDARD
TZOFFSETFROM:-0500
TZOFFSETTO:-0600
TZNAME:CST
DTSTART:20241103T070000
END:STANDARD
BEGIN:DAYLIGHT
TZOFFSETFROM:-0600
TZOFFSETTO:-0500
TZNAME:CDT
DTSTART:20250309T080000
END:DAYLIGHT
BEGIN:STANDARD
TZOFFSETFROM:-0500
TZOFFSETTO:-0600
TZNAME:CST
DTSTART:20251102T070000
END:STANDARD
BEGIN:DAYLIGHT
TZOFFSETFROM:-0600
TZOFFSETTO:-0500
TZNAME:CDT
DTSTART:20260308T080000
END:DAYLIGHT
BEGIN:STANDARD
TZOFFSETFROM:-0500
TZOFFSETTO:-0600
TZNAME:CST
DTSTART:20261101T070000
END:STANDARD
END:VTIMEZONE
BEGIN:VEVENT
DTSTART;TZID=America/Winnipeg:20250409T100000
DTEND;TZID=America/Winnipeg:20250409T110000
DTSTAMP:20260424T055310
CREATED:20250102T084525Z
LAST-MODIFIED:20250408T180726Z
UID:48334-1744192800-1744196400@www.salemhome.ca
SUMMARY:Men's Coffee Shop
DESCRIPTION:
URL:https://www.salemhome.ca/event/mens-coffee-shop-730/
CATEGORIES:Evergreen
END:VEVENT
BEGIN:VEVENT
DTSTART;TZID=America/Winnipeg:20250409T100000
DTEND;TZID=America/Winnipeg:20250409T110000
DTSTAMP:20260424T055310
CREATED:20250326T172229Z
LAST-MODIFIED:20250408T180726Z
UID:51439-1744192800-1744196400@www.salemhome.ca
SUMMARY:John & Irene Plantz
DESCRIPTION:
URL:https://www.salemhome.ca/event/john-irene-plantz-37/
CATEGORIES:Evergreen
END:VEVENT
BEGIN:VEVENT
DTSTART;TZID=America/Winnipeg:20250409T144500
DTEND;TZID=America/Winnipeg:20250409T154500
DTSTAMP:20260424T055310
CREATED:20250102T084526Z
LAST-MODIFIED:20250409T180730Z
UID:48335-1744209900-1744213500@www.salemhome.ca
SUMMARY:Bingo
DESCRIPTION:
URL:https://www.salemhome.ca/event/bingo-704/
CATEGORIES:Evergreen
END:VEVENT
BEGIN:VEVENT
DTSTART;TZID=America/Winnipeg:20250409T144500
DTEND;TZID=America/Winnipeg:20250409T154500
DTSTAMP:20260424T055310
CREATED:20250102T084526Z
LAST-MODIFIED:20250127T093041Z
UID:48336-1744209900-1744213500@www.salemhome.ca
SUMMARY:Men's Group
DESCRIPTION:Located on Maple North. Residents from all care areas are welcome to attend.
URL:https://www.salemhome.ca/event/mens-group-717/
CATEGORIES:Evergreen
END:VEVENT
END:VCALENDAR