BEGIN:VCALENDAR
VERSION:2.0
PRODID:-//Salem Home - ECPv6.15.20//NONSGML v1.0//EN
CALSCALE:GREGORIAN
METHOD:PUBLISH
X-WR-CALNAME:Salem Home
X-ORIGINAL-URL:https://www.salemhome.ca
X-WR-CALDESC:Events for Salem Home
REFRESH-INTERVAL;VALUE=DURATION:PT1H
X-Robots-Tag:noindex
X-PUBLISHED-TTL:PT1H
BEGIN:VTIMEZONE
TZID:America/Winnipeg
BEGIN:DAYLIGHT
TZOFFSETFROM:-0600
TZOFFSETTO:-0500
TZNAME:CDT
DTSTART:20240310T080000
END:DAYLIGHT
BEGIN:STANDARD
TZOFFSETFROM:-0500
TZOFFSETTO:-0600
TZNAME:CST
DTSTART:20241103T070000
END:STANDARD
BEGIN:DAYLIGHT
TZOFFSETFROM:-0600
TZOFFSETTO:-0500
TZNAME:CDT
DTSTART:20250309T080000
END:DAYLIGHT
BEGIN:STANDARD
TZOFFSETFROM:-0500
TZOFFSETTO:-0600
TZNAME:CST
DTSTART:20251102T070000
END:STANDARD
BEGIN:DAYLIGHT
TZOFFSETFROM:-0600
TZOFFSETTO:-0500
TZNAME:CDT
DTSTART:20260308T080000
END:DAYLIGHT
BEGIN:STANDARD
TZOFFSETFROM:-0500
TZOFFSETTO:-0600
TZNAME:CST
DTSTART:20261101T070000
END:STANDARD
END:VTIMEZONE
BEGIN:VEVENT
DTSTART;TZID=America/Winnipeg:20250410T103000
DTEND;TZID=America/Winnipeg:20250410T113000
DTSTAMP:20260424T071736
CREATED:20250326T172230Z
LAST-MODIFIED:20250409T180730Z
UID:51440-1744281000-1744284600@www.salemhome.ca
SUMMARY:Chapel: Old Colony
DESCRIPTION:
URL:https://www.salemhome.ca/event/chapel-old-colony-37/
CATEGORIES:Evergreen
END:VEVENT
BEGIN:VEVENT
DTSTART;TZID=America/Winnipeg:20250410T110000
DTEND;TZID=America/Winnipeg:20250410T120000
DTSTAMP:20260424T071736
CREATED:20250114T091529Z
LAST-MODIFIED:20250409T180730Z
UID:48811-1744282800-1744286400@www.salemhome.ca
SUMMARY:Spa Day
DESCRIPTION:
URL:https://www.salemhome.ca/event/spa-day-115/
CATEGORIES:Evergreen
END:VEVENT
BEGIN:VEVENT
DTSTART;TZID=America/Winnipeg:20250410T150000
DTEND;TZID=America/Winnipeg:20250410T160000
DTSTAMP:20260424T071736
CREATED:20250326T172230Z
LAST-MODIFIED:20250410T182229Z
UID:51441-1744297200-1744300800@www.salemhome.ca
SUMMARY:Celebrate a Birthday!
DESCRIPTION:
URL:https://www.salemhome.ca/event/celebrate-a-birthday/
CATEGORIES:Evergreen
END:VEVENT
BEGIN:VEVENT
DTSTART;TZID=America/Winnipeg:20250410T160000
DTEND;TZID=America/Winnipeg:20250410T170000
DTSTAMP:20260424T071736
CREATED:20250326T172230Z
LAST-MODIFIED:20250410T182229Z
UID:51442-1744300800-1744304400@www.salemhome.ca
SUMMARY:Joan Van der Linde
DESCRIPTION:
URL:https://www.salemhome.ca/event/joan-van-der-linde-37/
CATEGORIES:Evergreen
END:VEVENT
END:VCALENDAR