BEGIN:VCALENDAR
VERSION:2.0
PRODID:-//Salem Home - ECPv6.15.20//NONSGML v1.0//EN
CALSCALE:GREGORIAN
METHOD:PUBLISH
X-ORIGINAL-URL:https://www.salemhome.ca
X-WR-CALDESC:Events for Salem Home
REFRESH-INTERVAL;VALUE=DURATION:PT1H
X-Robots-Tag:noindex
X-PUBLISHED-TTL:PT1H
BEGIN:VTIMEZONE
TZID:America/Winnipeg
BEGIN:DAYLIGHT
TZOFFSETFROM:-0600
TZOFFSETTO:-0500
TZNAME:CDT
DTSTART:20240310T080000
END:DAYLIGHT
BEGIN:STANDARD
TZOFFSETFROM:-0500
TZOFFSETTO:-0600
TZNAME:CST
DTSTART:20241103T070000
END:STANDARD
BEGIN:DAYLIGHT
TZOFFSETFROM:-0600
TZOFFSETTO:-0500
TZNAME:CDT
DTSTART:20250309T080000
END:DAYLIGHT
BEGIN:STANDARD
TZOFFSETFROM:-0500
TZOFFSETTO:-0600
TZNAME:CST
DTSTART:20251102T070000
END:STANDARD
BEGIN:DAYLIGHT
TZOFFSETFROM:-0600
TZOFFSETTO:-0500
TZNAME:CDT
DTSTART:20260308T080000
END:DAYLIGHT
BEGIN:STANDARD
TZOFFSETFROM:-0500
TZOFFSETTO:-0600
TZNAME:CST
DTSTART:20261101T070000
END:STANDARD
END:VTIMEZONE
BEGIN:VEVENT
DTSTART;TZID=America/Winnipeg:20250415T100000
DTEND;TZID=America/Winnipeg:20250415T110000
DTSTAMP:20260424T090733
CREATED:20250116T091530Z
LAST-MODIFIED:20250414T182249Z
UID:48861-1744711200-1744714800@www.salemhome.ca
SUMMARY:Men's Coffee Shop
DESCRIPTION:
URL:https://www.salemhome.ca/event/mens-coffee-shop-735/
CATEGORIES:Evergreen
END:VEVENT
BEGIN:VEVENT
DTSTART;TZID=America/Winnipeg:20250415T100000
DTEND;TZID=America/Winnipeg:20250415T110000
DTSTAMP:20260424T090733
CREATED:20250326T172231Z
LAST-MODIFIED:20250414T182249Z
UID:51447-1744711200-1744714800@www.salemhome.ca
SUMMARY:Move With Grace
DESCRIPTION:
URL:https://www.salemhome.ca/event/move-with-grace-37/
CATEGORIES:Evergreen
END:VEVENT
BEGIN:VEVENT
DTSTART;TZID=America/Winnipeg:20250415T150000
DTEND;TZID=America/Winnipeg:20250415T160000
DTSTAMP:20260424T090733
CREATED:20250326T172231Z
LAST-MODIFIED:20250415T182250Z
UID:51448-1744729200-1744732800@www.salemhome.ca
SUMMARY:Easter Craft
DESCRIPTION:
URL:https://www.salemhome.ca/event/easter-craft-6/
CATEGORIES:Evergreen
END:VEVENT
BEGIN:VEVENT
DTSTART;TZID=America/Winnipeg:20250415T180000
DTEND;TZID=America/Winnipeg:20250415T190000
DTSTAMP:20260424T090733
CREATED:20250116T091530Z
LAST-MODIFIED:20250415T182250Z
UID:48862-1744740000-1744743600@www.salemhome.ca
SUMMARY:Yolanda Wolfe
DESCRIPTION:
URL:https://www.salemhome.ca/event/movie-night-117/
CATEGORIES:Evergreen
END:VEVENT
END:VCALENDAR