BEGIN:VCALENDAR
VERSION:2.0
PRODID:-//Salem Home - ECPv6.15.20//NONSGML v1.0//EN
CALSCALE:GREGORIAN
METHOD:PUBLISH
X-ORIGINAL-URL:https://www.salemhome.ca
X-WR-CALDESC:Events for Salem Home
REFRESH-INTERVAL;VALUE=DURATION:PT1H
X-Robots-Tag:noindex
X-PUBLISHED-TTL:PT1H
BEGIN:VTIMEZONE
TZID:America/Winnipeg
BEGIN:DAYLIGHT
TZOFFSETFROM:-0600
TZOFFSETTO:-0500
TZNAME:CDT
DTSTART:20240310T080000
END:DAYLIGHT
BEGIN:STANDARD
TZOFFSETFROM:-0500
TZOFFSETTO:-0600
TZNAME:CST
DTSTART:20241103T070000
END:STANDARD
BEGIN:DAYLIGHT
TZOFFSETFROM:-0600
TZOFFSETTO:-0500
TZNAME:CDT
DTSTART:20250309T080000
END:DAYLIGHT
BEGIN:STANDARD
TZOFFSETFROM:-0500
TZOFFSETTO:-0600
TZNAME:CST
DTSTART:20251102T070000
END:STANDARD
BEGIN:DAYLIGHT
TZOFFSETFROM:-0600
TZOFFSETTO:-0500
TZNAME:CDT
DTSTART:20260308T080000
END:DAYLIGHT
BEGIN:STANDARD
TZOFFSETFROM:-0500
TZOFFSETTO:-0600
TZNAME:CST
DTSTART:20261101T070000
END:STANDARD
END:VTIMEZONE
BEGIN:VEVENT
DTSTART;TZID=America/Winnipeg:20250505T100000
DTEND;TZID=America/Winnipeg:20250505T110000
DTSTAMP:20260425T080733
CREATED:20250206T100028Z
LAST-MODIFIED:20250504T193728Z
UID:49761-1746439200-1746442800@www.salemhome.ca
SUMMARY:Men's Coffee Shop
DESCRIPTION:
URL:https://www.salemhome.ca/event/mens-coffee-shop-778/
CATEGORIES:Evergreen
END:VEVENT
BEGIN:VEVENT
DTSTART;TZID=America/Winnipeg:20250505T100000
DTEND;TZID=America/Winnipeg:20250505T110000
DTSTAMP:20260425T080733
CREATED:20250429T192240Z
LAST-MODIFIED:20250504T193728Z
UID:52900-1746439200-1746442800@www.salemhome.ca
SUMMARY:All About May
DESCRIPTION:
URL:https://www.salemhome.ca/event/all-about-may/
CATEGORIES:Evergreen
END:VEVENT
BEGIN:VEVENT
DTSTART;TZID=America/Winnipeg:20250505T140000
DTEND;TZID=America/Winnipeg:20250505T150000
DTSTAMP:20260425T080733
CREATED:20250429T192240Z
LAST-MODIFIED:20250505T193725Z
UID:52901-1746453600-1746457200@www.salemhome.ca
SUMMARY:Celebrate Birthday!
DESCRIPTION:
URL:https://www.salemhome.ca/event/celebrate-birthday-8/
CATEGORIES:Evergreen
END:VEVENT
BEGIN:VEVENT
DTSTART;TZID=America/Winnipeg:20250505T144500
DTEND;TZID=America/Winnipeg:20250505T154500
DTSTAMP:20260425T080733
CREATED:20250206T100028Z
LAST-MODIFIED:20250505T193725Z
UID:49762-1746456300-1746459900@www.salemhome.ca
SUMMARY:Men's Group
DESCRIPTION:Located on Evergreen\, residents from all care areas welcome.
URL:https://www.salemhome.ca/event/mens-group-773/
CATEGORIES:Evergreen
END:VEVENT
BEGIN:VEVENT
DTSTART;TZID=America/Winnipeg:20250505T150000
DTEND;TZID=America/Winnipeg:20250505T160000
DTSTAMP:20260425T080733
CREATED:20250429T192240Z
LAST-MODIFIED:20250505T193725Z
UID:52902-1746457200-1746460800@www.salemhome.ca
SUMMARY:Card Games
DESCRIPTION:
URL:https://www.salemhome.ca/event/card-games-5/
CATEGORIES:Evergreen
END:VEVENT
END:VCALENDAR