BEGIN:VCALENDAR
VERSION:2.0
PRODID:-//Salem Home - ECPv6.15.20//NONSGML v1.0//EN
CALSCALE:GREGORIAN
METHOD:PUBLISH
X-WR-CALNAME:Salem Home
X-ORIGINAL-URL:https://www.salemhome.ca
X-WR-CALDESC:Events for Salem Home
REFRESH-INTERVAL;VALUE=DURATION:PT1H
X-Robots-Tag:noindex
X-PUBLISHED-TTL:PT1H
BEGIN:VTIMEZONE
TZID:America/Winnipeg
BEGIN:DAYLIGHT
TZOFFSETFROM:-0600
TZOFFSETTO:-0500
TZNAME:CDT
DTSTART:20240310T080000
END:DAYLIGHT
BEGIN:STANDARD
TZOFFSETFROM:-0500
TZOFFSETTO:-0600
TZNAME:CST
DTSTART:20241103T070000
END:STANDARD
BEGIN:DAYLIGHT
TZOFFSETFROM:-0600
TZOFFSETTO:-0500
TZNAME:CDT
DTSTART:20250309T080000
END:DAYLIGHT
BEGIN:STANDARD
TZOFFSETFROM:-0500
TZOFFSETTO:-0600
TZNAME:CST
DTSTART:20251102T070000
END:STANDARD
BEGIN:DAYLIGHT
TZOFFSETFROM:-0600
TZOFFSETTO:-0500
TZNAME:CDT
DTSTART:20260308T080000
END:DAYLIGHT
BEGIN:STANDARD
TZOFFSETFROM:-0500
TZOFFSETTO:-0600
TZNAME:CST
DTSTART:20261101T070000
END:STANDARD
END:VTIMEZONE
BEGIN:VEVENT
DTSTART;TZID=America/Winnipeg:20250520T100000
DTEND;TZID=America/Winnipeg:20250520T110000
DTSTAMP:20260425T062858
CREATED:20250215T101552Z
LAST-MODIFIED:20250519T202347Z
UID:49979-1747735200-1747738800@www.salemhome.ca
SUMMARY:Men's Coffee Shop
DESCRIPTION:
URL:https://www.salemhome.ca/event/mens-coffee-shop-801/
CATEGORIES:Evergreen
END:VEVENT
BEGIN:VEVENT
DTSTART;TZID=America/Winnipeg:20250520T100000
DTEND;TZID=America/Winnipeg:20250520T110000
DTSTAMP:20260425T062858
CREATED:20250326T172240Z
LAST-MODIFIED:20250519T202347Z
UID:51476-1747735200-1747738800@www.salemhome.ca
SUMMARY:Move With Grace
DESCRIPTION:
URL:https://www.salemhome.ca/event/move-with-grace-42/
CATEGORIES:Evergreen
END:VEVENT
BEGIN:VEVENT
DTSTART;TZID=America/Winnipeg:20250520T150000
DTEND;TZID=America/Winnipeg:20250520T160000
DTSTAMP:20260425T062858
CREATED:20250429T192244Z
LAST-MODIFIED:20250519T202347Z
UID:52920-1747753200-1747756800@www.salemhome.ca
SUMMARY:Gardening
DESCRIPTION:
URL:https://www.salemhome.ca/event/gardening-10/
CATEGORIES:Evergreen
END:VEVENT
BEGIN:VEVENT
DTSTART;TZID=America/Winnipeg:20250520T180000
DTEND;TZID=America/Winnipeg:20250520T190000
DTSTAMP:20260425T062858
CREATED:20250215T101552Z
LAST-MODIFIED:20250519T202347Z
UID:49980-1747764000-1747767600@www.salemhome.ca
SUMMARY:Yolanda Wolfe
DESCRIPTION:
URL:https://www.salemhome.ca/event/movie-night-122/
CATEGORIES:Evergreen
END:VEVENT
END:VCALENDAR