BEGIN:VCALENDAR
VERSION:2.0
PRODID:-//Salem Home - ECPv6.15.20//NONSGML v1.0//EN
CALSCALE:GREGORIAN
METHOD:PUBLISH
X-WR-CALNAME:Salem Home
X-ORIGINAL-URL:https://www.salemhome.ca
X-WR-CALDESC:Events for Salem Home
REFRESH-INTERVAL;VALUE=DURATION:PT1H
X-Robots-Tag:noindex
X-PUBLISHED-TTL:PT1H
BEGIN:VTIMEZONE
TZID:America/Winnipeg
BEGIN:DAYLIGHT
TZOFFSETFROM:-0600
TZOFFSETTO:-0500
TZNAME:CDT
DTSTART:20240310T080000
END:DAYLIGHT
BEGIN:STANDARD
TZOFFSETFROM:-0500
TZOFFSETTO:-0600
TZNAME:CST
DTSTART:20241103T070000
END:STANDARD
BEGIN:DAYLIGHT
TZOFFSETFROM:-0600
TZOFFSETTO:-0500
TZNAME:CDT
DTSTART:20250309T080000
END:DAYLIGHT
BEGIN:STANDARD
TZOFFSETFROM:-0500
TZOFFSETTO:-0600
TZNAME:CST
DTSTART:20251102T070000
END:STANDARD
BEGIN:DAYLIGHT
TZOFFSETFROM:-0600
TZOFFSETTO:-0500
TZNAME:CDT
DTSTART:20260308T080000
END:DAYLIGHT
BEGIN:STANDARD
TZOFFSETFROM:-0500
TZOFFSETTO:-0600
TZNAME:CST
DTSTART:20261101T070000
END:STANDARD
END:VTIMEZONE
BEGIN:VEVENT
DTSTART;TZID=America/Winnipeg:20250529T103000
DTEND;TZID=America/Winnipeg:20250529T113000
DTSTAMP:20260425T094250
CREATED:20250429T192246Z
LAST-MODIFIED:20250519T202349Z
UID:52931-1748514600-1748518200@www.salemhome.ca
SUMMARY:Chapel: Winkler EMMC
DESCRIPTION:
URL:https://www.salemhome.ca/event/chapel-winkler-emmc-48/
CATEGORIES:Evergreen
END:VEVENT
BEGIN:VEVENT
DTSTART;TZID=America/Winnipeg:20250529T110000
DTEND;TZID=America/Winnipeg:20250529T120000
DTSTAMP:20260425T094250
CREATED:20250222T103026Z
LAST-MODIFIED:20250519T202349Z
UID:50177-1748516400-1748520000@www.salemhome.ca
SUMMARY:Spa Day
DESCRIPTION:
URL:https://www.salemhome.ca/event/spa-day-122/
CATEGORIES:Evergreen
END:VEVENT
BEGIN:VEVENT
DTSTART;TZID=America/Winnipeg:20250529T150000
DTEND;TZID=America/Winnipeg:20250529T160000
DTSTAMP:20260425T094250
CREATED:20250429T192247Z
LAST-MODIFIED:20250519T202350Z
UID:52933-1748530800-1748534400@www.salemhome.ca
SUMMARY:Ladies Coffee - Omas
DESCRIPTION:
URL:https://www.salemhome.ca/event/ladies-coffee-omas-11/
CATEGORIES:Evergreen
END:VEVENT
BEGIN:VEVENT
DTSTART;TZID=America/Winnipeg:20250529T150000
DTEND;TZID=America/Winnipeg:20250529T160000
DTSTAMP:20260425T094250
CREATED:20250429T192247Z
LAST-MODIFIED:20250519T202349Z
UID:52932-1748530800-1748534400@www.salemhome.ca
SUMMARY:Move It To Music
DESCRIPTION:
URL:https://www.salemhome.ca/event/move-it-to-music-10/
CATEGORIES:Evergreen
END:VEVENT
END:VCALENDAR