BEGIN:VCALENDAR
VERSION:2.0
PRODID:-//Salem Home - ECPv6.15.20//NONSGML v1.0//EN
CALSCALE:GREGORIAN
METHOD:PUBLISH
X-ORIGINAL-URL:https://www.salemhome.ca
X-WR-CALDESC:Events for Salem Home
REFRESH-INTERVAL;VALUE=DURATION:PT1H
X-Robots-Tag:noindex
X-PUBLISHED-TTL:PT1H
BEGIN:VTIMEZONE
TZID:America/Winnipeg
BEGIN:DAYLIGHT
TZOFFSETFROM:-0600
TZOFFSETTO:-0500
TZNAME:CDT
DTSTART:20240310T080000
END:DAYLIGHT
BEGIN:STANDARD
TZOFFSETFROM:-0500
TZOFFSETTO:-0600
TZNAME:CST
DTSTART:20241103T070000
END:STANDARD
BEGIN:DAYLIGHT
TZOFFSETFROM:-0600
TZOFFSETTO:-0500
TZNAME:CDT
DTSTART:20250309T080000
END:DAYLIGHT
BEGIN:STANDARD
TZOFFSETFROM:-0500
TZOFFSETTO:-0600
TZNAME:CST
DTSTART:20251102T070000
END:STANDARD
BEGIN:DAYLIGHT
TZOFFSETFROM:-0600
TZOFFSETTO:-0500
TZNAME:CDT
DTSTART:20260308T080000
END:DAYLIGHT
BEGIN:STANDARD
TZOFFSETFROM:-0500
TZOFFSETTO:-0600
TZNAME:CST
DTSTART:20261101T070000
END:STANDARD
END:VTIMEZONE
BEGIN:VEVENT
DTSTART;TZID=America/Winnipeg:20250807T100000
DTEND;TZID=America/Winnipeg:20250807T110000
DTSTAMP:20260422T210925
CREATED:20250720T115524Z
LAST-MODIFIED:20250807T131429Z
UID:55739-1754560800-1754564400@www.salemhome.ca
SUMMARY:Hymn Sing
DESCRIPTION:
URL:https://www.salemhome.ca/event/hymn-sing-613/
CATEGORIES:Evergreen
END:VEVENT
BEGIN:VEVENT
DTSTART;TZID=America/Winnipeg:20250807T103000
DTEND;TZID=America/Winnipeg:20250807T113000
DTSTAMP:20260422T210925
CREATED:20250729T125521Z
LAST-MODIFIED:20250807T131429Z
UID:56207-1754562600-1754566200@www.salemhome.ca
SUMMARY:Chapel
DESCRIPTION:
URL:https://www.salemhome.ca/event/chapel-749/
CATEGORIES:Evergreen
END:VEVENT
BEGIN:VEVENT
DTSTART;TZID=America/Winnipeg:20250807T110000
DTEND;TZID=America/Winnipeg:20250807T120000
DTSTAMP:20260422T210925
CREATED:20250516T200747Z
LAST-MODIFIED:20250807T131429Z
UID:53384-1754564400-1754568000@www.salemhome.ca
SUMMARY:Spa Day
DESCRIPTION:
URL:https://www.salemhome.ca/event/spa-day-132/
CATEGORIES:Evergreen
END:VEVENT
BEGIN:VEVENT
DTSTART;TZID=America/Winnipeg:20250807T150000
DTEND;TZID=America/Winnipeg:20250807T160000
DTSTAMP:20260422T210925
CREATED:20250729T125522Z
LAST-MODIFIED:20250807T131429Z
UID:56208-1754578800-1754582400@www.salemhome.ca
SUMMARY:Move to Music
DESCRIPTION:
URL:https://www.salemhome.ca/event/move-to-music-3/
CATEGORIES:Evergreen
END:VEVENT
END:VCALENDAR