BEGIN:VCALENDAR
VERSION:2.0
PRODID:-//Salem Home - ECPv6.15.20//NONSGML v1.0//EN
CALSCALE:GREGORIAN
METHOD:PUBLISH
X-WR-CALNAME:Salem Home
X-ORIGINAL-URL:https://www.salemhome.ca
X-WR-CALDESC:Events for Salem Home
REFRESH-INTERVAL;VALUE=DURATION:PT1H
X-Robots-Tag:noindex
X-PUBLISHED-TTL:PT1H
BEGIN:VTIMEZONE
TZID:America/Winnipeg
BEGIN:DAYLIGHT
TZOFFSETFROM:-0600
TZOFFSETTO:-0500
TZNAME:CDT
DTSTART:20240310T080000
END:DAYLIGHT
BEGIN:STANDARD
TZOFFSETFROM:-0500
TZOFFSETTO:-0600
TZNAME:CST
DTSTART:20241103T070000
END:STANDARD
BEGIN:DAYLIGHT
TZOFFSETFROM:-0600
TZOFFSETTO:-0500
TZNAME:CDT
DTSTART:20250309T080000
END:DAYLIGHT
BEGIN:STANDARD
TZOFFSETFROM:-0500
TZOFFSETTO:-0600
TZNAME:CST
DTSTART:20251102T070000
END:STANDARD
BEGIN:DAYLIGHT
TZOFFSETFROM:-0600
TZOFFSETTO:-0500
TZNAME:CDT
DTSTART:20260308T080000
END:DAYLIGHT
BEGIN:STANDARD
TZOFFSETFROM:-0500
TZOFFSETTO:-0600
TZNAME:CST
DTSTART:20261101T070000
END:STANDARD
END:VTIMEZONE
BEGIN:VEVENT
DTSTART;TZID=America/Winnipeg:20250812T100000
DTEND;TZID=America/Winnipeg:20250812T110000
DTSTAMP:20260423T104842
CREATED:20250611T211125Z
LAST-MODIFIED:20250812T134412Z
UID:54268-1754992800-1754996400@www.salemhome.ca
SUMMARY:Move With Grace
DESCRIPTION:
URL:https://www.salemhome.ca/event/move-with-grace-102/
CATEGORIES:Evergreen
END:VEVENT
BEGIN:VEVENT
DTSTART;TZID=America/Winnipeg:20250812T100000
DTEND;TZID=America/Winnipeg:20250812T110000
DTSTAMP:20260423T104842
CREATED:20250611T211125Z
LAST-MODIFIED:20250812T134412Z
UID:54269-1754992800-1754996400@www.salemhome.ca
SUMMARY:Men's Coffee Shop
DESCRIPTION:
URL:https://www.salemhome.ca/event/mens-coffee-shop-937/
CATEGORIES:Evergreen
END:VEVENT
BEGIN:VEVENT
DTSTART;TZID=America/Winnipeg:20250812T150000
DTEND;TZID=America/Winnipeg:20250812T160000
DTSTAMP:20260423T104842
CREATED:20250729T125523Z
LAST-MODIFIED:20250812T134412Z
UID:56213-1755010800-1755014400@www.salemhome.ca
SUMMARY:Balloon Volleyball
DESCRIPTION:
URL:https://www.salemhome.ca/event/balloon-volleyball-4/
CATEGORIES:Evergreen
END:VEVENT
BEGIN:VEVENT
DTSTART;TZID=America/Winnipeg:20250812T180000
DTEND;TZID=America/Winnipeg:20250812T190000
DTSTAMP:20260423T104842
CREATED:20250611T211126Z
LAST-MODIFIED:20250812T134412Z
UID:54270-1755021600-1755025200@www.salemhome.ca
SUMMARY:Movie Night
DESCRIPTION:
URL:https://www.salemhome.ca/event/movie-night-135/
CATEGORIES:Evergreen
END:VEVENT
END:VCALENDAR