BEGIN:VCALENDAR
VERSION:2.0
PRODID:-//Salem Home - ECPv6.15.20//NONSGML v1.0//EN
CALSCALE:GREGORIAN
METHOD:PUBLISH
X-ORIGINAL-URL:https://www.salemhome.ca
X-WR-CALDESC:Events for Salem Home
REFRESH-INTERVAL;VALUE=DURATION:PT1H
X-Robots-Tag:noindex
X-PUBLISHED-TTL:PT1H
BEGIN:VTIMEZONE
TZID:America/Winnipeg
BEGIN:DAYLIGHT
TZOFFSETFROM:-0600
TZOFFSETTO:-0500
TZNAME:CDT
DTSTART:20240310T080000
END:DAYLIGHT
BEGIN:STANDARD
TZOFFSETFROM:-0500
TZOFFSETTO:-0600
TZNAME:CST
DTSTART:20241103T070000
END:STANDARD
BEGIN:DAYLIGHT
TZOFFSETFROM:-0600
TZOFFSETTO:-0500
TZNAME:CDT
DTSTART:20250309T080000
END:DAYLIGHT
BEGIN:STANDARD
TZOFFSETFROM:-0500
TZOFFSETTO:-0600
TZNAME:CST
DTSTART:20251102T070000
END:STANDARD
BEGIN:DAYLIGHT
TZOFFSETFROM:-0600
TZOFFSETTO:-0500
TZNAME:CDT
DTSTART:20260308T080000
END:DAYLIGHT
BEGIN:STANDARD
TZOFFSETFROM:-0500
TZOFFSETTO:-0600
TZNAME:CST
DTSTART:20261101T070000
END:STANDARD
END:VTIMEZONE
BEGIN:VEVENT
DTSTART;TZID=America/Winnipeg:20250814T100000
DTEND;TZID=America/Winnipeg:20250814T110000
DTSTAMP:20260422T224749
CREATED:20250720T115526Z
LAST-MODIFIED:20250814T135859Z
UID:55742-1755165600-1755169200@www.salemhome.ca
SUMMARY:Hymn Sing
DESCRIPTION:
URL:https://www.salemhome.ca/event/hymn-sing-614/
CATEGORIES:Evergreen
END:VEVENT
BEGIN:VEVENT
DTSTART;TZID=America/Winnipeg:20250814T103000
DTEND;TZID=America/Winnipeg:20250814T113000
DTSTAMP:20260422T224749
CREATED:20250729T125524Z
LAST-MODIFIED:20250814T135859Z
UID:56214-1755167400-1755171000@www.salemhome.ca
SUMMARY:Chapel Old Colony Mennonite
DESCRIPTION:
URL:https://www.salemhome.ca/event/chapel-old-colony-mennonite-94/
CATEGORIES:Evergreen
END:VEVENT
BEGIN:VEVENT
DTSTART;TZID=America/Winnipeg:20250814T110000
DTEND;TZID=America/Winnipeg:20250814T120000
DTSTAMP:20260422T224749
CREATED:20250611T211127Z
LAST-MODIFIED:20250814T135859Z
UID:54274-1755169200-1755172800@www.salemhome.ca
SUMMARY:Spa Day
DESCRIPTION:
URL:https://www.salemhome.ca/event/spa-day-133/
CATEGORIES:Evergreen
END:VEVENT
END:VCALENDAR