BEGIN:VCALENDAR
VERSION:2.0
PRODID:-//Salem Home - ECPv6.15.20//NONSGML v1.0//EN
CALSCALE:GREGORIAN
METHOD:PUBLISH
X-ORIGINAL-URL:https://www.salemhome.ca
X-WR-CALDESC:Events for Salem Home
REFRESH-INTERVAL;VALUE=DURATION:PT1H
X-Robots-Tag:noindex
X-PUBLISHED-TTL:PT1H
BEGIN:VTIMEZONE
TZID:America/Winnipeg
BEGIN:DAYLIGHT
TZOFFSETFROM:-0600
TZOFFSETTO:-0500
TZNAME:CDT
DTSTART:20240310T080000
END:DAYLIGHT
BEGIN:STANDARD
TZOFFSETFROM:-0500
TZOFFSETTO:-0600
TZNAME:CST
DTSTART:20241103T070000
END:STANDARD
BEGIN:DAYLIGHT
TZOFFSETFROM:-0600
TZOFFSETTO:-0500
TZNAME:CDT
DTSTART:20250309T080000
END:DAYLIGHT
BEGIN:STANDARD
TZOFFSETFROM:-0500
TZOFFSETTO:-0600
TZNAME:CST
DTSTART:20251102T070000
END:STANDARD
BEGIN:DAYLIGHT
TZOFFSETFROM:-0600
TZOFFSETTO:-0500
TZNAME:CDT
DTSTART:20260308T080000
END:DAYLIGHT
BEGIN:STANDARD
TZOFFSETFROM:-0500
TZOFFSETTO:-0600
TZNAME:CST
DTSTART:20261101T070000
END:STANDARD
END:VTIMEZONE
BEGIN:VEVENT
DTSTART;TZID=America/Winnipeg:20250818T100000
DTEND;TZID=America/Winnipeg:20250818T110000
DTSTAMP:20260422T211053
CREATED:20250611T211128Z
LAST-MODIFIED:20250818T135859Z
UID:54282-1755511200-1755514800@www.salemhome.ca
SUMMARY:Men's Coffee Shop
DESCRIPTION:
URL:https://www.salemhome.ca/event/mens-coffee-shop-940/
CATEGORIES:Evergreen
END:VEVENT
BEGIN:VEVENT
DTSTART;TZID=America/Winnipeg:20250818T100000
DTEND;TZID=America/Winnipeg:20250818T110000
DTSTAMP:20260422T211053
CREATED:20250729T125525Z
LAST-MODIFIED:20250818T135859Z
UID:56218-1755511200-1755514800@www.salemhome.ca
SUMMARY:Devotions and Reminiscing
DESCRIPTION:
URL:https://www.salemhome.ca/event/devotions-and-reminiscing/
CATEGORIES:Evergreen
END:VEVENT
BEGIN:VEVENT
DTSTART;TZID=America/Winnipeg:20250818T144500
DTEND;TZID=America/Winnipeg:20250818T154500
DTSTAMP:20260422T211053
CREATED:20250611T211128Z
LAST-MODIFIED:20250818T135859Z
UID:54283-1755528300-1755531900@www.salemhome.ca
SUMMARY:Men's Group
DESCRIPTION:Located on Evergreen\, residents from all care areas welcome.
URL:https://www.salemhome.ca/event/mens-group-878/
CATEGORIES:Evergreen
END:VEVENT
BEGIN:VEVENT
DTSTART;TZID=America/Winnipeg:20250818T150000
DTEND;TZID=America/Winnipeg:20250818T160000
DTSTAMP:20260422T211053
CREATED:20250729T125525Z
LAST-MODIFIED:20250818T135859Z
UID:56219-1755529200-1755532800@www.salemhome.ca
SUMMARY:Name 10 Things
DESCRIPTION:
URL:https://www.salemhome.ca/event/name-10-things-2/
CATEGORIES:Evergreen
END:VEVENT
END:VCALENDAR