BEGIN:VCALENDAR
VERSION:2.0
PRODID:-//Salem Home - ECPv6.15.20//NONSGML v1.0//EN
CALSCALE:GREGORIAN
METHOD:PUBLISH
X-ORIGINAL-URL:https://www.salemhome.ca
X-WR-CALDESC:Events for Salem Home
REFRESH-INTERVAL;VALUE=DURATION:PT1H
X-Robots-Tag:noindex
X-PUBLISHED-TTL:PT1H
BEGIN:VTIMEZONE
TZID:America/Winnipeg
BEGIN:DAYLIGHT
TZOFFSETFROM:-0600
TZOFFSETTO:-0500
TZNAME:CDT
DTSTART:20240310T080000
END:DAYLIGHT
BEGIN:STANDARD
TZOFFSETFROM:-0500
TZOFFSETTO:-0600
TZNAME:CST
DTSTART:20241103T070000
END:STANDARD
BEGIN:DAYLIGHT
TZOFFSETFROM:-0600
TZOFFSETTO:-0500
TZNAME:CDT
DTSTART:20250309T080000
END:DAYLIGHT
BEGIN:STANDARD
TZOFFSETFROM:-0500
TZOFFSETTO:-0600
TZNAME:CST
DTSTART:20251102T070000
END:STANDARD
BEGIN:DAYLIGHT
TZOFFSETFROM:-0600
TZOFFSETTO:-0500
TZNAME:CDT
DTSTART:20260308T080000
END:DAYLIGHT
BEGIN:STANDARD
TZOFFSETFROM:-0500
TZOFFSETTO:-0600
TZNAME:CST
DTSTART:20261101T070000
END:STANDARD
END:VTIMEZONE
BEGIN:VEVENT
DTSTART;TZID=America/Winnipeg:20250902T100000
DTEND;TZID=America/Winnipeg:20250902T110000
DTSTAMP:20260424T150824
CREATED:20250611T211144Z
LAST-MODIFIED:20250902T144430Z
UID:54316-1756807200-1756810800@www.salemhome.ca
SUMMARY:Men's Coffee Shop
DESCRIPTION:
URL:https://www.salemhome.ca/event/mens-coffee-shop-949/
CATEGORIES:Evergreen
END:VEVENT
BEGIN:VEVENT
DTSTART;TZID=America/Winnipeg:20250902T100000
DTEND;TZID=America/Winnipeg:20250902T110000
DTSTAMP:20260424T150824
CREATED:20250611T211145Z
LAST-MODIFIED:20250825T142904Z
UID:54317-1756807200-1756810800@www.salemhome.ca
SUMMARY:Move With Grace
DESCRIPTION:
URL:https://www.salemhome.ca/event/move-with-grace-105/
CATEGORIES:Evergreen
END:VEVENT
BEGIN:VEVENT
DTSTART;TZID=America/Winnipeg:20250902T150000
DTEND;TZID=America/Winnipeg:20250902T160000
DTSTAMP:20260424T150824
CREATED:20250826T142906Z
LAST-MODIFIED:20250902T144430Z
UID:57071-1756825200-1756828800@www.salemhome.ca
SUMMARY:Horse Races
DESCRIPTION:
URL:https://www.salemhome.ca/event/horse-races/
CATEGORIES:Evergreen
END:VEVENT
BEGIN:VEVENT
DTSTART;TZID=America/Winnipeg:20250902T180000
DTEND;TZID=America/Winnipeg:20250902T190000
DTSTAMP:20260424T150824
CREATED:20250611T211145Z
LAST-MODIFIED:20250902T144430Z
UID:54318-1756836000-1756839600@www.salemhome.ca
SUMMARY:Movie Night
DESCRIPTION:
URL:https://www.salemhome.ca/event/movie-night-138/
CATEGORIES:Evergreen
END:VEVENT
END:VCALENDAR