BEGIN:VCALENDAR
VERSION:2.0
PRODID:-//Salem Home - ECPv6.15.20//NONSGML v1.0//EN
CALSCALE:GREGORIAN
METHOD:PUBLISH
X-ORIGINAL-URL:https://www.salemhome.ca
X-WR-CALDESC:Events for Salem Home
REFRESH-INTERVAL;VALUE=DURATION:PT1H
X-Robots-Tag:noindex
X-PUBLISHED-TTL:PT1H
BEGIN:VTIMEZONE
TZID:America/Winnipeg
BEGIN:DAYLIGHT
TZOFFSETFROM:-0600
TZOFFSETTO:-0500
TZNAME:CDT
DTSTART:20240310T080000
END:DAYLIGHT
BEGIN:STANDARD
TZOFFSETFROM:-0500
TZOFFSETTO:-0600
TZNAME:CST
DTSTART:20241103T070000
END:STANDARD
BEGIN:DAYLIGHT
TZOFFSETFROM:-0600
TZOFFSETTO:-0500
TZNAME:CDT
DTSTART:20250309T080000
END:DAYLIGHT
BEGIN:STANDARD
TZOFFSETFROM:-0500
TZOFFSETTO:-0600
TZNAME:CST
DTSTART:20251102T070000
END:STANDARD
BEGIN:DAYLIGHT
TZOFFSETFROM:-0600
TZOFFSETTO:-0500
TZNAME:CDT
DTSTART:20260308T080000
END:DAYLIGHT
BEGIN:STANDARD
TZOFFSETFROM:-0500
TZOFFSETTO:-0600
TZNAME:CST
DTSTART:20261101T070000
END:STANDARD
END:VTIMEZONE
BEGIN:VEVENT
DTSTART;TZID=America/Winnipeg:20251008T100000
DTEND;TZID=America/Winnipeg:20251008T110000
DTSTAMP:20260425T220236
CREATED:20250728T125548Z
LAST-MODIFIED:20250909T145950Z
UID:56124-1759917600-1759921200@www.salemhome.ca
SUMMARY:John & Irene Plantz
DESCRIPTION:
URL:https://www.salemhome.ca/event/john-irene-plantz-63/
CATEGORIES:Evergreen
END:VEVENT
BEGIN:VEVENT
DTSTART;TZID=America/Winnipeg:20251008T100000
DTEND;TZID=America/Winnipeg:20251008T110000
DTSTAMP:20260425T220236
CREATED:20250806T131435Z
LAST-MODIFIED:20250909T145950Z
UID:56476-1759917600-1759921200@www.salemhome.ca
SUMMARY:Men's Coffee Shop
DESCRIPTION:
URL:https://www.salemhome.ca/event/mens-coffee-shop-1026/
CATEGORIES:Evergreen
END:VEVENT
BEGIN:VEVENT
DTSTART;TZID=America/Winnipeg:20251008T144500
DTEND;TZID=America/Winnipeg:20251008T154500
DTSTAMP:20260425T220236
CREATED:20250806T131435Z
LAST-MODIFIED:20250909T145950Z
UID:56478-1759934700-1759938300@www.salemhome.ca
SUMMARY:Men's Coffee Shop
DESCRIPTION:
URL:https://www.salemhome.ca/event/mens-coffee-shop-1027/
CATEGORIES:Evergreen
END:VEVENT
BEGIN:VEVENT
DTSTART;TZID=America/Winnipeg:20251008T144500
DTEND;TZID=America/Winnipeg:20251008T154500
DTSTAMP:20260425T220236
CREATED:20250806T131435Z
LAST-MODIFIED:20250909T145950Z
UID:56479-1759934700-1759938300@www.salemhome.ca
SUMMARY:Bingo
DESCRIPTION:
URL:https://www.salemhome.ca/event/bingo-963/
CATEGORIES:Evergreen
END:VEVENT
END:VCALENDAR