BEGIN:VCALENDAR
VERSION:2.0
PRODID:-//Salem Home - ECPv6.15.20//NONSGML v1.0//EN
CALSCALE:GREGORIAN
METHOD:PUBLISH
X-ORIGINAL-URL:https://www.salemhome.ca
X-WR-CALDESC:Events for Salem Home
REFRESH-INTERVAL;VALUE=DURATION:PT1H
X-Robots-Tag:noindex
X-PUBLISHED-TTL:PT1H
BEGIN:VTIMEZONE
TZID:America/Winnipeg
BEGIN:DAYLIGHT
TZOFFSETFROM:-0600
TZOFFSETTO:-0500
TZNAME:CDT
DTSTART:20240310T080000
END:DAYLIGHT
BEGIN:STANDARD
TZOFFSETFROM:-0500
TZOFFSETTO:-0600
TZNAME:CST
DTSTART:20241103T070000
END:STANDARD
BEGIN:DAYLIGHT
TZOFFSETFROM:-0600
TZOFFSETTO:-0500
TZNAME:CDT
DTSTART:20250309T080000
END:DAYLIGHT
BEGIN:STANDARD
TZOFFSETFROM:-0500
TZOFFSETTO:-0600
TZNAME:CST
DTSTART:20251102T070000
END:STANDARD
BEGIN:DAYLIGHT
TZOFFSETFROM:-0600
TZOFFSETTO:-0500
TZNAME:CDT
DTSTART:20260308T080000
END:DAYLIGHT
BEGIN:STANDARD
TZOFFSETFROM:-0500
TZOFFSETTO:-0600
TZNAME:CST
DTSTART:20261101T070000
END:STANDARD
END:VTIMEZONE
BEGIN:VEVENT
DTSTART;TZID=America/Winnipeg:20251023T100000
DTEND;TZID=America/Winnipeg:20251023T110000
DTSTAMP:20260425T104408
CREATED:20250818T135930Z
LAST-MODIFIED:20251023T094401Z
UID:56824-1761213600-1761217200@www.salemhome.ca
SUMMARY:Hymn Sing
DESCRIPTION:
URL:https://www.salemhome.ca/event/hymn-sing-633/
CATEGORIES:Evergreen
END:VEVENT
BEGIN:VEVENT
DTSTART;TZID=America/Winnipeg:20251023T103000
DTEND;TZID=America/Winnipeg:20251023T113000
DTSTAMP:20260425T104408
CREATED:20250819T135931Z
LAST-MODIFIED:20251023T094400Z
UID:56847-1761215400-1761219000@www.salemhome.ca
SUMMARY:Zion Mennonite Church
DESCRIPTION:
URL:https://www.salemhome.ca/event/chapel-764/
CATEGORIES:Evergreen
END:VEVENT
BEGIN:VEVENT
DTSTART;TZID=America/Winnipeg:20251023T110000
DTEND;TZID=America/Winnipeg:20251023T120000
DTSTAMP:20260425T104408
CREATED:20250819T135932Z
LAST-MODIFIED:20251023T094401Z
UID:56849-1761217200-1761220800@www.salemhome.ca
SUMMARY:Spa Day
DESCRIPTION:
URL:https://www.salemhome.ca/event/spa-day-143/
CATEGORIES:Evergreen
END:VEVENT
BEGIN:VEVENT
DTSTART;TZID=America/Winnipeg:20251023T150000
DTEND;TZID=America/Winnipeg:20251023T160000
DTSTAMP:20260425T104408
CREATED:20251021T094457Z
LAST-MODIFIED:20251023T094401Z
UID:58651-1761231600-1761235200@www.salemhome.ca
SUMMARY:Pumpkin Decorating
DESCRIPTION:
URL:https://www.salemhome.ca/event/pumpkin-decorating-23/
CATEGORIES:Evergreen
END:VEVENT
END:VCALENDAR