BEGIN:VCALENDAR
VERSION:2.0
PRODID:-//Salem Home - ECPv6.15.20//NONSGML v1.0//EN
CALSCALE:GREGORIAN
METHOD:PUBLISH
X-WR-CALNAME:Salem Home
X-ORIGINAL-URL:https://www.salemhome.ca
X-WR-CALDESC:Events for Salem Home
REFRESH-INTERVAL;VALUE=DURATION:PT1H
X-Robots-Tag:noindex
X-PUBLISHED-TTL:PT1H
BEGIN:VTIMEZONE
TZID:America/Winnipeg
BEGIN:DAYLIGHT
TZOFFSETFROM:-0600
TZOFFSETTO:-0500
TZNAME:CDT
DTSTART:20240310T080000
END:DAYLIGHT
BEGIN:STANDARD
TZOFFSETFROM:-0500
TZOFFSETTO:-0600
TZNAME:CST
DTSTART:20241103T070000
END:STANDARD
BEGIN:DAYLIGHT
TZOFFSETFROM:-0600
TZOFFSETTO:-0500
TZNAME:CDT
DTSTART:20250309T080000
END:DAYLIGHT
BEGIN:STANDARD
TZOFFSETFROM:-0500
TZOFFSETTO:-0600
TZNAME:CST
DTSTART:20251102T070000
END:STANDARD
BEGIN:DAYLIGHT
TZOFFSETFROM:-0600
TZOFFSETTO:-0500
TZNAME:CDT
DTSTART:20260308T080000
END:DAYLIGHT
BEGIN:STANDARD
TZOFFSETFROM:-0500
TZOFFSETTO:-0600
TZNAME:CST
DTSTART:20261101T070000
END:STANDARD
END:VTIMEZONE
BEGIN:VEVENT
DTSTART;VALUE=DATE:20251031
DTEND;VALUE=DATE:20251101
DTSTAMP:20260425T103258
CREATED:20251021T094501Z
LAST-MODIFIED:20251031T102901Z
UID:58664-1761868800-1761955199@www.salemhome.ca
SUMMARY:Pumpkin Winner!
DESCRIPTION:
URL:https://www.salemhome.ca/event/pumpkin-winner-2/
CATEGORIES:Evergreen
END:VEVENT
BEGIN:VEVENT
DTSTART;TZID=America/Winnipeg:20251031T100000
DTEND;TZID=America/Winnipeg:20251031T110000
DTSTAMP:20260425T103258
CREATED:20250824T142933Z
LAST-MODIFIED:20251031T102901Z
UID:57012-1761904800-1761908400@www.salemhome.ca
SUMMARY:Men's Coffee Shop
DESCRIPTION:
URL:https://www.salemhome.ca/event/mens-coffee-shop-1062/
CATEGORIES:Evergreen
END:VEVENT
BEGIN:VEVENT
DTSTART;TZID=America/Winnipeg:20251031T101500
DTEND;TZID=America/Winnipeg:20251031T104500
DTSTAMP:20260425T103258
CREATED:20250824T142933Z
LAST-MODIFIED:20251031T102901Z
UID:57013-1761905700-1761907500@www.salemhome.ca
SUMMARY:Chapel
DESCRIPTION:
URL:https://www.salemhome.ca/event/chapel-768/
CATEGORIES:Evergreen
END:VEVENT
BEGIN:VEVENT
DTSTART;TZID=America/Winnipeg:20251031T110000
DTEND;TZID=America/Winnipeg:20251031T120000
DTSTAMP:20260425T103258
CREATED:20250825T142929Z
LAST-MODIFIED:20251031T102902Z
UID:57029-1761908400-1761912000@www.salemhome.ca
SUMMARY:Music by Dave Nickel
DESCRIPTION:
URL:https://www.salemhome.ca/event/music-by-dave-nickel-147/
CATEGORIES:Evergreen
END:VEVENT
BEGIN:VEVENT
DTSTART;TZID=America/Winnipeg:20251031T140000
DTEND;TZID=America/Winnipeg:20251031T150000
DTSTAMP:20260425T103258
CREATED:20250825T142929Z
LAST-MODIFIED:20251031T102902Z
UID:57030-1761919200-1761922800@www.salemhome.ca
SUMMARY:Music Therapy
DESCRIPTION:
URL:https://www.salemhome.ca/event/music-therapy-279/
CATEGORIES:Evergreen
END:VEVENT
BEGIN:VEVENT
DTSTART;TZID=America/Winnipeg:20251031T150000
DTEND;TZID=America/Winnipeg:20251031T160000
DTSTAMP:20260425T103258
CREATED:20250829T142936Z
LAST-MODIFIED:20251031T102902Z
UID:57381-1761922800-1761926400@www.salemhome.ca
SUMMARY:Spotify Favorites
DESCRIPTION:
URL:https://www.salemhome.ca/event/spotify-favorites-15/
CATEGORIES:Evergreen
END:VEVENT
END:VCALENDAR