BEGIN:VCALENDAR
VERSION:2.0
PRODID:-//Salem Home - ECPv6.15.20//NONSGML v1.0//EN
CALSCALE:GREGORIAN
METHOD:PUBLISH
X-WR-CALNAME:Salem Home
X-ORIGINAL-URL:https://www.salemhome.ca
X-WR-CALDESC:Events for Salem Home
REFRESH-INTERVAL;VALUE=DURATION:PT1H
X-Robots-Tag:noindex
X-PUBLISHED-TTL:PT1H
BEGIN:VTIMEZONE
TZID:America/Winnipeg
BEGIN:DAYLIGHT
TZOFFSETFROM:-0600
TZOFFSETTO:-0500
TZNAME:CDT
DTSTART:20240310T080000
END:DAYLIGHT
BEGIN:STANDARD
TZOFFSETFROM:-0500
TZOFFSETTO:-0600
TZNAME:CST
DTSTART:20241103T070000
END:STANDARD
BEGIN:DAYLIGHT
TZOFFSETFROM:-0600
TZOFFSETTO:-0500
TZNAME:CDT
DTSTART:20250309T080000
END:DAYLIGHT
BEGIN:STANDARD
TZOFFSETFROM:-0500
TZOFFSETTO:-0600
TZNAME:CST
DTSTART:20251102T070000
END:STANDARD
BEGIN:DAYLIGHT
TZOFFSETFROM:-0600
TZOFFSETTO:-0500
TZNAME:CDT
DTSTART:20260308T080000
END:DAYLIGHT
BEGIN:STANDARD
TZOFFSETFROM:-0500
TZOFFSETTO:-0600
TZNAME:CST
DTSTART:20261101T070000
END:STANDARD
END:VTIMEZONE
BEGIN:VEVENT
DTSTART;VALUE=DATE:20250525
DTEND;VALUE=DATE:20250526
DTSTAMP:20260424T045234
CREATED:20250219T103028Z
LAST-MODIFIED:20250519T202348Z
UID:50079-1748131200-1748217599@www.salemhome.ca
SUMMARY:Day of Rest
DESCRIPTION:
URL:https://www.salemhome.ca/event/day-of-rest-298/
CATEGORIES:Evergreen
END:VEVENT
BEGIN:VEVENT
DTSTART;TZID=America/Winnipeg:20250525T103000
DTEND;TZID=America/Winnipeg:20250525T113000
DTSTAMP:20260424T045234
CREATED:20250429T192245Z
LAST-MODIFIED:20250519T202348Z
UID:52927-1748169000-1748172600@www.salemhome.ca
SUMMARY:Chapel: Sommerfeld Mennonite
DESCRIPTION:
URL:https://www.salemhome.ca/event/chapel-sommerfeld-mennonite-56/
CATEGORIES:Evergreen
END:VEVENT
BEGIN:VEVENT
DTSTART;TZID=America/Winnipeg:20250526T100000
DTEND;TZID=America/Winnipeg:20250526T110000
DTSTAMP:20260424T045234
CREATED:20250220T103026Z
LAST-MODIFIED:20250519T202348Z
UID:50100-1748253600-1748257200@www.salemhome.ca
SUMMARY:Men's Coffee Shop
DESCRIPTION:
URL:https://www.salemhome.ca/event/mens-coffee-shop-811/
CATEGORIES:Evergreen
END:VEVENT
BEGIN:VEVENT
DTSTART;TZID=America/Winnipeg:20250526T144500
DTEND;TZID=America/Winnipeg:20250526T154500
DTSTAMP:20260424T045234
CREATED:20250220T103026Z
LAST-MODIFIED:20250519T202349Z
UID:50101-1748270700-1748274300@www.salemhome.ca
SUMMARY:Men's Group
DESCRIPTION:Located on Evergreen\, residents from all care areas welcome.
URL:https://www.salemhome.ca/event/mens-group-789/
CATEGORIES:Evergreen
END:VEVENT
BEGIN:VEVENT
DTSTART;TZID=America/Winnipeg:20250526T150000
DTEND;TZID=America/Winnipeg:20250526T160000
DTSTAMP:20260424T045234
CREATED:20250429T192246Z
LAST-MODIFIED:20250519T202349Z
UID:52928-1748271600-1748275200@www.salemhome.ca
SUMMARY:Games
DESCRIPTION:
URL:https://www.salemhome.ca/event/games-136/
CATEGORIES:Evergreen
END:VEVENT
BEGIN:VEVENT
DTSTART;TZID=America/Winnipeg:20250527T100000
DTEND;TZID=America/Winnipeg:20250527T110000
DTSTAMP:20260424T045234
CREATED:20250220T103026Z
LAST-MODIFIED:20250519T202349Z
UID:50102-1748340000-1748343600@www.salemhome.ca
SUMMARY:Men's Coffee Shop
DESCRIPTION:
URL:https://www.salemhome.ca/event/mens-coffee-shop-812/
CATEGORIES:Evergreen
END:VEVENT
BEGIN:VEVENT
DTSTART;TZID=America/Winnipeg:20250527T100000
DTEND;TZID=America/Winnipeg:20250527T110000
DTSTAMP:20260424T045234
CREATED:20250326T172242Z
LAST-MODIFIED:20250519T202349Z
UID:51478-1748340000-1748343600@www.salemhome.ca
SUMMARY:Move With Grace
DESCRIPTION:
URL:https://www.salemhome.ca/event/move-with-grace-43/
CATEGORIES:Evergreen
END:VEVENT
BEGIN:VEVENT
DTSTART;TZID=America/Winnipeg:20250527T150000
DTEND;TZID=America/Winnipeg:20250527T160000
DTSTAMP:20260424T045234
CREATED:20250429T192246Z
LAST-MODIFIED:20250519T202349Z
UID:52929-1748358000-1748361600@www.salemhome.ca
SUMMARY:Patio Visits
DESCRIPTION:
URL:https://www.salemhome.ca/event/patio-visits-3/
CATEGORIES:Evergreen
END:VEVENT
BEGIN:VEVENT
DTSTART;TZID=America/Winnipeg:20250527T180000
DTEND;TZID=America/Winnipeg:20250527T190000
DTSTAMP:20260424T045234
CREATED:20250220T103026Z
LAST-MODIFIED:20250519T202349Z
UID:50103-1748368800-1748372400@www.salemhome.ca
SUMMARY:Movie Night
DESCRIPTION:
URL:https://www.salemhome.ca/event/movie-night-123/
CATEGORIES:Evergreen
END:VEVENT
BEGIN:VEVENT
DTSTART;TZID=America/Winnipeg:20250528T094500
DTEND;TZID=America/Winnipeg:20250528T104500
DTSTAMP:20260424T045234
CREATED:20250429T192246Z
LAST-MODIFIED:20250519T202349Z
UID:52930-1748425500-1748429100@www.salemhome.ca
SUMMARY:Alzheimer's Walk
DESCRIPTION:
URL:https://www.salemhome.ca/event/alzheimers-walk-7/
CATEGORIES:Evergreen
END:VEVENT
BEGIN:VEVENT
DTSTART;TZID=America/Winnipeg:20250528T100000
DTEND;TZID=America/Winnipeg:20250528T110000
DTSTAMP:20260424T045234
CREATED:20250221T103028Z
LAST-MODIFIED:20250428T190824Z
UID:50144-1748426400-1748430000@www.salemhome.ca
SUMMARY:Men's Coffee Shop
DESCRIPTION:
URL:https://www.salemhome.ca/event/mens-coffee-shop-816/
CATEGORIES:Evergreen
END:VEVENT
BEGIN:VEVENT
DTSTART;TZID=America/Winnipeg:20250528T100000
DTEND;TZID=America/Winnipeg:20250528T110000
DTSTAMP:20260424T045234
CREATED:20250326T172242Z
LAST-MODIFIED:20250428T190823Z
UID:51479-1748426400-1748430000@www.salemhome.ca
SUMMARY:John & Irene Plantz
DESCRIPTION:
URL:https://www.salemhome.ca/event/john-irene-plantz-44/
CATEGORIES:Evergreen
END:VEVENT
BEGIN:VEVENT
DTSTART;TZID=America/Winnipeg:20250528T144500
DTEND;TZID=America/Winnipeg:20250528T154500
DTSTAMP:20260424T045234
CREATED:20250221T103028Z
LAST-MODIFIED:20250519T202349Z
UID:50145-1748443500-1748447100@www.salemhome.ca
SUMMARY:Men's Group
DESCRIPTION:Located on Maple North. Residents from all care areas are welcome to attend.
URL:https://www.salemhome.ca/event/mens-group-792/
CATEGORIES:Evergreen
END:VEVENT
BEGIN:VEVENT
DTSTART;TZID=America/Winnipeg:20250528T144500
DTEND;TZID=America/Winnipeg:20250528T154500
DTSTAMP:20260424T045234
CREATED:20250221T103028Z
LAST-MODIFIED:20250519T202349Z
UID:50146-1748443500-1748447100@www.salemhome.ca
SUMMARY:Bingo
DESCRIPTION:
URL:https://www.salemhome.ca/event/bingo-762/
CATEGORIES:Evergreen
END:VEVENT
BEGIN:VEVENT
DTSTART;TZID=America/Winnipeg:20250529T103000
DTEND;TZID=America/Winnipeg:20250529T113000
DTSTAMP:20260424T045234
CREATED:20250429T192246Z
LAST-MODIFIED:20250519T202349Z
UID:52931-1748514600-1748518200@www.salemhome.ca
SUMMARY:Chapel: Winkler EMMC
DESCRIPTION:
URL:https://www.salemhome.ca/event/chapel-winkler-emmc-48/
CATEGORIES:Evergreen
END:VEVENT
BEGIN:VEVENT
DTSTART;TZID=America/Winnipeg:20250529T110000
DTEND;TZID=America/Winnipeg:20250529T120000
DTSTAMP:20260424T045234
CREATED:20250222T103026Z
LAST-MODIFIED:20250519T202349Z
UID:50177-1748516400-1748520000@www.salemhome.ca
SUMMARY:Spa Day
DESCRIPTION:
URL:https://www.salemhome.ca/event/spa-day-122/
CATEGORIES:Evergreen
END:VEVENT
BEGIN:VEVENT
DTSTART;TZID=America/Winnipeg:20250529T150000
DTEND;TZID=America/Winnipeg:20250529T160000
DTSTAMP:20260424T045234
CREATED:20250429T192247Z
LAST-MODIFIED:20250519T202349Z
UID:52932-1748530800-1748534400@www.salemhome.ca
SUMMARY:Move It To Music
DESCRIPTION:
URL:https://www.salemhome.ca/event/move-it-to-music-10/
CATEGORIES:Evergreen
END:VEVENT
BEGIN:VEVENT
DTSTART;TZID=America/Winnipeg:20250529T150000
DTEND;TZID=America/Winnipeg:20250529T160000
DTSTAMP:20260424T045234
CREATED:20250429T192247Z
LAST-MODIFIED:20250519T202350Z
UID:52933-1748530800-1748534400@www.salemhome.ca
SUMMARY:Ladies Coffee - Omas
DESCRIPTION:
URL:https://www.salemhome.ca/event/ladies-coffee-omas-11/
CATEGORIES:Evergreen
END:VEVENT
BEGIN:VEVENT
DTSTART;TZID=America/Winnipeg:20250530T100000
DTEND;TZID=America/Winnipeg:20250530T110000
DTSTAMP:20260424T045234
CREATED:20250222T103026Z
LAST-MODIFIED:20250519T202350Z
UID:50180-1748599200-1748602800@www.salemhome.ca
SUMMARY:Men's Coffee Shop
DESCRIPTION:
URL:https://www.salemhome.ca/event/mens-coffee-shop-818/
CATEGORIES:Evergreen
END:VEVENT
BEGIN:VEVENT
DTSTART;TZID=America/Winnipeg:20250530T101500
DTEND;TZID=America/Winnipeg:20250530T104500
DTSTAMP:20260424T045234
CREATED:20250222T103026Z
LAST-MODIFIED:20250519T202350Z
UID:50178-1748600100-1748601900@www.salemhome.ca
SUMMARY:Chapel
DESCRIPTION:
URL:https://www.salemhome.ca/event/chapel-698/
CATEGORIES:Evergreen
END:VEVENT
BEGIN:VEVENT
DTSTART;TZID=America/Winnipeg:20250530T110000
DTEND;TZID=America/Winnipeg:20250530T120000
DTSTAMP:20260424T045234
CREATED:20250222T103026Z
LAST-MODIFIED:20250519T202350Z
UID:50179-1748602800-1748606400@www.salemhome.ca
SUMMARY:Music by Dave Nickel
DESCRIPTION:
URL:https://www.salemhome.ca/event/music-by-dave-nickel-125/
CATEGORIES:Evergreen
END:VEVENT
BEGIN:VEVENT
DTSTART;TZID=America/Winnipeg:20250530T140000
DTEND;TZID=America/Winnipeg:20250530T150000
DTSTAMP:20260424T045234
CREATED:20250223T103029Z
LAST-MODIFIED:20250519T202350Z
UID:50212-1748613600-1748617200@www.salemhome.ca
SUMMARY:Music Therapy
DESCRIPTION:
URL:https://www.salemhome.ca/event/music-therapy-244/
CATEGORIES:Evergreen
END:VEVENT
BEGIN:VEVENT
DTSTART;TZID=America/Winnipeg:20250531T100000
DTEND;TZID=America/Winnipeg:20250531T110000
DTSTAMP:20260424T045234
CREATED:20250223T103029Z
LAST-MODIFIED:20250324T170759Z
UID:50213-1748685600-1748689200@www.salemhome.ca
SUMMARY:Bingo
DESCRIPTION:
URL:https://www.salemhome.ca/event/bingo-765/
CATEGORIES:Evergreen
END:VEVENT
BEGIN:VEVENT
DTSTART;TZID=America/Winnipeg:20250531T100000
DTEND;TZID=America/Winnipeg:20250531T110000
DTSTAMP:20260424T045234
CREATED:20250429T192247Z
LAST-MODIFIED:20250519T202350Z
UID:52934-1748685600-1748689200@www.salemhome.ca
SUMMARY:Devotions
DESCRIPTION:
URL:https://www.salemhome.ca/event/devotions-126/
CATEGORIES:Evergreen
END:VEVENT
BEGIN:VEVENT
DTSTART;TZID=America/Winnipeg:20250531T103000
DTEND;TZID=America/Winnipeg:20250531T113000
DTSTAMP:20260424T045234
CREATED:20250429T192247Z
LAST-MODIFIED:20250519T202350Z
UID:52935-1748687400-1748691000@www.salemhome.ca
SUMMARY:Patio Visits
DESCRIPTION:
URL:https://www.salemhome.ca/event/patio-visits-4/
CATEGORIES:Evergreen
END:VEVENT
BEGIN:VEVENT
DTSTART;TZID=America/Winnipeg:20250531T150000
DTEND;TZID=America/Winnipeg:20250531T160000
DTSTAMP:20260424T045234
CREATED:20250326T172243Z
LAST-MODIFIED:20250519T202350Z
UID:51480-1748703600-1748707200@www.salemhome.ca
SUMMARY:Bingo
DESCRIPTION:
URL:https://www.salemhome.ca/event/bingo-812/
CATEGORIES:Evergreen
END:VEVENT
BEGIN:VEVENT
DTSTART;VALUE=DATE:20250601
DTEND;VALUE=DATE:20250602
DTSTAMP:20260424T045234
CREATED:20250224T104528Z
LAST-MODIFIED:20250519T202350Z
UID:50231-1748736000-1748822399@www.salemhome.ca
SUMMARY:Day of Rest
DESCRIPTION:
URL:https://www.salemhome.ca/event/day-of-rest-304/
CATEGORIES:Evergreen
END:VEVENT
BEGIN:VEVENT
DTSTART;TZID=America/Winnipeg:20250602T100000
DTEND;TZID=America/Winnipeg:20250602T110000
DTSTAMP:20260424T045234
CREATED:20250224T104528Z
LAST-MODIFIED:20250519T202350Z
UID:50232-1748858400-1748862000@www.salemhome.ca
SUMMARY:Men's Coffee Shop
DESCRIPTION:
URL:https://www.salemhome.ca/event/mens-coffee-shop-822/
CATEGORIES:Evergreen
END:VEVENT
BEGIN:VEVENT
DTSTART;TZID=America/Winnipeg:20250602T144500
DTEND;TZID=America/Winnipeg:20250602T154500
DTSTAMP:20260424T045234
CREATED:20250225T104527Z
LAST-MODIFIED:20250519T202350Z
UID:50250-1748875500-1748879100@www.salemhome.ca
SUMMARY:Men's Group
DESCRIPTION:Located on Evergreen\, residents from all care areas welcome.
URL:https://www.salemhome.ca/event/mens-group-796/
CATEGORIES:Evergreen
END:VEVENT
BEGIN:VEVENT
DTSTART;TZID=America/Winnipeg:20250603T100000
DTEND;TZID=America/Winnipeg:20250603T110000
DTSTAMP:20260424T045234
CREATED:20250225T104527Z
LAST-MODIFIED:20250519T202350Z
UID:50251-1748944800-1748948400@www.salemhome.ca
SUMMARY:Men's Coffee Shop
DESCRIPTION:
URL:https://www.salemhome.ca/event/mens-coffee-shop-825/
CATEGORIES:Evergreen
END:VEVENT
END:VCALENDAR