BEGIN:VCALENDAR
VERSION:2.0
PRODID:-//Salem Home - ECPv6.15.20//NONSGML v1.0//EN
CALSCALE:GREGORIAN
METHOD:PUBLISH
X-WR-CALNAME:Salem Home
X-ORIGINAL-URL:https://www.salemhome.ca
X-WR-CALDESC:Events for Salem Home
REFRESH-INTERVAL;VALUE=DURATION:PT1H
X-Robots-Tag:noindex
X-PUBLISHED-TTL:PT1H
BEGIN:VTIMEZONE
TZID:America/Winnipeg
BEGIN:DAYLIGHT
TZOFFSETFROM:-0600
TZOFFSETTO:-0500
TZNAME:CDT
DTSTART:20240310T080000
END:DAYLIGHT
BEGIN:STANDARD
TZOFFSETFROM:-0500
TZOFFSETTO:-0600
TZNAME:CST
DTSTART:20241103T070000
END:STANDARD
BEGIN:DAYLIGHT
TZOFFSETFROM:-0600
TZOFFSETTO:-0500
TZNAME:CDT
DTSTART:20250309T080000
END:DAYLIGHT
BEGIN:STANDARD
TZOFFSETFROM:-0500
TZOFFSETTO:-0600
TZNAME:CST
DTSTART:20251102T070000
END:STANDARD
BEGIN:DAYLIGHT
TZOFFSETFROM:-0600
TZOFFSETTO:-0500
TZNAME:CDT
DTSTART:20260308T080000
END:DAYLIGHT
BEGIN:STANDARD
TZOFFSETFROM:-0500
TZOFFSETTO:-0600
TZNAME:CST
DTSTART:20261101T070000
END:STANDARD
END:VTIMEZONE
BEGIN:VEVENT
DTSTART;TZID=America/Winnipeg:20250723T144500
DTEND;TZID=America/Winnipeg:20250723T154500
DTSTAMP:20260423T082855
CREATED:20250428T190753Z
LAST-MODIFIED:20250723T121046Z
UID:52674-1753281900-1753285500@www.salemhome.ca
SUMMARY:Bingo
DESCRIPTION:
URL:https://www.salemhome.ca/event/bingo-848/
CATEGORIES:Evergreen
END:VEVENT
BEGIN:VEVENT
DTSTART;TZID=America/Winnipeg:20250723T144500
DTEND;TZID=America/Winnipeg:20250723T154500
DTSTAMP:20260423T082855
CREATED:20250428T190753Z
LAST-MODIFIED:20250723T121046Z
UID:52673-1753281900-1753285500@www.salemhome.ca
SUMMARY:Men's Group
DESCRIPTION:Located on Maple North. Residents from all care areas are welcome to attend.
URL:https://www.salemhome.ca/event/mens-group-843/
CATEGORIES:Evergreen
END:VEVENT
BEGIN:VEVENT
DTSTART;TZID=America/Winnipeg:20250724T100000
DTEND;TZID=America/Winnipeg:20250724T110000
DTSTAMP:20260423T082855
CREATED:20250720T115517Z
LAST-MODIFIED:20250724T121015Z
UID:55723-1753351200-1753354800@www.salemhome.ca
SUMMARY:Hymn Sing
DESCRIPTION:
URL:https://www.salemhome.ca/event/hymn-sing-611/
CATEGORIES:Evergreen
END:VEVENT
BEGIN:VEVENT
DTSTART;TZID=America/Winnipeg:20250724T103000
DTEND;TZID=America/Winnipeg:20250724T113000
DTSTAMP:20260423T082855
CREATED:20250720T115518Z
LAST-MODIFIED:20250724T121015Z
UID:55724-1753353000-1753356600@www.salemhome.ca
SUMMARY:Chapel:Winkler MB Church
DESCRIPTION:
URL:https://www.salemhome.ca/event/chapelwinkler-mb-church/
CATEGORIES:Evergreen
END:VEVENT
BEGIN:VEVENT
DTSTART;TZID=America/Winnipeg:20250724T110000
DTEND;TZID=America/Winnipeg:20250724T120000
DTSTAMP:20260423T082855
CREATED:20250508T195244Z
LAST-MODIFIED:20250724T121015Z
UID:53227-1753354800-1753358400@www.salemhome.ca
SUMMARY:Spa Day
DESCRIPTION:
URL:https://www.salemhome.ca/event/spa-day-130/
CATEGORIES:Evergreen
END:VEVENT
BEGIN:VEVENT
DTSTART;TZID=America/Winnipeg:20250724T150000
DTEND;TZID=America/Winnipeg:20250724T160000
DTSTAMP:20260423T082855
CREATED:20250720T115518Z
LAST-MODIFIED:20250724T121015Z
UID:55725-1753369200-1753372800@www.salemhome.ca
SUMMARY:Name 10 Things
DESCRIPTION:
URL:https://www.salemhome.ca/event/name-10-things/
CATEGORIES:Evergreen
END:VEVENT
BEGIN:VEVENT
DTSTART;TZID=America/Winnipeg:20250725T100000
DTEND;TZID=America/Winnipeg:20250725T110000
DTSTAMP:20260423T082855
CREATED:20250509T195248Z
LAST-MODIFIED:20250725T122543Z
UID:53236-1753437600-1753441200@www.salemhome.ca
SUMMARY:Men's Coffee Shop
DESCRIPTION:
URL:https://www.salemhome.ca/event/mens-coffee-shop-903/
CATEGORIES:Evergreen
END:VEVENT
BEGIN:VEVENT
DTSTART;TZID=America/Winnipeg:20250725T101500
DTEND;TZID=America/Winnipeg:20250725T104500
DTSTAMP:20260423T082855
CREATED:20250508T195244Z
LAST-MODIFIED:20250725T122543Z
UID:53228-1753438500-1753440300@www.salemhome.ca
SUMMARY:Chapel
DESCRIPTION:
URL:https://www.salemhome.ca/event/chapel-725/
CATEGORIES:Evergreen
END:VEVENT
BEGIN:VEVENT
DTSTART;TZID=America/Winnipeg:20250725T110000
DTEND;TZID=America/Winnipeg:20250725T120000
DTSTAMP:20260423T082855
CREATED:20250509T195248Z
LAST-MODIFIED:20250725T122543Z
UID:53235-1753441200-1753444800@www.salemhome.ca
SUMMARY:Music by Dave Nickel
DESCRIPTION:
URL:https://www.salemhome.ca/event/music-by-dave-nickel-133/
CATEGORIES:Evergreen
END:VEVENT
BEGIN:VEVENT
DTSTART;TZID=America/Winnipeg:20250725T140000
DTEND;TZID=America/Winnipeg:20250725T150000
DTSTAMP:20260423T082855
CREATED:20250509T195249Z
LAST-MODIFIED:20250725T122543Z
UID:53237-1753452000-1753455600@www.salemhome.ca
SUMMARY:Music Therapy
DESCRIPTION:
URL:https://www.salemhome.ca/event/music-therapy-257/
CATEGORIES:Evergreen
END:VEVENT
BEGIN:VEVENT
DTSTART;TZID=America/Winnipeg:20250725T150000
DTEND;TZID=America/Winnipeg:20250725T160000
DTSTAMP:20260423T082855
CREATED:20250720T115518Z
LAST-MODIFIED:20250725T122543Z
UID:55726-1753455600-1753459200@www.salemhome.ca
SUMMARY:Spotify Favorites
DESCRIPTION:
URL:https://www.salemhome.ca/event/spotify-favorites/
CATEGORIES:Evergreen
END:VEVENT
BEGIN:VEVENT
DTSTART;TZID=America/Winnipeg:20250726T100000
DTEND;TZID=America/Winnipeg:20250726T110000
DTSTAMP:20260423T082855
CREATED:20250720T115518Z
LAST-MODIFIED:20250726T124016Z
UID:55727-1753524000-1753527600@www.salemhome.ca
SUMMARY:Crokinole
DESCRIPTION:
URL:https://www.salemhome.ca/event/crokinole-49/
CATEGORIES:Evergreen
END:VEVENT
BEGIN:VEVENT
DTSTART;TZID=America/Winnipeg:20250726T150000
DTEND;TZID=America/Winnipeg:20250726T160000
DTSTAMP:20260423T082855
CREATED:20250509T195249Z
LAST-MODIFIED:20250726T124016Z
UID:53238-1753542000-1753545600@www.salemhome.ca
SUMMARY:Bingo
DESCRIPTION:
URL:https://www.salemhome.ca/event/bingo-861/
CATEGORIES:Evergreen
END:VEVENT
BEGIN:VEVENT
DTSTART;VALUE=DATE:20250727
DTEND;VALUE=DATE:20250728
DTSTAMP:20260423T082855
CREATED:20250510T195253Z
LAST-MODIFIED:20250727T124054Z
UID:53252-1753574400-1753660799@www.salemhome.ca
SUMMARY:Day of Rest
DESCRIPTION:
URL:https://www.salemhome.ca/event/day-of-rest-335/
CATEGORIES:Evergreen
END:VEVENT
BEGIN:VEVENT
DTSTART;TZID=America/Winnipeg:20250727T094500
DTEND;TZID=America/Winnipeg:20250727T104500
DTSTAMP:20260423T082855
CREATED:20250720T115519Z
LAST-MODIFIED:20250727T124059Z
UID:55728-1753609500-1753613100@www.salemhome.ca
SUMMARY:Chapel:Winkler Bergthaler
DESCRIPTION:
URL:https://www.salemhome.ca/event/chapelwinkler-bergthaler/
CATEGORIES:Evergreen
END:VEVENT
BEGIN:VEVENT
DTSTART;TZID=America/Winnipeg:20250728T100000
DTEND;TZID=America/Winnipeg:20250728T110000
DTSTAMP:20260423T082855
CREATED:20250510T195253Z
LAST-MODIFIED:20250728T125514Z
UID:53253-1753696800-1753700400@www.salemhome.ca
SUMMARY:Men's Coffee Shop
DESCRIPTION:
URL:https://www.salemhome.ca/event/mens-coffee-shop-904/
CATEGORIES:Evergreen
END:VEVENT
BEGIN:VEVENT
DTSTART;TZID=America/Winnipeg:20250728T100000
DTEND;TZID=America/Winnipeg:20250728T110000
DTSTAMP:20260423T082855
CREATED:20250720T115519Z
LAST-MODIFIED:20250728T125514Z
UID:55729-1753696800-1753700400@www.salemhome.ca
SUMMARY:Devotions
DESCRIPTION:
URL:https://www.salemhome.ca/event/devotions-128/
CATEGORIES:Evergreen
END:VEVENT
BEGIN:VEVENT
DTSTART;TZID=America/Winnipeg:20250728T144500
DTEND;TZID=America/Winnipeg:20250728T154500
DTSTAMP:20260423T082855
CREATED:20250511T195338Z
LAST-MODIFIED:20250728T125514Z
UID:53265-1753713900-1753717500@www.salemhome.ca
SUMMARY:Men's Group
DESCRIPTION:Located on Evergreen\, residents from all care areas welcome.
URL:https://www.salemhome.ca/event/mens-group-844/
CATEGORIES:Evergreen
END:VEVENT
BEGIN:VEVENT
DTSTART;TZID=America/Winnipeg:20250728T150000
DTEND;TZID=America/Winnipeg:20250728T160000
DTSTAMP:20260423T082855
CREATED:20250720T115519Z
LAST-MODIFIED:20250728T125514Z
UID:55730-1753714800-1753718400@www.salemhome.ca
SUMMARY:Sequence Game
DESCRIPTION:
URL:https://www.salemhome.ca/event/sequence-game/
CATEGORIES:Evergreen
END:VEVENT
BEGIN:VEVENT
DTSTART;TZID=America/Winnipeg:20250729T100000
DTEND;TZID=America/Winnipeg:20250729T110000
DTSTAMP:20260423T082855
CREATED:20250511T195339Z
LAST-MODIFIED:20250729T125541Z
UID:53266-1753783200-1753786800@www.salemhome.ca
SUMMARY:Men's Coffee Shop
DESCRIPTION:
URL:https://www.salemhome.ca/event/mens-coffee-shop-905/
CATEGORIES:Evergreen
END:VEVENT
BEGIN:VEVENT
DTSTART;TZID=America/Winnipeg:20250729T100000
DTEND;TZID=America/Winnipeg:20250729T110000
DTSTAMP:20260423T082855
CREATED:20250512T200845Z
LAST-MODIFIED:20250729T125541Z
UID:53276-1753783200-1753786800@www.salemhome.ca
SUMMARY:Move With Grace
DESCRIPTION:
URL:https://www.salemhome.ca/event/move-with-grace-72/
CATEGORIES:Evergreen
END:VEVENT
BEGIN:VEVENT
DTSTART;TZID=America/Winnipeg:20250729T150000
DTEND;TZID=America/Winnipeg:20250729T160000
DTSTAMP:20260423T082855
CREATED:20250720T115520Z
LAST-MODIFIED:20250729T125541Z
UID:55731-1753801200-1753804800@www.salemhome.ca
SUMMARY:Mental Aerobics
DESCRIPTION:
URL:https://www.salemhome.ca/event/mental-aerobics-57/
CATEGORIES:Evergreen
END:VEVENT
BEGIN:VEVENT
DTSTART;TZID=America/Winnipeg:20250729T180000
DTEND;TZID=America/Winnipeg:20250729T190000
DTSTAMP:20260423T082855
CREATED:20250512T200845Z
LAST-MODIFIED:20250729T125541Z
UID:53278-1753812000-1753815600@www.salemhome.ca
SUMMARY:Movie Night
DESCRIPTION:
URL:https://www.salemhome.ca/event/movie-night-133/
CATEGORIES:Evergreen
END:VEVENT
BEGIN:VEVENT
DTSTART;TZID=America/Winnipeg:20250730T100000
DTEND;TZID=America/Winnipeg:20250730T110000
DTSTAMP:20260423T082855
CREATED:20250512T200845Z
LAST-MODIFIED:20250730T125515Z
UID:53279-1753869600-1753873200@www.salemhome.ca
SUMMARY:Men's Coffee Shop
DESCRIPTION:
URL:https://www.salemhome.ca/event/mens-coffee-shop-906/
CATEGORIES:Evergreen
END:VEVENT
BEGIN:VEVENT
DTSTART;TZID=America/Winnipeg:20250730T100000
DTEND;TZID=America/Winnipeg:20250730T110000
DTSTAMP:20260423T082855
CREATED:20250512T200845Z
LAST-MODIFIED:20250730T125515Z
UID:53280-1753869600-1753873200@www.salemhome.ca
SUMMARY:John & Irene Plantz
DESCRIPTION:
URL:https://www.salemhome.ca/event/john-irene-plantz-53/
CATEGORIES:Evergreen
END:VEVENT
BEGIN:VEVENT
DTSTART;TZID=America/Winnipeg:20250730T144500
DTEND;TZID=America/Winnipeg:20250730T154500
DTSTAMP:20260423T082855
CREATED:20250513T200753Z
LAST-MODIFIED:20250730T125515Z
UID:53291-1753886700-1753890300@www.salemhome.ca
SUMMARY:Bingo
DESCRIPTION:
URL:https://www.salemhome.ca/event/bingo-862/
CATEGORIES:Evergreen
END:VEVENT
BEGIN:VEVENT
DTSTART;TZID=America/Winnipeg:20250730T144500
DTEND;TZID=America/Winnipeg:20250730T154500
DTSTAMP:20260423T082855
CREATED:20250720T115520Z
LAST-MODIFIED:20250730T125515Z
UID:55732-1753886700-1753890300@www.salemhome.ca
SUMMARY:Men's Coffee Shop
DESCRIPTION:
URL:https://www.salemhome.ca/event/mens-coffee-shop-987/
CATEGORIES:Evergreen
END:VEVENT
BEGIN:VEVENT
DTSTART;TZID=America/Winnipeg:20250731T100000
DTEND;TZID=America/Winnipeg:20250731T110000
DTSTAMP:20260423T082855
CREATED:20250720T115521Z
LAST-MODIFIED:20250731T125514Z
UID:55734-1753956000-1753959600@www.salemhome.ca
SUMMARY:Hymn Sing
DESCRIPTION:
URL:https://www.salemhome.ca/event/hymn-sing-612/
CATEGORIES:Evergreen
END:VEVENT
BEGIN:VEVENT
DTSTART;TZID=America/Winnipeg:20250731T103000
DTEND;TZID=America/Winnipeg:20250731T113000
DTSTAMP:20260423T082855
CREATED:20250720T115521Z
LAST-MODIFIED:20250731T125514Z
UID:55733-1753957800-1753961400@www.salemhome.ca
SUMMARY:Chapel:Sommerfeld Mennonite
DESCRIPTION:
URL:https://www.salemhome.ca/event/chapelsommerfeld-mennonite-2/
CATEGORIES:Evergreen
END:VEVENT
BEGIN:VEVENT
DTSTART;TZID=America/Winnipeg:20250731T110000
DTEND;TZID=America/Winnipeg:20250731T120000
DTSTAMP:20260423T082855
CREATED:20250513T200754Z
LAST-MODIFIED:20250731T125514Z
UID:53292-1753959600-1753963200@www.salemhome.ca
SUMMARY:Spa Day
DESCRIPTION:
URL:https://www.salemhome.ca/event/spa-day-131/
CATEGORIES:Evergreen
END:VEVENT
END:VCALENDAR