BEGIN:VCALENDAR
VERSION:2.0
PRODID:-//Salem Home - ECPv6.15.20//NONSGML v1.0//EN
CALSCALE:GREGORIAN
METHOD:PUBLISH
X-WR-CALNAME:Salem Home
X-ORIGINAL-URL:https://www.salemhome.ca
X-WR-CALDESC:Events for Salem Home
REFRESH-INTERVAL;VALUE=DURATION:PT1H
X-Robots-Tag:noindex
X-PUBLISHED-TTL:PT1H
BEGIN:VTIMEZONE
TZID:America/Winnipeg
BEGIN:DAYLIGHT
TZOFFSETFROM:-0600
TZOFFSETTO:-0500
TZNAME:CDT
DTSTART:20240310T080000
END:DAYLIGHT
BEGIN:STANDARD
TZOFFSETFROM:-0500
TZOFFSETTO:-0600
TZNAME:CST
DTSTART:20241103T070000
END:STANDARD
BEGIN:DAYLIGHT
TZOFFSETFROM:-0600
TZOFFSETTO:-0500
TZNAME:CDT
DTSTART:20250309T080000
END:DAYLIGHT
BEGIN:STANDARD
TZOFFSETFROM:-0500
TZOFFSETTO:-0600
TZNAME:CST
DTSTART:20251102T070000
END:STANDARD
BEGIN:DAYLIGHT
TZOFFSETFROM:-0600
TZOFFSETTO:-0500
TZNAME:CDT
DTSTART:20260308T080000
END:DAYLIGHT
BEGIN:STANDARD
TZOFFSETFROM:-0500
TZOFFSETTO:-0600
TZNAME:CST
DTSTART:20261101T070000
END:STANDARD
END:VTIMEZONE
BEGIN:VEVENT
DTSTART;TZID=America/Winnipeg:20250902T180000
DTEND;TZID=America/Winnipeg:20250902T190000
DTSTAMP:20260423T062556
CREATED:20250611T211145Z
LAST-MODIFIED:20250902T144430Z
UID:54318-1756836000-1756839600@www.salemhome.ca
SUMMARY:Movie Night
DESCRIPTION:
URL:https://www.salemhome.ca/event/movie-night-138/
CATEGORIES:Evergreen
END:VEVENT
BEGIN:VEVENT
DTSTART;TZID=America/Winnipeg:20250903T100000
DTEND;TZID=America/Winnipeg:20250903T110000
DTSTAMP:20260423T062556
CREATED:20250611T211145Z
LAST-MODIFIED:20250903T144401Z
UID:54319-1756893600-1756897200@www.salemhome.ca
SUMMARY:John & Irene Plantz
DESCRIPTION:
URL:https://www.salemhome.ca/event/john-irene-plantz-58/
CATEGORIES:Evergreen
END:VEVENT
BEGIN:VEVENT
DTSTART;TZID=America/Winnipeg:20250903T100000
DTEND;TZID=America/Winnipeg:20250903T110000
DTSTAMP:20260423T062556
CREATED:20250611T211145Z
LAST-MODIFIED:20250903T144401Z
UID:54320-1756893600-1756897200@www.salemhome.ca
SUMMARY:Men's Coffee Shop
DESCRIPTION:
URL:https://www.salemhome.ca/event/mens-coffee-shop-950/
CATEGORIES:Evergreen
END:VEVENT
BEGIN:VEVENT
DTSTART;TZID=America/Winnipeg:20250903T144500
DTEND;TZID=America/Winnipeg:20250903T154500
DTSTAMP:20260423T062556
CREATED:20250611T211146Z
LAST-MODIFIED:20250826T142908Z
UID:54321-1756910700-1756914300@www.salemhome.ca
SUMMARY:Men's Group
DESCRIPTION:Located on Maple North. Residents from all care areas are welcome to attend.
URL:https://www.salemhome.ca/event/mens-group-882/
CATEGORIES:Evergreen
END:VEVENT
BEGIN:VEVENT
DTSTART;TZID=America/Winnipeg:20250903T144500
DTEND;TZID=America/Winnipeg:20250903T154500
DTSTAMP:20260423T062556
CREATED:20250611T211146Z
LAST-MODIFIED:20250903T144401Z
UID:54322-1756910700-1756914300@www.salemhome.ca
SUMMARY:Bingo
DESCRIPTION:
URL:https://www.salemhome.ca/event/bingo-903/
CATEGORIES:Evergreen
END:VEVENT
BEGIN:VEVENT
DTSTART;TZID=America/Winnipeg:20250903T144500
DTEND;TZID=America/Winnipeg:20250903T154500
DTSTAMP:20260423T062556
CREATED:20250720T115534Z
LAST-MODIFIED:20250903T144401Z
UID:55750-1756910700-1756914300@www.salemhome.ca
SUMMARY:Men's Coffee Shop
DESCRIPTION:
URL:https://www.salemhome.ca/event/mens-coffee-shop-992/
CATEGORIES:Evergreen
END:VEVENT
BEGIN:VEVENT
DTSTART;TZID=America/Winnipeg:20250904T100000
DTEND;TZID=America/Winnipeg:20250904T110000
DTSTAMP:20260423T062556
CREATED:20250720T115537Z
LAST-MODIFIED:20250904T144424Z
UID:55751-1756980000-1756983600@www.salemhome.ca
SUMMARY:Hymn Sing
DESCRIPTION:
URL:https://www.salemhome.ca/event/hymn-sing-617/
CATEGORIES:Evergreen
END:VEVENT
BEGIN:VEVENT
DTSTART;TZID=America/Winnipeg:20250904T103000
DTEND;TZID=America/Winnipeg:20250904T113000
DTSTAMP:20260423T062556
CREATED:20250729T125532Z
LAST-MODIFIED:20250904T144424Z
UID:56234-1756981800-1756985400@www.salemhome.ca
SUMMARY:Country Harvest Church
DESCRIPTION:
URL:https://www.salemhome.ca/event/chapel-752/
CATEGORIES:Evergreen
END:VEVENT
BEGIN:VEVENT
DTSTART;TZID=America/Winnipeg:20250904T110000
DTEND;TZID=America/Winnipeg:20250904T120000
DTSTAMP:20260423T062556
CREATED:20250611T211146Z
LAST-MODIFIED:20250904T144424Z
UID:54323-1756983600-1756987200@www.salemhome.ca
SUMMARY:Spa Day
DESCRIPTION:
URL:https://www.salemhome.ca/event/spa-day-136/
CATEGORIES:Evergreen
END:VEVENT
BEGIN:VEVENT
DTSTART;TZID=America/Winnipeg:20250904T150000
DTEND;TZID=America/Winnipeg:20250904T160000
DTSTAMP:20260423T062556
CREATED:20250827T142912Z
LAST-MODIFIED:20250904T144425Z
UID:57244-1756998000-1757001600@www.salemhome.ca
SUMMARY:Card Games
DESCRIPTION:
URL:https://www.salemhome.ca/event/card-games-7/
CATEGORIES:Evergreen
END:VEVENT
BEGIN:VEVENT
DTSTART;TZID=America/Winnipeg:20250905T100000
DTEND;TZID=America/Winnipeg:20250905T110000
DTSTAMP:20260423T062556
CREATED:20250611T211147Z
LAST-MODIFIED:20250905T145905Z
UID:54326-1757066400-1757070000@www.salemhome.ca
SUMMARY:Men's Coffee Shop
DESCRIPTION:
URL:https://www.salemhome.ca/event/mens-coffee-shop-951/
CATEGORIES:Evergreen
END:VEVENT
BEGIN:VEVENT
DTSTART;TZID=America/Winnipeg:20250905T101500
DTEND;TZID=America/Winnipeg:20250905T104500
DTSTAMP:20260423T062556
CREATED:20250611T211146Z
LAST-MODIFIED:20250905T145905Z
UID:54324-1757067300-1757069100@www.salemhome.ca
SUMMARY:Chapel
DESCRIPTION:
URL:https://www.salemhome.ca/event/chapel-737/
CATEGORIES:Evergreen
END:VEVENT
BEGIN:VEVENT
DTSTART;TZID=America/Winnipeg:20250905T110000
DTEND;TZID=America/Winnipeg:20250905T120000
DTSTAMP:20260423T062556
CREATED:20250611T211147Z
LAST-MODIFIED:20250905T145905Z
UID:54325-1757070000-1757073600@www.salemhome.ca
SUMMARY:Music by Dave Nickel
DESCRIPTION:
URL:https://www.salemhome.ca/event/music-by-dave-nickel-139/
CATEGORIES:Evergreen
END:VEVENT
BEGIN:VEVENT
DTSTART;TZID=America/Winnipeg:20250905T140000
DTEND;TZID=America/Winnipeg:20250905T150000
DTSTAMP:20260423T062556
CREATED:20250611T211147Z
LAST-MODIFIED:20250905T145906Z
UID:54327-1757080800-1757084400@www.salemhome.ca
SUMMARY:Music Therapy
DESCRIPTION:
URL:https://www.salemhome.ca/event/music-therapy-266/
CATEGORIES:Evergreen
END:VEVENT
BEGIN:VEVENT
DTSTART;TZID=America/Winnipeg:20250905T150000
DTEND;TZID=America/Winnipeg:20250905T160000
DTSTAMP:20260423T062556
CREATED:20250720T115538Z
LAST-MODIFIED:20250905T145906Z
UID:55752-1757084400-1757088000@www.salemhome.ca
SUMMARY:Spotify Favorites
DESCRIPTION:
URL:https://www.salemhome.ca/event/spotify-favorites-7/
CATEGORIES:Evergreen
END:VEVENT
BEGIN:VEVENT
DTSTART;TZID=America/Winnipeg:20250906T100000
DTEND;TZID=America/Winnipeg:20250906T110000
DTSTAMP:20260423T062556
CREATED:20250611T211148Z
LAST-MODIFIED:20250906T145902Z
UID:54328-1757152800-1757156400@www.salemhome.ca
SUMMARY:Bingo
DESCRIPTION:
URL:https://www.salemhome.ca/event/bingo-904/
CATEGORIES:Evergreen
END:VEVENT
BEGIN:VEVENT
DTSTART;TZID=America/Winnipeg:20250906T150000
DTEND;TZID=America/Winnipeg:20250906T160000
DTSTAMP:20260423T062556
CREATED:20250827T142913Z
LAST-MODIFIED:20250906T145903Z
UID:57245-1757170800-1757174400@www.salemhome.ca
SUMMARY:Sing along
DESCRIPTION:
URL:https://www.salemhome.ca/event/sing-along-203/
CATEGORIES:Evergreen
END:VEVENT
BEGIN:VEVENT
DTSTART;VALUE=DATE:20250907
DTEND;VALUE=DATE:20250908
DTSTAMP:20260423T062556
CREATED:20250611T211148Z
LAST-MODIFIED:20250907T145904Z
UID:54329-1757203200-1757289599@www.salemhome.ca
SUMMARY:Day of Rest
DESCRIPTION:
URL:https://www.salemhome.ca/event/day-of-rest-357/
CATEGORIES:Evergreen
END:VEVENT
BEGIN:VEVENT
DTSTART;TZID=America/Winnipeg:20250907T094500
DTEND;TZID=America/Winnipeg:20250907T104500
DTSTAMP:20260423T062556
CREATED:20250826T142909Z
LAST-MODIFIED:20250907T145904Z
UID:57072-1757238300-1757241900@www.salemhome.ca
SUMMARY:Pathway Community Church
DESCRIPTION:
URL:https://www.salemhome.ca/event/pathway-community-church/
CATEGORIES:Evergreen
END:VEVENT
BEGIN:VEVENT
DTSTART;TZID=America/Winnipeg:20250908T100000
DTEND;TZID=America/Winnipeg:20250908T110000
DTSTAMP:20260423T062556
CREATED:20250611T211148Z
LAST-MODIFIED:20250908T145929Z
UID:54330-1757325600-1757329200@www.salemhome.ca
SUMMARY:Men's Coffee Shop
DESCRIPTION:
URL:https://www.salemhome.ca/event/mens-coffee-shop-952/
CATEGORIES:Evergreen
END:VEVENT
BEGIN:VEVENT
DTSTART;TZID=America/Winnipeg:20250908T100000
DTEND;TZID=America/Winnipeg:20250908T110000
DTSTAMP:20260423T062556
CREATED:20250826T142909Z
LAST-MODIFIED:20250908T145929Z
UID:57073-1757325600-1757329200@www.salemhome.ca
SUMMARY:Devotions & Music
DESCRIPTION:
URL:https://www.salemhome.ca/event/devotions-music/
CATEGORIES:Evergreen
END:VEVENT
BEGIN:VEVENT
DTSTART;TZID=America/Winnipeg:20250908T144500
DTEND;TZID=America/Winnipeg:20250908T154500
DTSTAMP:20260423T062556
CREATED:20250611T211149Z
LAST-MODIFIED:20250908T145929Z
UID:54331-1757342700-1757346300@www.salemhome.ca
SUMMARY:Men's Group
DESCRIPTION:Located on Evergreen\, residents from all care areas welcome.
URL:https://www.salemhome.ca/event/mens-group-883/
CATEGORIES:Evergreen
END:VEVENT
BEGIN:VEVENT
DTSTART;TZID=America/Winnipeg:20250908T150000
DTEND;TZID=America/Winnipeg:20250908T160000
DTSTAMP:20260423T062556
CREATED:20250826T142909Z
LAST-MODIFIED:20250908T145929Z
UID:57074-1757343600-1757347200@www.salemhome.ca
SUMMARY:Painting
DESCRIPTION:
URL:https://www.salemhome.ca/event/painting-7/
CATEGORIES:Evergreen
END:VEVENT
BEGIN:VEVENT
DTSTART;TZID=America/Winnipeg:20250909T100000
DTEND;TZID=America/Winnipeg:20250909T110000
DTSTAMP:20260423T062556
CREATED:20250612T212541Z
LAST-MODIFIED:20250909T145935Z
UID:54404-1757412000-1757415600@www.salemhome.ca
SUMMARY:Move With Grace
DESCRIPTION:
URL:https://www.salemhome.ca/event/move-with-grace-106/
CATEGORIES:Evergreen
END:VEVENT
BEGIN:VEVENT
DTSTART;TZID=America/Winnipeg:20250909T100000
DTEND;TZID=America/Winnipeg:20250909T110000
DTSTAMP:20260423T062556
CREATED:20250613T212545Z
LAST-MODIFIED:20250909T145935Z
UID:54417-1757412000-1757415600@www.salemhome.ca
SUMMARY:Men's Coffee Shop
DESCRIPTION:
URL:https://www.salemhome.ca/event/mens-coffee-shop-953/
CATEGORIES:Evergreen
END:VEVENT
BEGIN:VEVENT
DTSTART;TZID=America/Winnipeg:20250909T150000
DTEND;TZID=America/Winnipeg:20250909T160000
DTSTAMP:20260423T062556
CREATED:20250826T142910Z
LAST-MODIFIED:20250909T145935Z
UID:57075-1757430000-1757433600@www.salemhome.ca
SUMMARY:Bowling
DESCRIPTION:
URL:https://www.salemhome.ca/event/bowling-36/
CATEGORIES:Evergreen
END:VEVENT
BEGIN:VEVENT
DTSTART;TZID=America/Winnipeg:20250909T180000
DTEND;TZID=America/Winnipeg:20250909T190000
DTSTAMP:20260423T062556
CREATED:20250613T212546Z
LAST-MODIFIED:20250909T145935Z
UID:54418-1757440800-1757444400@www.salemhome.ca
SUMMARY:Movie Night
DESCRIPTION:
URL:https://www.salemhome.ca/event/movie-night-139/
CATEGORIES:Evergreen
END:VEVENT
BEGIN:VEVENT
DTSTART;TZID=America/Winnipeg:20250910T100000
DTEND;TZID=America/Winnipeg:20250910T110000
DTSTAMP:20260423T062556
CREATED:20250613T212546Z
LAST-MODIFIED:20250909T145935Z
UID:54419-1757498400-1757502000@www.salemhome.ca
SUMMARY:Men's Coffee Shop
DESCRIPTION:
URL:https://www.salemhome.ca/event/mens-coffee-shop-954/
CATEGORIES:Evergreen
END:VEVENT
BEGIN:VEVENT
DTSTART;TZID=America/Winnipeg:20250910T100000
DTEND;TZID=America/Winnipeg:20250910T110000
DTSTAMP:20260423T062556
CREATED:20250613T212546Z
LAST-MODIFIED:20250909T145935Z
UID:54420-1757498400-1757502000@www.salemhome.ca
SUMMARY:John & Irene Plantz
DESCRIPTION:
URL:https://www.salemhome.ca/event/john-irene-plantz-59/
CATEGORIES:Evergreen
END:VEVENT
BEGIN:VEVENT
DTSTART;TZID=America/Winnipeg:20250910T144500
DTEND;TZID=America/Winnipeg:20250910T154500
DTSTAMP:20260423T062556
CREATED:20250614T212606Z
LAST-MODIFIED:20250909T145936Z
UID:54437-1757515500-1757519100@www.salemhome.ca
SUMMARY:Bingo
DESCRIPTION:
URL:https://www.salemhome.ca/event/bingo-906/
CATEGORIES:Evergreen
END:VEVENT
END:VCALENDAR