BEGIN:VCALENDAR
VERSION:2.0
PRODID:-//Salem Home - ECPv6.15.20//NONSGML v1.0//EN
CALSCALE:GREGORIAN
METHOD:PUBLISH
X-WR-CALNAME:Salem Home
X-ORIGINAL-URL:https://www.salemhome.ca
X-WR-CALDESC:Events for Salem Home
REFRESH-INTERVAL;VALUE=DURATION:PT1H
X-Robots-Tag:noindex
X-PUBLISHED-TTL:PT1H
BEGIN:VTIMEZONE
TZID:America/Winnipeg
BEGIN:DAYLIGHT
TZOFFSETFROM:-0600
TZOFFSETTO:-0500
TZNAME:CDT
DTSTART:20240310T080000
END:DAYLIGHT
BEGIN:STANDARD
TZOFFSETFROM:-0500
TZOFFSETTO:-0600
TZNAME:CST
DTSTART:20241103T070000
END:STANDARD
BEGIN:DAYLIGHT
TZOFFSETFROM:-0600
TZOFFSETTO:-0500
TZNAME:CDT
DTSTART:20250309T080000
END:DAYLIGHT
BEGIN:STANDARD
TZOFFSETFROM:-0500
TZOFFSETTO:-0600
TZNAME:CST
DTSTART:20251102T070000
END:STANDARD
BEGIN:DAYLIGHT
TZOFFSETFROM:-0600
TZOFFSETTO:-0500
TZNAME:CDT
DTSTART:20260308T080000
END:DAYLIGHT
BEGIN:STANDARD
TZOFFSETFROM:-0500
TZOFFSETTO:-0600
TZNAME:CST
DTSTART:20261101T070000
END:STANDARD
END:VTIMEZONE
BEGIN:VEVENT
DTSTART;TZID=America/Winnipeg:20250917T144500
DTEND;TZID=America/Winnipeg:20250917T154500
DTSTAMP:20260425T074326
CREATED:20250720T115546Z
LAST-MODIFIED:20250826T142914Z
UID:55770-1758120300-1758123900@www.salemhome.ca
SUMMARY:Men's Group
DESCRIPTION:Located on Maple North. Residents from all care areas are welcome to attend.
URL:https://www.salemhome.ca/event/mens-group-910/
CATEGORIES:Evergreen
END:VEVENT
BEGIN:VEVENT
DTSTART;TZID=America/Winnipeg:20250917T144500
DTEND;TZID=America/Winnipeg:20250917T154500
DTSTAMP:20260425T074326
CREATED:20250720T115546Z
LAST-MODIFIED:20250909T145938Z
UID:55771-1758120300-1758123900@www.salemhome.ca
SUMMARY:Bingo
DESCRIPTION:
URL:https://www.salemhome.ca/event/bingo-942/
CATEGORIES:Evergreen
END:VEVENT
BEGIN:VEVENT
DTSTART;TZID=America/Winnipeg:20250917T144500
DTEND;TZID=America/Winnipeg:20250917T154500
DTSTAMP:20260425T074326
CREATED:20250720T115547Z
LAST-MODIFIED:20250909T145938Z
UID:55772-1758120300-1758123900@www.salemhome.ca
SUMMARY:Men's Coffee Shop
DESCRIPTION:
URL:https://www.salemhome.ca/event/mens-coffee-shop-998/
CATEGORIES:Evergreen
END:VEVENT
BEGIN:VEVENT
DTSTART;TZID=America/Winnipeg:20250918T100000
DTEND;TZID=America/Winnipeg:20250918T110000
DTSTAMP:20260425T074326
CREATED:20250720T115547Z
LAST-MODIFIED:20250909T145938Z
UID:55773-1758189600-1758193200@www.salemhome.ca
SUMMARY:Hymn Sing
DESCRIPTION:
URL:https://www.salemhome.ca/event/hymn-sing-619/
CATEGORIES:Evergreen
END:VEVENT
BEGIN:VEVENT
DTSTART;TZID=America/Winnipeg:20250918T103000
DTEND;TZID=America/Winnipeg:20250918T113000
DTSTAMP:20260425T074326
CREATED:20250729T125536Z
LAST-MODIFIED:20250909T145939Z
UID:56236-1758191400-1758195000@www.salemhome.ca
SUMMARY:Communion Reinland Mennonite Church
DESCRIPTION:
URL:https://www.salemhome.ca/event/chapel-754/
CATEGORIES:Evergreen
END:VEVENT
BEGIN:VEVENT
DTSTART;TZID=America/Winnipeg:20250918T110000
DTEND;TZID=America/Winnipeg:20250918T120000
DTSTAMP:20260425T074326
CREATED:20250720T115547Z
LAST-MODIFIED:20250909T145938Z
UID:55774-1758193200-1758196800@www.salemhome.ca
SUMMARY:Spa Day
DESCRIPTION:
URL:https://www.salemhome.ca/event/spa-day-138/
CATEGORIES:Evergreen
END:VEVENT
BEGIN:VEVENT
DTSTART;TZID=America/Winnipeg:20250918T150000
DTEND;TZID=America/Winnipeg:20250918T160000
DTSTAMP:20260425T074326
CREATED:20250827T142920Z
LAST-MODIFIED:20250909T145939Z
UID:57258-1758207600-1758211200@www.salemhome.ca
SUMMARY:Ladies Tea
DESCRIPTION:
URL:https://www.salemhome.ca/event/ladies-tea-10/
CATEGORIES:Evergreen
END:VEVENT
BEGIN:VEVENT
DTSTART;TZID=America/Winnipeg:20250919T100000
DTEND;TZID=America/Winnipeg:20250919T110000
DTSTAMP:20260425T074326
CREATED:20250720T115548Z
LAST-MODIFIED:20250909T145939Z
UID:55777-1758276000-1758279600@www.salemhome.ca
SUMMARY:Men's Coffee Shop
DESCRIPTION:
URL:https://www.salemhome.ca/event/mens-coffee-shop-999/
CATEGORIES:Evergreen
END:VEVENT
BEGIN:VEVENT
DTSTART;TZID=America/Winnipeg:20250919T101500
DTEND;TZID=America/Winnipeg:20250919T104500
DTSTAMP:20260425T074326
CREATED:20250720T115547Z
LAST-MODIFIED:20250909T145939Z
UID:55775-1758276900-1758278700@www.salemhome.ca
SUMMARY:Chapel
DESCRIPTION:
URL:https://www.salemhome.ca/event/chapel-744/
CATEGORIES:Evergreen
END:VEVENT
BEGIN:VEVENT
DTSTART;TZID=America/Winnipeg:20250919T110000
DTEND;TZID=America/Winnipeg:20250919T120000
DTSTAMP:20260425T074326
CREATED:20250720T115547Z
LAST-MODIFIED:20250909T145939Z
UID:55776-1758279600-1758283200@www.salemhome.ca
SUMMARY:Music by Dave Nickel
DESCRIPTION:
URL:https://www.salemhome.ca/event/music-by-dave-nickel-141/
CATEGORIES:Evergreen
END:VEVENT
BEGIN:VEVENT
DTSTART;TZID=America/Winnipeg:20250919T140000
DTEND;TZID=America/Winnipeg:20250919T150000
DTSTAMP:20260425T074326
CREATED:20250720T115548Z
LAST-MODIFIED:20250909T145939Z
UID:55778-1758290400-1758294000@www.salemhome.ca
SUMMARY:Music Therapy
DESCRIPTION:
URL:https://www.salemhome.ca/event/music-therapy-270/
CATEGORIES:Evergreen
END:VEVENT
BEGIN:VEVENT
DTSTART;TZID=America/Winnipeg:20250919T150000
DTEND;TZID=America/Winnipeg:20250919T160000
DTSTAMP:20260425T074326
CREATED:20250720T115548Z
LAST-MODIFIED:20250909T145939Z
UID:55779-1758294000-1758297600@www.salemhome.ca
SUMMARY:Spotify Favorites
DESCRIPTION:
URL:https://www.salemhome.ca/event/spotify-favorites-9/
CATEGORIES:Evergreen
END:VEVENT
BEGIN:VEVENT
DTSTART;TZID=America/Winnipeg:20250920T150000
DTEND;TZID=America/Winnipeg:20250920T160000
DTSTAMP:20260425T074326
CREATED:20250720T115548Z
LAST-MODIFIED:20250909T145940Z
UID:55780-1758380400-1758384000@www.salemhome.ca
SUMMARY:Bingo
DESCRIPTION:
URL:https://www.salemhome.ca/event/bingo-943/
CATEGORIES:Evergreen
END:VEVENT
BEGIN:VEVENT
DTSTART;TZID=America/Winnipeg:20250920T150000
DTEND;TZID=America/Winnipeg:20250920T160000
DTSTAMP:20260425T074326
CREATED:20250827T142923Z
LAST-MODIFIED:20250909T145940Z
UID:57259-1758380400-1758384000@www.salemhome.ca
SUMMARY:Pet Visit
DESCRIPTION:
URL:https://www.salemhome.ca/event/pet-visit/
CATEGORIES:Evergreen
END:VEVENT
BEGIN:VEVENT
DTSTART;TZID=America/Winnipeg:20250920T181500
DTEND;TZID=America/Winnipeg:20250920T191500
DTSTAMP:20260425T074326
CREATED:20250720T115549Z
LAST-MODIFIED:20250909T145940Z
UID:55782-1758392100-1758395700@www.salemhome.ca
SUMMARY:The Pilgrims
DESCRIPTION:
URL:https://www.salemhome.ca/event/the-pilgrims-117/
CATEGORIES:Evergreen
END:VEVENT
BEGIN:VEVENT
DTSTART;VALUE=DATE:20250921
DTEND;VALUE=DATE:20250922
DTSTAMP:20260425T074326
CREATED:20250720T115548Z
LAST-MODIFIED:20250909T145940Z
UID:55781-1758412800-1758499199@www.salemhome.ca
SUMMARY:Day of Rest
DESCRIPTION:
URL:https://www.salemhome.ca/event/day-of-rest-374/
CATEGORIES:Evergreen
END:VEVENT
BEGIN:VEVENT
DTSTART;TZID=America/Winnipeg:20250921T094500
DTEND;TZID=America/Winnipeg:20250921T104500
DTSTAMP:20260425T074326
CREATED:20250826T142915Z
LAST-MODIFIED:20250909T145940Z
UID:57081-1758447900-1758451500@www.salemhome.ca
SUMMARY:Winkler EMMC
DESCRIPTION:
URL:https://www.salemhome.ca/event/winkler-emmc-4/
CATEGORIES:Evergreen
END:VEVENT
BEGIN:VEVENT
DTSTART;TZID=America/Winnipeg:20250921T104500
DTEND;TZID=America/Winnipeg:20250921T114500
DTSTAMP:20260425T074326
CREATED:20250826T142915Z
LAST-MODIFIED:20250909T145940Z
UID:57080-1758451500-1758455100@www.salemhome.ca
SUMMARY:Dorothy Plett
DESCRIPTION:
URL:https://www.salemhome.ca/event/dorothy-plett-16/
CATEGORIES:Evergreen
END:VEVENT
BEGIN:VEVENT
DTSTART;TZID=America/Winnipeg:20250922T100000
DTEND;TZID=America/Winnipeg:20250922T110000
DTSTAMP:20260425T074326
CREATED:20250720T115549Z
LAST-MODIFIED:20250909T145943Z
UID:55783-1758535200-1758538800@www.salemhome.ca
SUMMARY:Men's Coffee Shop
DESCRIPTION:
URL:https://www.salemhome.ca/event/mens-coffee-shop-1000/
CATEGORIES:Evergreen
END:VEVENT
BEGIN:VEVENT
DTSTART;TZID=America/Winnipeg:20250922T100000
DTEND;TZID=America/Winnipeg:20250922T110000
DTSTAMP:20260425T074326
CREATED:20250826T142916Z
LAST-MODIFIED:20250909T145944Z
UID:57082-1758535200-1758538800@www.salemhome.ca
SUMMARY:Devotions
DESCRIPTION:
URL:https://www.salemhome.ca/event/devotions-133/
CATEGORIES:Evergreen
END:VEVENT
BEGIN:VEVENT
DTSTART;TZID=America/Winnipeg:20250922T144500
DTEND;TZID=America/Winnipeg:20250922T154500
DTSTAMP:20260425T074326
CREATED:20250720T115549Z
LAST-MODIFIED:20250909T145944Z
UID:55784-1758552300-1758555900@www.salemhome.ca
SUMMARY:Men's Group
DESCRIPTION:Located on Evergreen\, residents from all care areas welcome.
URL:https://www.salemhome.ca/event/mens-group-911/
CATEGORIES:Evergreen
END:VEVENT
BEGIN:VEVENT
DTSTART;TZID=America/Winnipeg:20250922T150000
DTEND;TZID=America/Winnipeg:20250922T160000
DTSTAMP:20260425T074326
CREATED:20250826T142916Z
LAST-MODIFIED:20250909T145944Z
UID:57083-1758553200-1758556800@www.salemhome.ca
SUMMARY:Snakes & Ladders
DESCRIPTION:
URL:https://www.salemhome.ca/event/snakes-ladders-49/
CATEGORIES:Evergreen
END:VEVENT
BEGIN:VEVENT
DTSTART;TZID=America/Winnipeg:20250923T100000
DTEND;TZID=America/Winnipeg:20250923T110000
DTSTAMP:20260425T074326
CREATED:20250720T115549Z
LAST-MODIFIED:20250909T145944Z
UID:55785-1758621600-1758625200@www.salemhome.ca
SUMMARY:Move With Grace
DESCRIPTION:
URL:https://www.salemhome.ca/event/move-with-grace-153/
CATEGORIES:Evergreen
END:VEVENT
BEGIN:VEVENT
DTSTART;TZID=America/Winnipeg:20250923T100000
DTEND;TZID=America/Winnipeg:20250923T110000
DTSTAMP:20260425T074326
CREATED:20250720T115550Z
LAST-MODIFIED:20250909T145944Z
UID:55786-1758621600-1758625200@www.salemhome.ca
SUMMARY:Men's Coffee Shop
DESCRIPTION:
URL:https://www.salemhome.ca/event/mens-coffee-shop-1001/
CATEGORIES:Evergreen
END:VEVENT
BEGIN:VEVENT
DTSTART;TZID=America/Winnipeg:20250923T180000
DTEND;TZID=America/Winnipeg:20250923T190000
DTSTAMP:20260425T074326
CREATED:20250720T115550Z
LAST-MODIFIED:20250909T145945Z
UID:55787-1758650400-1758654000@www.salemhome.ca
SUMMARY:Movie Night
DESCRIPTION:
URL:https://www.salemhome.ca/event/movie-night-141/
CATEGORIES:Evergreen
END:VEVENT
BEGIN:VEVENT
DTSTART;TZID=America/Winnipeg:20250924T100000
DTEND;TZID=America/Winnipeg:20250924T110000
DTSTAMP:20260425T074326
CREATED:20250720T115550Z
LAST-MODIFIED:20250909T145945Z
UID:55788-1758708000-1758711600@www.salemhome.ca
SUMMARY:John & Irene Plantz
DESCRIPTION:
URL:https://www.salemhome.ca/event/john-irene-plantz-61/
CATEGORIES:Evergreen
END:VEVENT
BEGIN:VEVENT
DTSTART;TZID=America/Winnipeg:20250924T100000
DTEND;TZID=America/Winnipeg:20250924T110000
DTSTAMP:20260425T074326
CREATED:20250720T115550Z
LAST-MODIFIED:20250909T145945Z
UID:55789-1758708000-1758711600@www.salemhome.ca
SUMMARY:Men's Coffee Shop
DESCRIPTION:
URL:https://www.salemhome.ca/event/mens-coffee-shop-1002/
CATEGORIES:Evergreen
END:VEVENT
BEGIN:VEVENT
DTSTART;TZID=America/Winnipeg:20250924T144500
DTEND;TZID=America/Winnipeg:20250924T154500
DTSTAMP:20260425T074326
CREATED:20250720T115550Z
LAST-MODIFIED:20250909T145945Z
UID:55790-1758725100-1758728700@www.salemhome.ca
SUMMARY:Bingo
DESCRIPTION:
URL:https://www.salemhome.ca/event/bingo-944/
CATEGORIES:Evergreen
END:VEVENT
BEGIN:VEVENT
DTSTART;TZID=America/Winnipeg:20250924T144500
DTEND;TZID=America/Winnipeg:20250924T154500
DTSTAMP:20260425T074326
CREATED:20250720T115551Z
LAST-MODIFIED:20250909T145945Z
UID:55791-1758725100-1758728700@www.salemhome.ca
SUMMARY:Men's Coffee Shop
DESCRIPTION:
URL:https://www.salemhome.ca/event/mens-coffee-shop-1003/
CATEGORIES:Evergreen
END:VEVENT
BEGIN:VEVENT
DTSTART;TZID=America/Winnipeg:20250925T100000
DTEND;TZID=America/Winnipeg:20250925T110000
DTSTAMP:20260425T074326
CREATED:20250720T115551Z
LAST-MODIFIED:20250909T145946Z
UID:55793-1758794400-1758798000@www.salemhome.ca
SUMMARY:Hymn Sing
DESCRIPTION:
URL:https://www.salemhome.ca/event/hymn-sing-620/
CATEGORIES:Evergreen
END:VEVENT
END:VCALENDAR