BEGIN:VCALENDAR
VERSION:2.0
PRODID:-//Salem Home - ECPv6.15.20//NONSGML v1.0//EN
CALSCALE:GREGORIAN
METHOD:PUBLISH
X-ORIGINAL-URL:https://www.salemhome.ca
X-WR-CALDESC:Events for Salem Home
REFRESH-INTERVAL;VALUE=DURATION:PT1H
X-Robots-Tag:noindex
X-PUBLISHED-TTL:PT1H
BEGIN:VTIMEZONE
TZID:America/Winnipeg
BEGIN:DAYLIGHT
TZOFFSETFROM:-0600
TZOFFSETTO:-0500
TZNAME:CDT
DTSTART:20230312T080000
END:DAYLIGHT
BEGIN:STANDARD
TZOFFSETFROM:-0500
TZOFFSETTO:-0600
TZNAME:CST
DTSTART:20231105T070000
END:STANDARD
BEGIN:DAYLIGHT
TZOFFSETFROM:-0600
TZOFFSETTO:-0500
TZNAME:CDT
DTSTART:20240310T080000
END:DAYLIGHT
BEGIN:STANDARD
TZOFFSETFROM:-0500
TZOFFSETTO:-0600
TZNAME:CST
DTSTART:20241103T070000
END:STANDARD
BEGIN:DAYLIGHT
TZOFFSETFROM:-0600
TZOFFSETTO:-0500
TZNAME:CDT
DTSTART:20250309T080000
END:DAYLIGHT
BEGIN:STANDARD
TZOFFSETFROM:-0500
TZOFFSETTO:-0600
TZNAME:CST
DTSTART:20251102T070000
END:STANDARD
END:VTIMEZONE
BEGIN:VEVENT
DTSTART;TZID=America/Winnipeg:20241217T170000
DTEND;TZID=America/Winnipeg:20241217T180000
DTSTAMP:20260425T224309
CREATED:20241129T071520Z
LAST-MODIFIED:20241217T074529Z
UID:47160-1734454800-1734458400@www.salemhome.ca
SUMMARY:Christmas Supper
DESCRIPTION:
URL:https://www.salemhome.ca/event/christmas-supper/
CATEGORIES:Evergreen
END:VEVENT
BEGIN:VEVENT
DTSTART;TZID=America/Winnipeg:20241217T180000
DTEND;TZID=America/Winnipeg:20241217T190000
DTSTAMP:20260425T224309
CREATED:20240919T041523Z
LAST-MODIFIED:20241217T074529Z
UID:44812-1734458400-1734462000@www.salemhome.ca
SUMMARY:Movie Night
DESCRIPTION:
URL:https://www.salemhome.ca/event/movie-night-100/
CATEGORIES:Evergreen
END:VEVENT
BEGIN:VEVENT
DTSTART;TZID=America/Winnipeg:20241218T100000
DTEND;TZID=America/Winnipeg:20241218T110000
DTSTAMP:20260425T224309
CREATED:20240919T041524Z
LAST-MODIFIED:20241218T074511Z
UID:44813-1734516000-1734519600@www.salemhome.ca
SUMMARY:Men's Coffee Shop
DESCRIPTION:
URL:https://www.salemhome.ca/event/mens-coffee-shop-536/
CATEGORIES:Evergreen
END:VEVENT
BEGIN:VEVENT
DTSTART;TZID=America/Winnipeg:20241218T144500
DTEND;TZID=America/Winnipeg:20241218T154500
DTSTAMP:20260425T224309
CREATED:20240919T041524Z
LAST-MODIFIED:20241218T074511Z
UID:44814-1734533100-1734536700@www.salemhome.ca
SUMMARY:Men's Group
DESCRIPTION:Located on Maple North. Residents from all care areas are welcome to attend.
URL:https://www.salemhome.ca/event/mens-group-587/
CATEGORIES:Evergreen
END:VEVENT
BEGIN:VEVENT
DTSTART;TZID=America/Winnipeg:20241218T144500
DTEND;TZID=America/Winnipeg:20241218T154500
DTSTAMP:20260425T224309
CREATED:20240919T041524Z
LAST-MODIFIED:20241218T074511Z
UID:44815-1734533100-1734536700@www.salemhome.ca
SUMMARY:Bingo
DESCRIPTION:
URL:https://www.salemhome.ca/event/bingo-599/
CATEGORIES:Evergreen
END:VEVENT
BEGIN:VEVENT
DTSTART;TZID=America/Winnipeg:20241218T180000
DTEND;TZID=America/Winnipeg:20241218T190000
DTSTAMP:20260425T224309
CREATED:20240920T043026Z
LAST-MODIFIED:20241218T074511Z
UID:44852-1734544800-1734548400@www.salemhome.ca
SUMMARY:Henry & Marge Wall
DESCRIPTION:
URL:https://www.salemhome.ca/event/henry-marge-wall-6/
CATEGORIES:Evergreen
END:VEVENT
BEGIN:VEVENT
DTSTART;TZID=America/Winnipeg:20241219T103000
DTEND;TZID=America/Winnipeg:20241219T113000
DTSTAMP:20260425T224309
CREATED:20241129T071520Z
LAST-MODIFIED:20241219T074531Z
UID:47161-1734604200-1734607800@www.salemhome.ca
SUMMARY:Chapel: Reinland Mennonite
DESCRIPTION:
URL:https://www.salemhome.ca/event/chapel-reinland-mennonite-92/
CATEGORIES:Evergreen
END:VEVENT
BEGIN:VEVENT
DTSTART;TZID=America/Winnipeg:20241219T110000
DTEND;TZID=America/Winnipeg:20241219T120000
DTSTAMP:20260425T224309
CREATED:20240920T043026Z
LAST-MODIFIED:20241219T074531Z
UID:44853-1734606000-1734609600@www.salemhome.ca
SUMMARY:Spa Day
DESCRIPTION:
URL:https://www.salemhome.ca/event/spa-day-99/
CATEGORIES:Evergreen
END:VEVENT
BEGIN:VEVENT
DTSTART;TZID=America/Winnipeg:20241219T150000
DTEND;TZID=America/Winnipeg:20241219T160000
DTSTAMP:20260425T224309
CREATED:20241129T071520Z
LAST-MODIFIED:20241219T074531Z
UID:47162-1734620400-1734624000@www.salemhome.ca
SUMMARY:Balloon Badminton
DESCRIPTION:
URL:https://www.salemhome.ca/event/balloon-badminton-34/
CATEGORIES:Evergreen
END:VEVENT
BEGIN:VEVENT
DTSTART;TZID=America/Winnipeg:20241219T160000
DTEND;TZID=America/Winnipeg:20241219T170000
DTSTAMP:20260425T224309
CREATED:20241129T071520Z
LAST-MODIFIED:20241219T074531Z
UID:47163-1734624000-1734627600@www.salemhome.ca
SUMMARY:Joan Van der Linde
DESCRIPTION:
URL:https://www.salemhome.ca/event/joan-van-der-linde-26/
CATEGORIES:Evergreen
END:VEVENT
BEGIN:VEVENT
DTSTART;TZID=America/Winnipeg:20241220T100000
DTEND;TZID=America/Winnipeg:20241220T110000
DTSTAMP:20260425T224309
CREATED:20240921T043027Z
LAST-MODIFIED:20241220T074513Z
UID:44894-1734688800-1734692400@www.salemhome.ca
SUMMARY:Men's Coffee Shop
DESCRIPTION:
URL:https://www.salemhome.ca/event/mens-coffee-shop-544/
CATEGORIES:Evergreen
END:VEVENT
BEGIN:VEVENT
DTSTART;TZID=America/Winnipeg:20241220T101500
DTEND;TZID=America/Winnipeg:20241220T104500
DTSTAMP:20260425T224309
CREATED:20240920T043026Z
LAST-MODIFIED:20241220T074513Z
UID:44854-1734689700-1734691500@www.salemhome.ca
SUMMARY:Chapel
DESCRIPTION:
URL:https://www.salemhome.ca/event/chapel-615/
CATEGORIES:Evergreen
END:VEVENT
BEGIN:VEVENT
DTSTART;TZID=America/Winnipeg:20241220T110000
DTEND;TZID=America/Winnipeg:20241220T120000
DTSTAMP:20260425T224309
CREATED:20240921T043027Z
LAST-MODIFIED:20241220T074513Z
UID:44896-1734692400-1734696000@www.salemhome.ca
SUMMARY:Music by Dave Nickel
DESCRIPTION:
URL:https://www.salemhome.ca/event/music-by-dave-nickel-102/
CATEGORIES:Evergreen
END:VEVENT
BEGIN:VEVENT
DTSTART;TZID=America/Winnipeg:20241220T140000
DTEND;TZID=America/Winnipeg:20241220T150000
DTSTAMP:20260425T224309
CREATED:20240921T043027Z
LAST-MODIFIED:20241220T074513Z
UID:44897-1734703200-1734706800@www.salemhome.ca
SUMMARY:Music Therapy
DESCRIPTION:
URL:https://www.salemhome.ca/event/music-therapy-209/
CATEGORIES:Evergreen
END:VEVENT
BEGIN:VEVENT
DTSTART;TZID=America/Winnipeg:20241221T100000
DTEND;TZID=America/Winnipeg:20241221T110000
DTSTAMP:20260425T224309
CREATED:20240921T043028Z
LAST-MODIFIED:20241221T074510Z
UID:44898-1734775200-1734778800@www.salemhome.ca
SUMMARY:Bingo
DESCRIPTION:
URL:https://www.salemhome.ca/event/bingo-602/
CATEGORIES:Evergreen
END:VEVENT
BEGIN:VEVENT
DTSTART;TZID=America/Winnipeg:20241221T181500
DTEND;TZID=America/Winnipeg:20241221T191500
DTSTAMP:20260425T224309
CREATED:20240922T043030Z
LAST-MODIFIED:20241128T071518Z
UID:44934-1734804900-1734808500@www.salemhome.ca
SUMMARY:The Pilgrims
DESCRIPTION:
URL:https://www.salemhome.ca/event/the-pilgrims-79/
CATEGORIES:Evergreen
END:VEVENT
BEGIN:VEVENT
DTSTART;VALUE=DATE:20241222
DTEND;VALUE=DATE:20241223
DTSTAMP:20260425T224309
CREATED:20240922T043030Z
LAST-MODIFIED:20241222T074512Z
UID:44933-1734825600-1734911999@www.salemhome.ca
SUMMARY:Day of Rest
DESCRIPTION:
URL:https://www.salemhome.ca/event/day-of-rest-211/
CATEGORIES:Evergreen
END:VEVENT
BEGIN:VEVENT
DTSTART;TZID=America/Winnipeg:20241222T094500
DTEND;TZID=America/Winnipeg:20241222T104500
DTSTAMP:20260425T224309
CREATED:20241129T071521Z
LAST-MODIFIED:20241222T074511Z
UID:47164-1734860700-1734864300@www.salemhome.ca
SUMMARY:Chapel: Old Colony Mennonite
DESCRIPTION:
URL:https://www.salemhome.ca/event/chapel-old-colony-mennonite-73/
CATEGORIES:Evergreen
END:VEVENT
BEGIN:VEVENT
DTSTART;TZID=America/Winnipeg:20241223T003000
DTEND;TZID=America/Winnipeg:20241223T013000
DTSTAMP:20260425T224309
CREATED:20241129T071521Z
LAST-MODIFIED:20241222T074512Z
UID:47165-1734913800-1734917400@www.salemhome.ca
SUMMARY:Voice of Christmas
DESCRIPTION:
URL:https://www.salemhome.ca/event/voice-of-christmas/
CATEGORIES:Evergreen
END:VEVENT
BEGIN:VEVENT
DTSTART;TZID=America/Winnipeg:20241223T100000
DTEND;TZID=America/Winnipeg:20241223T110000
DTSTAMP:20260425T224309
CREATED:20240922T043030Z
LAST-MODIFIED:20241223T074520Z
UID:44935-1734948000-1734951600@www.salemhome.ca
SUMMARY:Men's Coffee Shop
DESCRIPTION:
URL:https://www.salemhome.ca/event/mens-coffee-shop-546/
CATEGORIES:Evergreen
END:VEVENT
BEGIN:VEVENT
DTSTART;TZID=America/Winnipeg:20241223T100000
DTEND;TZID=America/Winnipeg:20241223T110000
DTSTAMP:20260425T224309
CREATED:20241129T071521Z
LAST-MODIFIED:20241223T074520Z
UID:47166-1734948000-1734951600@www.salemhome.ca
SUMMARY:Devotions
DESCRIPTION:
URL:https://www.salemhome.ca/event/devotions-111/
CATEGORIES:Evergreen
END:VEVENT
BEGIN:VEVENT
DTSTART;TZID=America/Winnipeg:20241223T144500
DTEND;TZID=America/Winnipeg:20241223T154500
DTSTAMP:20260425T224309
CREATED:20240923T043026Z
LAST-MODIFIED:20241223T074521Z
UID:44963-1734965100-1734968700@www.salemhome.ca
SUMMARY:Men's Group
DESCRIPTION:Located on Evergreen\, residents from all care areas welcome.
URL:https://www.salemhome.ca/event/mens-group-595/
CATEGORIES:Evergreen
END:VEVENT
BEGIN:VEVENT
DTSTART;TZID=America/Winnipeg:20241223T150000
DTEND;TZID=America/Winnipeg:20241223T160000
DTSTAMP:20260425T224309
CREATED:20241129T071521Z
LAST-MODIFIED:20241223T074521Z
UID:47167-1734966000-1734969600@www.salemhome.ca
SUMMARY:Games
DESCRIPTION:
URL:https://www.salemhome.ca/event/games-111/
CATEGORIES:Evergreen
END:VEVENT
BEGIN:VEVENT
DTSTART;TZID=America/Winnipeg:20241224T100000
DTEND;TZID=America/Winnipeg:20241224T110000
DTSTAMP:20260425T224309
CREATED:20240923T043027Z
LAST-MODIFIED:20241224T080032Z
UID:44964-1735034400-1735038000@www.salemhome.ca
SUMMARY:Men's Coffee Shop
DESCRIPTION:
URL:https://www.salemhome.ca/event/mens-coffee-shop-548/
CATEGORIES:Evergreen
END:VEVENT
BEGIN:VEVENT
DTSTART;TZID=America/Winnipeg:20241224T100000
DTEND;TZID=America/Winnipeg:20241224T110000
DTSTAMP:20260425T224309
CREATED:20241129T071521Z
LAST-MODIFIED:20241224T080032Z
UID:47168-1735034400-1735038000@www.salemhome.ca
SUMMARY:Devotions
DESCRIPTION:
URL:https://www.salemhome.ca/event/devotions-112/
CATEGORIES:Evergreen
END:VEVENT
BEGIN:VEVENT
DTSTART;TZID=America/Winnipeg:20241224T150000
DTEND;TZID=America/Winnipeg:20241224T160000
DTSTAMP:20260425T224309
CREATED:20241129T071521Z
LAST-MODIFIED:20241224T080032Z
UID:47169-1735052400-1735056000@www.salemhome.ca
SUMMARY:Games
DESCRIPTION:
URL:https://www.salemhome.ca/event/games-112/
CATEGORIES:Evergreen
END:VEVENT
BEGIN:VEVENT
DTSTART;TZID=America/Winnipeg:20241224T180000
DTEND;TZID=America/Winnipeg:20241224T190000
DTSTAMP:20260425T224309
CREATED:20240924T043026Z
LAST-MODIFIED:20241224T080032Z
UID:44989-1735063200-1735066800@www.salemhome.ca
SUMMARY:Movie Night
DESCRIPTION:
URL:https://www.salemhome.ca/event/movie-night-101/
CATEGORIES:Evergreen
END:VEVENT
BEGIN:VEVENT
DTSTART;TZID=America/Winnipeg:20241224T183000
DTEND;TZID=America/Winnipeg:20241224T193000
DTSTAMP:20260425T224309
CREATED:20240924T043026Z
LAST-MODIFIED:20241128T071518Z
UID:44988-1735065000-1735068600@www.salemhome.ca
SUMMARY:Melanie & Friends
DESCRIPTION:
URL:https://www.salemhome.ca/event/melanie-friends-68/
CATEGORIES:Evergreen
END:VEVENT
BEGIN:VEVENT
DTSTART;TZID=America/Winnipeg:20241225T100000
DTEND;TZID=America/Winnipeg:20241225T110000
DTSTAMP:20260425T224309
CREATED:20240924T043026Z
LAST-MODIFIED:20241128T071518Z
UID:44990-1735120800-1735124400@www.salemhome.ca
SUMMARY:Men's Coffee Shop
DESCRIPTION:
URL:https://www.salemhome.ca/event/mens-coffee-shop-551/
CATEGORIES:Evergreen
END:VEVENT
BEGIN:VEVENT
DTSTART;TZID=America/Winnipeg:20241225T144500
DTEND;TZID=America/Winnipeg:20241225T154500
DTSTAMP:20260425T224309
CREATED:20240924T043027Z
LAST-MODIFIED:20241128T071518Z
UID:44992-1735137900-1735141500@www.salemhome.ca
SUMMARY:Bingo
DESCRIPTION:
URL:https://www.salemhome.ca/event/bingo-604/
CATEGORIES:Evergreen
END:VEVENT
END:VCALENDAR