BEGIN:VCALENDAR
VERSION:2.0
PRODID:-//Salem Home - ECPv6.15.20//NONSGML v1.0//EN
CALSCALE:GREGORIAN
METHOD:PUBLISH
X-ORIGINAL-URL:https://www.salemhome.ca
X-WR-CALDESC:Events for Salem Home
REFRESH-INTERVAL;VALUE=DURATION:PT1H
X-Robots-Tag:noindex
X-PUBLISHED-TTL:PT1H
BEGIN:VTIMEZONE
TZID:America/Winnipeg
BEGIN:DAYLIGHT
TZOFFSETFROM:-0600
TZOFFSETTO:-0500
TZNAME:CDT
DTSTART:20240310T080000
END:DAYLIGHT
BEGIN:STANDARD
TZOFFSETFROM:-0500
TZOFFSETTO:-0600
TZNAME:CST
DTSTART:20241103T070000
END:STANDARD
BEGIN:DAYLIGHT
TZOFFSETFROM:-0600
TZOFFSETTO:-0500
TZNAME:CDT
DTSTART:20250309T080000
END:DAYLIGHT
BEGIN:STANDARD
TZOFFSETFROM:-0500
TZOFFSETTO:-0600
TZNAME:CST
DTSTART:20251102T070000
END:STANDARD
BEGIN:DAYLIGHT
TZOFFSETFROM:-0600
TZOFFSETTO:-0500
TZNAME:CDT
DTSTART:20260308T080000
END:DAYLIGHT
BEGIN:STANDARD
TZOFFSETFROM:-0500
TZOFFSETTO:-0600
TZNAME:CST
DTSTART:20261101T070000
END:STANDARD
END:VTIMEZONE
BEGIN:VEVENT
DTSTART;TZID=America/Winnipeg:20250218T180000
DTEND;TZID=America/Winnipeg:20250218T190000
DTSTAMP:20260425T073440
CREATED:20241121T071531Z
LAST-MODIFIED:20250218T103014Z
UID:46894-1739901600-1739905200@www.salemhome.ca
SUMMARY:Movie Night
DESCRIPTION:
URL:https://www.salemhome.ca/event/movie-night-109/
CATEGORIES:Evergreen
END:VEVENT
BEGIN:VEVENT
DTSTART;TZID=America/Winnipeg:20250219T100000
DTEND;TZID=America/Winnipeg:20250219T110000
DTSTAMP:20260425T073440
CREATED:20241121T071532Z
LAST-MODIFIED:20250219T103013Z
UID:46895-1739959200-1739962800@www.salemhome.ca
SUMMARY:Men's Coffee Shop
DESCRIPTION:
URL:https://www.salemhome.ca/event/mens-coffee-shop-647/
CATEGORIES:Evergreen
END:VEVENT
BEGIN:VEVENT
DTSTART;TZID=America/Winnipeg:20250219T144500
DTEND;TZID=America/Winnipeg:20250219T154500
DTSTAMP:20260425T073440
CREATED:20241121T071532Z
LAST-MODIFIED:20250127T093033Z
UID:46896-1739976300-1739979900@www.salemhome.ca
SUMMARY:Men's Group
DESCRIPTION:Located on Maple North. Residents from all care areas are welcome to attend.
URL:https://www.salemhome.ca/event/mens-group-662/
CATEGORIES:Evergreen
END:VEVENT
BEGIN:VEVENT
DTSTART;TZID=America/Winnipeg:20250219T144500
DTEND;TZID=America/Winnipeg:20250219T154500
DTSTAMP:20260425T073440
CREATED:20241121T071532Z
LAST-MODIFIED:20250219T103013Z
UID:46897-1739976300-1739979900@www.salemhome.ca
SUMMARY:Bingo
DESCRIPTION:
URL:https://www.salemhome.ca/event/bingo-661/
CATEGORIES:Evergreen
END:VEVENT
BEGIN:VEVENT
DTSTART;TZID=America/Winnipeg:20250219T144500
DTEND;TZID=America/Winnipeg:20250219T154500
DTSTAMP:20260425T073440
CREATED:20250128T093020Z
LAST-MODIFIED:20250219T103013Z
UID:49267-1739976300-1739979900@www.salemhome.ca
SUMMARY:Men's Group
DESCRIPTION:Located on Maple North. Residents from all care areas are welcome to attend.
URL:https://www.salemhome.ca/event/mens-group-747/
CATEGORIES:Evergreen
END:VEVENT
BEGIN:VEVENT
DTSTART;TZID=America/Winnipeg:20250219T180000
DTEND;TZID=America/Winnipeg:20250219T190000
DTSTAMP:20260425T073440
CREATED:20241121T071532Z
LAST-MODIFIED:20250219T103013Z
UID:46898-1739988000-1739991600@www.salemhome.ca
SUMMARY:Henry & Marge Wall
DESCRIPTION:
URL:https://www.salemhome.ca/event/henry-marge-wall-7/
CATEGORIES:Evergreen
END:VEVENT
BEGIN:VEVENT
DTSTART;TZID=America/Winnipeg:20250220T103000
DTEND;TZID=America/Winnipeg:20250220T113000
DTSTAMP:20260425T073440
CREATED:20250128T093021Z
LAST-MODIFIED:20250220T103011Z
UID:49268-1740047400-1740051000@www.salemhome.ca
SUMMARY:Chapel: Reinland Mennonite
DESCRIPTION:
URL:https://www.salemhome.ca/event/chapel-reinland-mennonite-104/
CATEGORIES:Evergreen
END:VEVENT
BEGIN:VEVENT
DTSTART;TZID=America/Winnipeg:20250220T110000
DTEND;TZID=America/Winnipeg:20250220T120000
DTSTAMP:20260425T073440
CREATED:20241122T071532Z
LAST-MODIFIED:20250220T103011Z
UID:46937-1740049200-1740052800@www.salemhome.ca
SUMMARY:Spa Day
DESCRIPTION:
URL:https://www.salemhome.ca/event/spa-day-108/
CATEGORIES:Evergreen
END:VEVENT
BEGIN:VEVENT
DTSTART;TZID=America/Winnipeg:20250220T150000
DTEND;TZID=America/Winnipeg:20250220T160000
DTSTAMP:20260425T073440
CREATED:20250128T093021Z
LAST-MODIFIED:20250220T103011Z
UID:49269-1740063600-1740067200@www.salemhome.ca
SUMMARY:Games
DESCRIPTION:
URL:https://www.salemhome.ca/event/games-120/
CATEGORIES:Evergreen
END:VEVENT
BEGIN:VEVENT
DTSTART;TZID=America/Winnipeg:20250221T100000
DTEND;TZID=America/Winnipeg:20250221T110000
DTSTAMP:20260425T073440
CREATED:20241122T071532Z
LAST-MODIFIED:20250221T103013Z
UID:46938-1740132000-1740135600@www.salemhome.ca
SUMMARY:Men's Coffee Shop
DESCRIPTION:
URL:https://www.salemhome.ca/event/mens-coffee-shop-650/
CATEGORIES:Evergreen
END:VEVENT
BEGIN:VEVENT
DTSTART;TZID=America/Winnipeg:20250221T101500
DTEND;TZID=America/Winnipeg:20250221T104500
DTSTAMP:20260425T073440
CREATED:20241122T071532Z
LAST-MODIFIED:20250221T103013Z
UID:46939-1740132900-1740134700@www.salemhome.ca
SUMMARY:Chapel
DESCRIPTION:
URL:https://www.salemhome.ca/event/chapel-642/
CATEGORIES:Evergreen
END:VEVENT
BEGIN:VEVENT
DTSTART;TZID=America/Winnipeg:20250221T110000
DTEND;TZID=America/Winnipeg:20250221T120000
DTSTAMP:20260425T073440
CREATED:20241123T071531Z
LAST-MODIFIED:20250221T103013Z
UID:46968-1740135600-1740139200@www.salemhome.ca
SUMMARY:Music by Dave Nickel
DESCRIPTION:
URL:https://www.salemhome.ca/event/music-by-dave-nickel-111/
CATEGORIES:Evergreen
END:VEVENT
BEGIN:VEVENT
DTSTART;TZID=America/Winnipeg:20250221T140000
DTEND;TZID=America/Winnipeg:20250221T150000
DTSTAMP:20260425T073440
CREATED:20241123T071531Z
LAST-MODIFIED:20250221T103013Z
UID:46970-1740146400-1740150000@www.salemhome.ca
SUMMARY:Music Therapy
DESCRIPTION:
URL:https://www.salemhome.ca/event/music-therapy-223/
CATEGORIES:Evergreen
END:VEVENT
BEGIN:VEVENT
DTSTART;TZID=America/Winnipeg:20250222T100000
DTEND;TZID=America/Winnipeg:20250222T110000
DTSTAMP:20260425T073440
CREATED:20241123T071531Z
LAST-MODIFIED:20250222T103011Z
UID:46971-1740218400-1740222000@www.salemhome.ca
SUMMARY:Bingo
DESCRIPTION:
URL:https://www.salemhome.ca/event/bingo-664/
CATEGORIES:Evergreen
END:VEVENT
BEGIN:VEVENT
DTSTART;TZID=America/Winnipeg:20250222T150000
DTEND;TZID=America/Winnipeg:20250222T160000
DTSTAMP:20260425T073440
CREATED:20250128T093021Z
LAST-MODIFIED:20250222T103011Z
UID:49270-1740236400-1740240000@www.salemhome.ca
SUMMARY:Devotion
DESCRIPTION:
URL:https://www.salemhome.ca/event/devotion-20/
CATEGORIES:Evergreen
END:VEVENT
BEGIN:VEVENT
DTSTART;VALUE=DATE:20250223
DTEND;VALUE=DATE:20250224
DTSTAMP:20260425T073440
CREATED:20241123T071531Z
LAST-MODIFIED:20250223T103029Z
UID:46972-1740268800-1740355199@www.salemhome.ca
SUMMARY:Day of Rest
DESCRIPTION:
URL:https://www.salemhome.ca/event/day-of-rest-247/
CATEGORIES:Evergreen
END:VEVENT
BEGIN:VEVENT
DTSTART;TZID=America/Winnipeg:20250223T094500
DTEND;TZID=America/Winnipeg:20250223T104500
DTSTAMP:20260425T073440
CREATED:20250128T093021Z
LAST-MODIFIED:20250223T103029Z
UID:49271-1740303900-1740307500@www.salemhome.ca
SUMMARY:Chapel: German Old Colony
DESCRIPTION:
URL:https://www.salemhome.ca/event/chapel-german-old-colony-11/
CATEGORIES:Evergreen
END:VEVENT
BEGIN:VEVENT
DTSTART;TZID=America/Winnipeg:20250224T100000
DTEND;TZID=America/Winnipeg:20250224T110000
DTSTAMP:20260425T073440
CREATED:20241124T071531Z
LAST-MODIFIED:20250224T104512Z
UID:47000-1740391200-1740394800@www.salemhome.ca
SUMMARY:Men's Coffee Shop
DESCRIPTION:
URL:https://www.salemhome.ca/event/mens-coffee-shop-654/
CATEGORIES:Evergreen
END:VEVENT
BEGIN:VEVENT
DTSTART;TZID=America/Winnipeg:20250224T100000
DTEND;TZID=America/Winnipeg:20250224T110000
DTSTAMP:20260425T073440
CREATED:20250128T093022Z
LAST-MODIFIED:20250224T104512Z
UID:49272-1740391200-1740394800@www.salemhome.ca
SUMMARY:All About Dogs
DESCRIPTION:
URL:https://www.salemhome.ca/event/all-about-dogs/
CATEGORIES:Evergreen
END:VEVENT
BEGIN:VEVENT
DTSTART;TZID=America/Winnipeg:20250224T144500
DTEND;TZID=America/Winnipeg:20250224T154500
DTSTAMP:20260425T073440
CREATED:20241125T071527Z
LAST-MODIFIED:20250224T104513Z
UID:47017-1740408300-1740411900@www.salemhome.ca
SUMMARY:Men's Group
DESCRIPTION:Located on Evergreen\, residents from all care areas welcome.
URL:https://www.salemhome.ca/event/mens-group-667/
CATEGORIES:Evergreen
END:VEVENT
BEGIN:VEVENT
DTSTART;TZID=America/Winnipeg:20250224T150000
DTEND;TZID=America/Winnipeg:20250224T160000
DTSTAMP:20260425T073440
CREATED:20250128T093022Z
LAST-MODIFIED:20250224T104512Z
UID:49273-1740409200-1740412800@www.salemhome.ca
SUMMARY:Hangman
DESCRIPTION:
URL:https://www.salemhome.ca/event/hangman/
CATEGORIES:Evergreen
END:VEVENT
BEGIN:VEVENT
DTSTART;TZID=America/Winnipeg:20250225T100000
DTEND;TZID=America/Winnipeg:20250225T110000
DTSTAMP:20260425T073440
CREATED:20241125T071528Z
LAST-MODIFIED:20250225T104527Z
UID:47018-1740477600-1740481200@www.salemhome.ca
SUMMARY:Men's Coffee Shop
DESCRIPTION:
URL:https://www.salemhome.ca/event/mens-coffee-shop-656/
CATEGORIES:Evergreen
END:VEVENT
BEGIN:VEVENT
DTSTART;TZID=America/Winnipeg:20250225T150000
DTEND;TZID=America/Winnipeg:20250225T160000
DTSTAMP:20260425T073440
CREATED:20250128T093022Z
LAST-MODIFIED:20250225T104527Z
UID:49274-1740495600-1740499200@www.salemhome.ca
SUMMARY:Curling
DESCRIPTION:
URL:https://www.salemhome.ca/event/curling-18/
CATEGORIES:Evergreen
END:VEVENT
BEGIN:VEVENT
DTSTART;TZID=America/Winnipeg:20250225T180000
DTEND;TZID=America/Winnipeg:20250225T190000
DTSTAMP:20260425T073440
CREATED:20241126T071528Z
LAST-MODIFIED:20250225T104527Z
UID:47036-1740506400-1740510000@www.salemhome.ca
SUMMARY:Movie Night
DESCRIPTION:
URL:https://www.salemhome.ca/event/movie-night-110/
CATEGORIES:Evergreen
END:VEVENT
BEGIN:VEVENT
DTSTART;TZID=America/Winnipeg:20250225T183000
DTEND;TZID=America/Winnipeg:20250225T193000
DTSTAMP:20260425T073440
CREATED:20241126T071529Z
LAST-MODIFIED:20241128T071527Z
UID:47037-1740508200-1740511800@www.salemhome.ca
SUMMARY:Melanie & Friends
DESCRIPTION:
URL:https://www.salemhome.ca/event/melanie-friends-79/
CATEGORIES:Evergreen
END:VEVENT
BEGIN:VEVENT
DTSTART;TZID=America/Winnipeg:20250226T100000
DTEND;TZID=America/Winnipeg:20250226T110000
DTSTAMP:20260425T073440
CREATED:20241126T071529Z
LAST-MODIFIED:20250226T104530Z
UID:47038-1740564000-1740567600@www.salemhome.ca
SUMMARY:Men's Coffee Shop
DESCRIPTION:
URL:https://www.salemhome.ca/event/mens-coffee-shop-658/
CATEGORIES:Evergreen
END:VEVENT
BEGIN:VEVENT
DTSTART;TZID=America/Winnipeg:20250226T100000
DTEND;TZID=America/Winnipeg:20250226T110000
DTSTAMP:20260425T073440
CREATED:20250128T093022Z
LAST-MODIFIED:20250226T104530Z
UID:49275-1740564000-1740567600@www.salemhome.ca
SUMMARY:Sing Along
DESCRIPTION:
URL:https://www.salemhome.ca/event/sing-along-144/
CATEGORIES:Evergreen
END:VEVENT
BEGIN:VEVENT
DTSTART;TZID=America/Winnipeg:20250226T144500
DTEND;TZID=America/Winnipeg:20250226T154500
DTSTAMP:20260425T073440
CREATED:20241126T071529Z
LAST-MODIFIED:20250127T093035Z
UID:47039-1740581100-1740584700@www.salemhome.ca
SUMMARY:Men's Group
DESCRIPTION:Located on Maple North. Residents from all care areas are welcome to attend.
URL:https://www.salemhome.ca/event/mens-group-669/
CATEGORIES:Evergreen
END:VEVENT
BEGIN:VEVENT
DTSTART;TZID=America/Winnipeg:20250226T144500
DTEND;TZID=America/Winnipeg:20250226T154500
DTSTAMP:20260425T073440
CREATED:20241127T071530Z
LAST-MODIFIED:20250226T104530Z
UID:47073-1740581100-1740584700@www.salemhome.ca
SUMMARY:Bingo
DESCRIPTION:
URL:https://www.salemhome.ca/event/bingo-667/
CATEGORIES:Evergreen
END:VEVENT
BEGIN:VEVENT
DTSTART;TZID=America/Winnipeg:20250227T103000
DTEND;TZID=America/Winnipeg:20250227T113000
DTSTAMP:20260425T073440
CREATED:20250128T093022Z
LAST-MODIFIED:20250227T104528Z
UID:49276-1740652200-1740655800@www.salemhome.ca
SUMMARY:Chapel: Winkler Bergthaler
DESCRIPTION:
URL:https://www.salemhome.ca/event/chapel-winkler-bergthaler-30/
CATEGORIES:Evergreen
END:VEVENT
END:VCALENDAR