BEGIN:VCALENDAR
VERSION:2.0
PRODID:-//Salem Home - ECPv6.15.20//NONSGML v1.0//EN
CALSCALE:GREGORIAN
METHOD:PUBLISH
X-ORIGINAL-URL:https://www.salemhome.ca
X-WR-CALDESC:Events for Salem Home
REFRESH-INTERVAL;VALUE=DURATION:PT1H
X-Robots-Tag:noindex
X-PUBLISHED-TTL:PT1H
BEGIN:VTIMEZONE
TZID:America/Winnipeg
BEGIN:DAYLIGHT
TZOFFSETFROM:-0600
TZOFFSETTO:-0500
TZNAME:CDT
DTSTART:20240310T080000
END:DAYLIGHT
BEGIN:STANDARD
TZOFFSETFROM:-0500
TZOFFSETTO:-0600
TZNAME:CST
DTSTART:20241103T070000
END:STANDARD
BEGIN:DAYLIGHT
TZOFFSETFROM:-0600
TZOFFSETTO:-0500
TZNAME:CDT
DTSTART:20250309T080000
END:DAYLIGHT
BEGIN:STANDARD
TZOFFSETFROM:-0500
TZOFFSETTO:-0600
TZNAME:CST
DTSTART:20251102T070000
END:STANDARD
BEGIN:DAYLIGHT
TZOFFSETFROM:-0600
TZOFFSETTO:-0500
TZNAME:CDT
DTSTART:20260308T080000
END:DAYLIGHT
BEGIN:STANDARD
TZOFFSETFROM:-0500
TZOFFSETTO:-0600
TZNAME:CST
DTSTART:20261101T070000
END:STANDARD
END:VTIMEZONE
BEGIN:VEVENT
DTSTART;TZID=America/Winnipeg:20250319T100000
DTEND;TZID=America/Winnipeg:20250319T110000
DTSTAMP:20260425T074345
CREATED:20241218T074525Z
LAST-MODIFIED:20250318T170203Z
UID:47893-1742378400-1742382000@www.salemhome.ca
SUMMARY:Men's Coffee Shop
DESCRIPTION:
URL:https://www.salemhome.ca/event/mens-coffee-shop-692/
CATEGORIES:Evergreen
END:VEVENT
BEGIN:VEVENT
DTSTART;TZID=America/Winnipeg:20250319T100000
DTEND;TZID=America/Winnipeg:20250319T110000
DTSTAMP:20260425T074345
CREATED:20250226T104519Z
LAST-MODIFIED:20250318T170203Z
UID:50307-1742378400-1742382000@www.salemhome.ca
SUMMARY:John & Irene Plantz
DESCRIPTION:
URL:https://www.salemhome.ca/event/john-irene-plantz-35/
CATEGORIES:Evergreen
END:VEVENT
BEGIN:VEVENT
DTSTART;TZID=America/Winnipeg:20250319T144500
DTEND;TZID=America/Winnipeg:20250319T154500
DTSTAMP:20260425T074345
CREATED:20241218T074526Z
LAST-MODIFIED:20250127T093038Z
UID:47894-1742395500-1742399100@www.salemhome.ca
SUMMARY:Men's Group
DESCRIPTION:Located on Maple North. Residents from all care areas are welcome to attend.
URL:https://www.salemhome.ca/event/mens-group-692/
CATEGORIES:Evergreen
END:VEVENT
BEGIN:VEVENT
DTSTART;TZID=America/Winnipeg:20250319T144500
DTEND;TZID=America/Winnipeg:20250319T154500
DTSTAMP:20260425T074345
CREATED:20241218T074526Z
LAST-MODIFIED:20250319T170725Z
UID:47895-1742395500-1742399100@www.salemhome.ca
SUMMARY:Bingo
DESCRIPTION:
URL:https://www.salemhome.ca/event/bingo-687/
CATEGORIES:Evergreen
END:VEVENT
BEGIN:VEVENT
DTSTART;TZID=America/Winnipeg:20250319T144500
DTEND;TZID=America/Winnipeg:20250319T154500
DTSTAMP:20260425T074345
CREATED:20250128T093026Z
LAST-MODIFIED:20250319T170725Z
UID:49281-1742395500-1742399100@www.salemhome.ca
SUMMARY:Men's Group
DESCRIPTION:Located on Maple North. Residents from all care areas are welcome to attend.
URL:https://www.salemhome.ca/event/mens-group-749/
CATEGORIES:Evergreen
END:VEVENT
BEGIN:VEVENT
DTSTART;TZID=America/Winnipeg:20250319T180000
DTEND;TZID=America/Winnipeg:20250319T190000
DTSTAMP:20260425T074345
CREATED:20250226T104519Z
LAST-MODIFIED:20250319T170725Z
UID:50308-1742407200-1742410800@www.salemhome.ca
SUMMARY:Sue Fehr
DESCRIPTION:
URL:https://www.salemhome.ca/event/sue-fehr-4/
CATEGORIES:Evergreen
END:VEVENT
BEGIN:VEVENT
DTSTART;TZID=America/Winnipeg:20250320T103000
DTEND;TZID=America/Winnipeg:20250320T113000
DTSTAMP:20260425T074345
CREATED:20250226T104519Z
LAST-MODIFIED:20250319T170725Z
UID:50309-1742466600-1742470200@www.salemhome.ca
SUMMARY:Chapel: Reinland Mennonite
DESCRIPTION:
URL:https://www.salemhome.ca/event/chapel-reinland-mennonite-109/
CATEGORIES:Evergreen
END:VEVENT
BEGIN:VEVENT
DTSTART;TZID=America/Winnipeg:20250320T110000
DTEND;TZID=America/Winnipeg:20250320T120000
DTSTAMP:20260425T074345
CREATED:20241218T074526Z
LAST-MODIFIED:20250319T170725Z
UID:47896-1742468400-1742472000@www.salemhome.ca
SUMMARY:Spa Day
DESCRIPTION:
URL:https://www.salemhome.ca/event/spa-day-112/
CATEGORIES:Evergreen
END:VEVENT
BEGIN:VEVENT
DTSTART;TZID=America/Winnipeg:20250320T150000
DTEND;TZID=America/Winnipeg:20250320T160000
DTSTAMP:20260425T074345
CREATED:20250226T104519Z
LAST-MODIFIED:20250320T170727Z
UID:50310-1742482800-1742486400@www.salemhome.ca
SUMMARY:Shuffleboard
DESCRIPTION:
URL:https://www.salemhome.ca/event/shuffleboard/
CATEGORIES:Evergreen
END:VEVENT
BEGIN:VEVENT
DTSTART;TZID=America/Winnipeg:20250321T100000
DTEND;TZID=America/Winnipeg:20250321T110000
DTSTAMP:20260425T074345
CREATED:20241219T074531Z
LAST-MODIFIED:20250320T170727Z
UID:47938-1742551200-1742554800@www.salemhome.ca
SUMMARY:Men's Coffee Shop
DESCRIPTION:
URL:https://www.salemhome.ca/event/mens-coffee-shop-696/
CATEGORIES:Evergreen
END:VEVENT
BEGIN:VEVENT
DTSTART;TZID=America/Winnipeg:20250321T101500
DTEND;TZID=America/Winnipeg:20250321T104500
DTSTAMP:20260425T074345
CREATED:20241219T074530Z
LAST-MODIFIED:20250320T170727Z
UID:47936-1742552100-1742553900@www.salemhome.ca
SUMMARY:Chapel
DESCRIPTION:
URL:https://www.salemhome.ca/event/chapel-657/
CATEGORIES:Evergreen
END:VEVENT
BEGIN:VEVENT
DTSTART;TZID=America/Winnipeg:20250321T110000
DTEND;TZID=America/Winnipeg:20250321T120000
DTSTAMP:20260425T074345
CREATED:20241219T074530Z
LAST-MODIFIED:20250320T170727Z
UID:47937-1742554800-1742558400@www.salemhome.ca
SUMMARY:Music by Dave Nickel
DESCRIPTION:
URL:https://www.salemhome.ca/event/music-by-dave-nickel-115/
CATEGORIES:Evergreen
END:VEVENT
BEGIN:VEVENT
DTSTART;TZID=America/Winnipeg:20250321T140000
DTEND;TZID=America/Winnipeg:20250321T150000
DTSTAMP:20260425T074345
CREATED:20241219T074531Z
LAST-MODIFIED:20250321T170726Z
UID:47939-1742565600-1742569200@www.salemhome.ca
SUMMARY:Music Therapy
DESCRIPTION:
URL:https://www.salemhome.ca/event/music-therapy-229/
CATEGORIES:Evergreen
END:VEVENT
BEGIN:VEVENT
DTSTART;TZID=America/Winnipeg:20250322T100000
DTEND;TZID=America/Winnipeg:20250322T110000
DTSTAMP:20260425T074345
CREATED:20241220T074527Z
LAST-MODIFIED:20250321T170726Z
UID:47986-1742637600-1742641200@www.salemhome.ca
SUMMARY:Bingo
DESCRIPTION:
URL:https://www.salemhome.ca/event/bingo-690/
CATEGORIES:Evergreen
END:VEVENT
BEGIN:VEVENT
DTSTART;TZID=America/Winnipeg:20250322T100000
DTEND;TZID=America/Winnipeg:20250322T110000
DTSTAMP:20260425T074345
CREATED:20250226T104520Z
LAST-MODIFIED:20250321T170726Z
UID:50311-1742637600-1742641200@www.salemhome.ca
SUMMARY:Sing Along
DESCRIPTION:
URL:https://www.salemhome.ca/event/sing-along-152/
CATEGORIES:Evergreen
END:VEVENT
BEGIN:VEVENT
DTSTART;VALUE=DATE:20250323
DTEND;VALUE=DATE:20250324
DTSTAMP:20260425T074345
CREATED:20241220T074527Z
LAST-MODIFIED:20250323T170828Z
UID:47987-1742688000-1742774399@www.salemhome.ca
SUMMARY:Day of Rest
DESCRIPTION:
URL:https://www.salemhome.ca/event/day-of-rest-263/
CATEGORIES:Evergreen
END:VEVENT
BEGIN:VEVENT
DTSTART;TZID=America/Winnipeg:20250323T094500
DTEND;TZID=America/Winnipeg:20250323T104500
DTSTAMP:20260425T074345
CREATED:20250226T104520Z
LAST-MODIFIED:20250322T170739Z
UID:50312-1742723100-1742726700@www.salemhome.ca
SUMMARY:Chapel: Pathway Community
DESCRIPTION:
URL:https://www.salemhome.ca/event/chapel-pathway-community-3/
CATEGORIES:Evergreen
END:VEVENT
BEGIN:VEVENT
DTSTART;TZID=America/Winnipeg:20250324T100000
DTEND;TZID=America/Winnipeg:20250324T110000
DTSTAMP:20260425T074345
CREATED:20241220T074528Z
LAST-MODIFIED:20250323T170828Z
UID:47988-1742810400-1742814000@www.salemhome.ca
SUMMARY:Men's Coffee Shop
DESCRIPTION:
URL:https://www.salemhome.ca/event/mens-coffee-shop-700/
CATEGORIES:Evergreen
END:VEVENT
BEGIN:VEVENT
DTSTART;TZID=America/Winnipeg:20250324T100000
DTEND;TZID=America/Winnipeg:20250324T110000
DTSTAMP:20260425T074345
CREATED:20250226T104520Z
LAST-MODIFIED:20250323T170828Z
UID:50313-1742810400-1742814000@www.salemhome.ca
SUMMARY:Devotions
DESCRIPTION:
URL:https://www.salemhome.ca/event/devotions-119/
CATEGORIES:Evergreen
END:VEVENT
BEGIN:VEVENT
DTSTART;TZID=America/Winnipeg:20250324T144500
DTEND;TZID=America/Winnipeg:20250324T154500
DTSTAMP:20260425T074345
CREATED:20241220T074528Z
LAST-MODIFIED:20250324T170748Z
UID:47989-1742827500-1742831100@www.salemhome.ca
SUMMARY:Men's Group
DESCRIPTION:Located on Evergreen\, residents from all care areas welcome.
URL:https://www.salemhome.ca/event/mens-group-697/
CATEGORIES:Evergreen
END:VEVENT
BEGIN:VEVENT
DTSTART;TZID=America/Winnipeg:20250324T150000
DTEND;TZID=America/Winnipeg:20250324T160000
DTSTAMP:20260425T074345
CREATED:20250226T104521Z
LAST-MODIFIED:20250324T170748Z
UID:50314-1742828400-1742832000@www.salemhome.ca
SUMMARY:Flower Art
DESCRIPTION:
URL:https://www.salemhome.ca/event/flower-art/
CATEGORIES:Evergreen
END:VEVENT
BEGIN:VEVENT
DTSTART;TZID=America/Winnipeg:20250325T100000
DTEND;TZID=America/Winnipeg:20250325T110000
DTSTAMP:20260425T074345
CREATED:20241221T074524Z
LAST-MODIFIED:20250324T170748Z
UID:48026-1742896800-1742900400@www.salemhome.ca
SUMMARY:Men's Coffee Shop
DESCRIPTION:
URL:https://www.salemhome.ca/event/mens-coffee-shop-703/
CATEGORIES:Evergreen
END:VEVENT
BEGIN:VEVENT
DTSTART;TZID=America/Winnipeg:20250325T100000
DTEND;TZID=America/Winnipeg:20250325T110000
DTSTAMP:20260425T074345
CREATED:20250226T104521Z
LAST-MODIFIED:20250324T170748Z
UID:50315-1742896800-1742900400@www.salemhome.ca
SUMMARY:Move With Grace
DESCRIPTION:
URL:https://www.salemhome.ca/event/move-with-grace-2/
CATEGORIES:Evergreen
END:VEVENT
BEGIN:VEVENT
DTSTART;TZID=America/Winnipeg:20250325T150000
DTEND;TZID=America/Winnipeg:20250325T160000
DTSTAMP:20260425T074345
CREATED:20250226T104521Z
LAST-MODIFIED:20250325T170727Z
UID:50316-1742914800-1742918400@www.salemhome.ca
SUMMARY:Games
DESCRIPTION:
URL:https://www.salemhome.ca/event/games-124/
CATEGORIES:Evergreen
END:VEVENT
BEGIN:VEVENT
DTSTART;TZID=America/Winnipeg:20250325T180000
DTEND;TZID=America/Winnipeg:20250325T190000
DTSTAMP:20260425T074345
CREATED:20241221T074524Z
LAST-MODIFIED:20250325T170727Z
UID:48027-1742925600-1742929200@www.salemhome.ca
SUMMARY:Movie Night
DESCRIPTION:
URL:https://www.salemhome.ca/event/movie-night-114/
CATEGORIES:Evergreen
END:VEVENT
BEGIN:VEVENT
DTSTART;TZID=America/Winnipeg:20250326T100000
DTEND;TZID=America/Winnipeg:20250326T110000
DTSTAMP:20260425T074345
CREATED:20241221T074525Z
LAST-MODIFIED:20250325T170727Z
UID:48028-1742983200-1742986800@www.salemhome.ca
SUMMARY:Men's Coffee Shop
DESCRIPTION:
URL:https://www.salemhome.ca/event/mens-coffee-shop-704/
CATEGORIES:Evergreen
END:VEVENT
BEGIN:VEVENT
DTSTART;TZID=America/Winnipeg:20250326T100000
DTEND;TZID=America/Winnipeg:20250326T110000
DTSTAMP:20260425T074345
CREATED:20250226T104521Z
LAST-MODIFIED:20250325T170727Z
UID:50317-1742983200-1742986800@www.salemhome.ca
SUMMARY:John & Irene Plantz
DESCRIPTION:
URL:https://www.salemhome.ca/event/john-irene-plantz-36/
CATEGORIES:Evergreen
END:VEVENT
BEGIN:VEVENT
DTSTART;TZID=America/Winnipeg:20250326T144500
DTEND;TZID=America/Winnipeg:20250326T154500
DTSTAMP:20260425T074345
CREATED:20241221T074525Z
LAST-MODIFIED:20250326T172225Z
UID:48029-1743000300-1743003900@www.salemhome.ca
SUMMARY:Bingo
DESCRIPTION:
URL:https://www.salemhome.ca/event/bingo-693/
CATEGORIES:Evergreen
END:VEVENT
BEGIN:VEVENT
DTSTART;TZID=America/Winnipeg:20250326T144500
DTEND;TZID=America/Winnipeg:20250326T154500
DTSTAMP:20260425T074345
CREATED:20241222T074526Z
LAST-MODIFIED:20250127T093039Z
UID:48057-1743000300-1743003900@www.salemhome.ca
SUMMARY:Men's Group
DESCRIPTION:Located on Maple North. Residents from all care areas are welcome to attend.
URL:https://www.salemhome.ca/event/mens-group-701/
CATEGORIES:Evergreen
END:VEVENT
BEGIN:VEVENT
DTSTART;TZID=America/Winnipeg:20250327T103000
DTEND;TZID=America/Winnipeg:20250327T113000
DTSTAMP:20260425T074345
CREATED:20250226T104521Z
LAST-MODIFIED:20250326T172225Z
UID:50318-1743071400-1743075000@www.salemhome.ca
SUMMARY:Chapel: Sommerfeld Mennonite
DESCRIPTION:
URL:https://www.salemhome.ca/event/chapel-sommerfeld-mennonite-51/
CATEGORIES:Evergreen
END:VEVENT
END:VCALENDAR