BEGIN:VCALENDAR
VERSION:2.0
PRODID:-//Salem Home - ECPv6.15.20//NONSGML v1.0//EN
CALSCALE:GREGORIAN
METHOD:PUBLISH
X-ORIGINAL-URL:https://www.salemhome.ca
X-WR-CALDESC:Events for Salem Home
REFRESH-INTERVAL;VALUE=DURATION:PT1H
X-Robots-Tag:noindex
X-PUBLISHED-TTL:PT1H
BEGIN:VTIMEZONE
TZID:America/Winnipeg
BEGIN:DAYLIGHT
TZOFFSETFROM:-0600
TZOFFSETTO:-0500
TZNAME:CDT
DTSTART:20240310T080000
END:DAYLIGHT
BEGIN:STANDARD
TZOFFSETFROM:-0500
TZOFFSETTO:-0600
TZNAME:CST
DTSTART:20241103T070000
END:STANDARD
BEGIN:DAYLIGHT
TZOFFSETFROM:-0600
TZOFFSETTO:-0500
TZNAME:CDT
DTSTART:20250309T080000
END:DAYLIGHT
BEGIN:STANDARD
TZOFFSETFROM:-0500
TZOFFSETTO:-0600
TZNAME:CST
DTSTART:20251102T070000
END:STANDARD
BEGIN:DAYLIGHT
TZOFFSETFROM:-0600
TZOFFSETTO:-0500
TZNAME:CDT
DTSTART:20260308T080000
END:DAYLIGHT
BEGIN:STANDARD
TZOFFSETFROM:-0500
TZOFFSETTO:-0600
TZNAME:CST
DTSTART:20261101T070000
END:STANDARD
END:VTIMEZONE
BEGIN:VEVENT
DTSTART;TZID=America/Winnipeg:20250507T100000
DTEND;TZID=America/Winnipeg:20250507T110000
DTSTAMP:20260425T113527
CREATED:20250207T100026Z
LAST-MODIFIED:20250506T195254Z
UID:49781-1746612000-1746615600@www.salemhome.ca
SUMMARY:Men's Coffee Shop
DESCRIPTION:
URL:https://www.salemhome.ca/event/mens-coffee-shop-781/
CATEGORIES:Evergreen
END:VEVENT
BEGIN:VEVENT
DTSTART;TZID=America/Winnipeg:20250507T100000
DTEND;TZID=America/Winnipeg:20250507T110000
DTSTAMP:20260425T113527
CREATED:20250326T172237Z
LAST-MODIFIED:20250506T195253Z
UID:51472-1746612000-1746615600@www.salemhome.ca
SUMMARY:John & Irene Plantz
DESCRIPTION:
URL:https://www.salemhome.ca/event/john-irene-plantz-41/
CATEGORIES:Evergreen
END:VEVENT
BEGIN:VEVENT
DTSTART;TZID=America/Winnipeg:20250507T144500
DTEND;TZID=America/Winnipeg:20250507T154500
DTSTAMP:20260425T113527
CREATED:20250207T100026Z
LAST-MODIFIED:20250507T195246Z
UID:49782-1746629100-1746632700@www.salemhome.ca
SUMMARY:Bingo
DESCRIPTION:
URL:https://www.salemhome.ca/event/bingo-748/
CATEGORIES:Evergreen
END:VEVENT
BEGIN:VEVENT
DTSTART;TZID=America/Winnipeg:20250508T103000
DTEND;TZID=America/Winnipeg:20250508T113000
DTSTAMP:20260425T113527
CREATED:20250429T192241Z
LAST-MODIFIED:20250507T195246Z
UID:52905-1746700200-1746703800@www.salemhome.ca
SUMMARY:Chapel: Old Colony
DESCRIPTION:
URL:https://www.salemhome.ca/event/chapel-old-colony-40/
CATEGORIES:Evergreen
END:VEVENT
BEGIN:VEVENT
DTSTART;TZID=America/Winnipeg:20250508T110000
DTEND;TZID=America/Winnipeg:20250508T120000
DTSTAMP:20260425T113527
CREATED:20250207T100027Z
LAST-MODIFIED:20250507T195246Z
UID:49783-1746702000-1746705600@www.salemhome.ca
SUMMARY:Spa Day
DESCRIPTION:
URL:https://www.salemhome.ca/event/spa-day-119/
CATEGORIES:Evergreen
END:VEVENT
BEGIN:VEVENT
DTSTART;TZID=America/Winnipeg:20250508T150000
DTEND;TZID=America/Winnipeg:20250508T160000
DTSTAMP:20260425T113527
CREATED:20250429T192241Z
LAST-MODIFIED:20250508T195225Z
UID:52906-1746716400-1746720000@www.salemhome.ca
SUMMARY:Move It To Music
DESCRIPTION:
URL:https://www.salemhome.ca/event/move-it-to-music-9/
CATEGORIES:Evergreen
END:VEVENT
BEGIN:VEVENT
DTSTART;TZID=America/Winnipeg:20250509T100000
DTEND;TZID=America/Winnipeg:20250509T110000
DTSTAMP:20260425T113527
CREATED:20250208T101526Z
LAST-MODIFIED:20250508T195226Z
UID:49807-1746784800-1746788400@www.salemhome.ca
SUMMARY:Men's Coffee Shop
DESCRIPTION:
URL:https://www.salemhome.ca/event/mens-coffee-shop-783/
CATEGORIES:Evergreen
END:VEVENT
BEGIN:VEVENT
DTSTART;TZID=America/Winnipeg:20250509T101500
DTEND;TZID=America/Winnipeg:20250509T104500
DTSTAMP:20260425T113527
CREATED:20250207T100027Z
LAST-MODIFIED:20250508T195226Z
UID:49784-1746785700-1746787500@www.salemhome.ca
SUMMARY:Chapel
DESCRIPTION:
URL:https://www.salemhome.ca/event/chapel-687/
CATEGORIES:Evergreen
END:VEVENT
BEGIN:VEVENT
DTSTART;TZID=America/Winnipeg:20250509T110000
DTEND;TZID=America/Winnipeg:20250509T120000
DTSTAMP:20260425T113527
CREATED:20250208T101526Z
LAST-MODIFIED:20250508T195226Z
UID:49806-1746788400-1746792000@www.salemhome.ca
SUMMARY:Music by Dave Nickel
DESCRIPTION:
URL:https://www.salemhome.ca/event/music-by-dave-nickel-122/
CATEGORIES:Evergreen
END:VEVENT
BEGIN:VEVENT
DTSTART;TZID=America/Winnipeg:20250509T140000
DTEND;TZID=America/Winnipeg:20250509T150000
DTSTAMP:20260425T113527
CREATED:20250208T101527Z
LAST-MODIFIED:20250509T195249Z
UID:49808-1746799200-1746802800@www.salemhome.ca
SUMMARY:Music Therapy
DESCRIPTION:
URL:https://www.salemhome.ca/event/music-therapy-239/
CATEGORIES:Evergreen
END:VEVENT
BEGIN:VEVENT
DTSTART;TZID=America/Winnipeg:20250510T100000
DTEND;TZID=America/Winnipeg:20250510T110000
DTSTAMP:20260425T113527
CREATED:20250429T192241Z
LAST-MODIFIED:20250509T195249Z
UID:52907-1746871200-1746874800@www.salemhome.ca
SUMMARY:Let's Talk Mother's Day
DESCRIPTION:
URL:https://www.salemhome.ca/event/lets-talk-mothers-day/
CATEGORIES:Evergreen
END:VEVENT
BEGIN:VEVENT
DTSTART;TZID=America/Winnipeg:20250510T150000
DTEND;TZID=America/Winnipeg:20250510T160000
DTSTAMP:20260425T113527
CREATED:20250208T101527Z
LAST-MODIFIED:20250510T195237Z
UID:49809-1746889200-1746892800@www.salemhome.ca
SUMMARY:Bingo
DESCRIPTION:
URL:https://www.salemhome.ca/event/bingo-749/
CATEGORIES:Evergreen
END:VEVENT
BEGIN:VEVENT
DTSTART;VALUE=DATE:20250511
DTEND;VALUE=DATE:20250512
DTSTAMP:20260425T113527
CREATED:20250209T101529Z
LAST-MODIFIED:20250511T195322Z
UID:49827-1746921600-1747007999@www.salemhome.ca
SUMMARY:Day of Rest
DESCRIPTION:
URL:https://www.salemhome.ca/event/day-of-rest-293/
CATEGORIES:Evergreen
END:VEVENT
BEGIN:VEVENT
DTSTART;TZID=America/Winnipeg:20250511T094500
DTEND;TZID=America/Winnipeg:20250511T104500
DTSTAMP:20260425T113527
CREATED:20250429T192241Z
LAST-MODIFIED:20250510T195237Z
UID:52908-1746956700-1746960300@www.salemhome.ca
SUMMARY:Chapel: Winkler EMMC
DESCRIPTION:
URL:https://www.salemhome.ca/event/chapel-winkler-emmc-47/
CATEGORIES:Evergreen
END:VEVENT
BEGIN:VEVENT
DTSTART;TZID=America/Winnipeg:20250512T100000
DTEND;TZID=America/Winnipeg:20250512T110000
DTSTAMP:20260425T113527
CREATED:20250209T101529Z
LAST-MODIFIED:20250511T195323Z
UID:49828-1747044000-1747047600@www.salemhome.ca
SUMMARY:Men's Coffee Shop
DESCRIPTION:
URL:https://www.salemhome.ca/event/mens-coffee-shop-786/
CATEGORIES:Evergreen
END:VEVENT
BEGIN:VEVENT
DTSTART;TZID=America/Winnipeg:20250512T100000
DTEND;TZID=America/Winnipeg:20250512T110000
DTSTAMP:20260425T113527
CREATED:20250429T192241Z
LAST-MODIFIED:20250511T195322Z
UID:52910-1747044000-1747047600@www.salemhome.ca
SUMMARY:Devotions
DESCRIPTION:
URL:https://www.salemhome.ca/event/devotions-125/
CATEGORIES:Evergreen
END:VEVENT
BEGIN:VEVENT
DTSTART;TZID=America/Winnipeg:20250512T103000
DTEND;TZID=America/Winnipeg:20250512T113000
DTSTAMP:20260425T113527
CREATED:20250429T192241Z
LAST-MODIFIED:20250511T195322Z
UID:52909-1747045800-1747049400@www.salemhome.ca
SUMMARY:Current Events
DESCRIPTION:
URL:https://www.salemhome.ca/event/current-events-7/
CATEGORIES:Evergreen
END:VEVENT
BEGIN:VEVENT
DTSTART;TZID=America/Winnipeg:20250512T144500
DTEND;TZID=America/Winnipeg:20250512T154500
DTSTAMP:20260425T113527
CREATED:20250209T101530Z
LAST-MODIFIED:20250512T200826Z
UID:49829-1747061100-1747064700@www.salemhome.ca
SUMMARY:Men's Group
DESCRIPTION:Located on Evergreen\, residents from all care areas welcome.
URL:https://www.salemhome.ca/event/mens-group-775/
CATEGORIES:Evergreen
END:VEVENT
BEGIN:VEVENT
DTSTART;TZID=America/Winnipeg:20250512T150000
DTEND;TZID=America/Winnipeg:20250512T160000
DTSTAMP:20260425T113527
CREATED:20250429T192242Z
LAST-MODIFIED:20250512T200826Z
UID:52911-1747062000-1747065600@www.salemhome.ca
SUMMARY:Then & Now
DESCRIPTION:
URL:https://www.salemhome.ca/event/then-now-2/
CATEGORIES:Evergreen
END:VEVENT
BEGIN:VEVENT
DTSTART;TZID=America/Winnipeg:20250513T100000
DTEND;TZID=America/Winnipeg:20250513T110000
DTSTAMP:20260425T113527
CREATED:20250210T101530Z
LAST-MODIFIED:20250512T200826Z
UID:49850-1747130400-1747134000@www.salemhome.ca
SUMMARY:Men's Coffee Shop
DESCRIPTION:
URL:https://www.salemhome.ca/event/mens-coffee-shop-788/
CATEGORIES:Evergreen
END:VEVENT
BEGIN:VEVENT
DTSTART;TZID=America/Winnipeg:20250513T100000
DTEND;TZID=America/Winnipeg:20250513T110000
DTSTAMP:20260425T113527
CREATED:20250326T172238Z
LAST-MODIFIED:20250512T200826Z
UID:51473-1747130400-1747134000@www.salemhome.ca
SUMMARY:Move With Grace
DESCRIPTION:
URL:https://www.salemhome.ca/event/move-with-grace-41/
CATEGORIES:Evergreen
END:VEVENT
BEGIN:VEVENT
DTSTART;TZID=America/Winnipeg:20250513T150000
DTEND;TZID=America/Winnipeg:20250513T160000
DTSTAMP:20260425T113527
CREATED:20250429T192242Z
LAST-MODIFIED:20250513T200728Z
UID:52912-1747148400-1747152000@www.salemhome.ca
SUMMARY:Categories
DESCRIPTION:
URL:https://www.salemhome.ca/event/categories/
CATEGORIES:Evergreen
END:VEVENT
BEGIN:VEVENT
DTSTART;TZID=America/Winnipeg:20250513T180000
DTEND;TZID=America/Winnipeg:20250513T190000
DTSTAMP:20260425T113527
CREATED:20250210T101530Z
LAST-MODIFIED:20250513T200728Z
UID:49851-1747159200-1747162800@www.salemhome.ca
SUMMARY:The Sanderson's
DESCRIPTION:
URL:https://www.salemhome.ca/event/movie-night-121/
CATEGORIES:Evergreen
END:VEVENT
BEGIN:VEVENT
DTSTART;TZID=America/Winnipeg:20250514T100000
DTEND;TZID=America/Winnipeg:20250514T110000
DTSTAMP:20260425T113527
CREATED:20250211T101525Z
LAST-MODIFIED:20250513T200729Z
UID:49867-1747216800-1747220400@www.salemhome.ca
SUMMARY:Men's Coffee Shop
DESCRIPTION:
URL:https://www.salemhome.ca/event/mens-coffee-shop-790/
CATEGORIES:Evergreen
END:VEVENT
BEGIN:VEVENT
DTSTART;TZID=America/Winnipeg:20250514T100000
DTEND;TZID=America/Winnipeg:20250514T110000
DTSTAMP:20260425T113527
CREATED:20250326T172239Z
LAST-MODIFIED:20250513T200729Z
UID:51474-1747216800-1747220400@www.salemhome.ca
SUMMARY:John & Irene Plantz
DESCRIPTION:
URL:https://www.salemhome.ca/event/john-irene-plantz-42/
CATEGORIES:Evergreen
END:VEVENT
BEGIN:VEVENT
DTSTART;TZID=America/Winnipeg:20250514T144500
DTEND;TZID=America/Winnipeg:20250514T154500
DTSTAMP:20260425T113527
CREATED:20250211T101525Z
LAST-MODIFIED:20250514T200724Z
UID:49868-1747233900-1747237500@www.salemhome.ca
SUMMARY:Bingo
DESCRIPTION:
URL:https://www.salemhome.ca/event/bingo-751/
CATEGORIES:Evergreen
END:VEVENT
BEGIN:VEVENT
DTSTART;TZID=America/Winnipeg:20250514T144500
DTEND;TZID=America/Winnipeg:20250514T154500
DTSTAMP:20260425T113527
CREATED:20250211T101526Z
LAST-MODIFIED:20250514T200724Z
UID:49869-1747233900-1747237500@www.salemhome.ca
SUMMARY:Men's Group
DESCRIPTION:Located on Maple North. Residents from all care areas are welcome to attend.
URL:https://www.salemhome.ca/event/mens-group-778/
CATEGORIES:Evergreen
END:VEVENT
BEGIN:VEVENT
DTSTART;TZID=America/Winnipeg:20250515T103000
DTEND;TZID=America/Winnipeg:20250515T113000
DTSTAMP:20260425T113527
CREATED:20250429T192243Z
LAST-MODIFIED:20250514T200724Z
UID:52914-1747305000-1747308600@www.salemhome.ca
SUMMARY:Chapel: Reinland Mennonite
DESCRIPTION:
URL:https://www.salemhome.ca/event/chapel-reinland-mennonite-118/
CATEGORIES:Evergreen
END:VEVENT
BEGIN:VEVENT
DTSTART;TZID=America/Winnipeg:20250515T110000
DTEND;TZID=America/Winnipeg:20250515T120000
DTSTAMP:20260425T113527
CREATED:20250211T101526Z
LAST-MODIFIED:20250514T200724Z
UID:49870-1747306800-1747310400@www.salemhome.ca
SUMMARY:Spa Day
DESCRIPTION:
URL:https://www.salemhome.ca/event/spa-day-120/
CATEGORIES:Evergreen
END:VEVENT
BEGIN:VEVENT
DTSTART;TZID=America/Winnipeg:20250515T150000
DTEND;TZID=America/Winnipeg:20250515T160000
DTSTAMP:20260425T113527
CREATED:20250429T192243Z
LAST-MODIFIED:20250515T200742Z
UID:52915-1747321200-1747324800@www.salemhome.ca
SUMMARY:Ladies Coffee - Omas
DESCRIPTION:
URL:https://www.salemhome.ca/event/ladies-coffee-omas-10/
CATEGORIES:Evergreen
END:VEVENT
END:VCALENDAR