BEGIN:VCALENDAR
VERSION:2.0
PRODID:-//Salem Home - ECPv6.15.20//NONSGML v1.0//EN
CALSCALE:GREGORIAN
METHOD:PUBLISH
X-ORIGINAL-URL:https://www.salemhome.ca
X-WR-CALDESC:Events for Salem Home
REFRESH-INTERVAL;VALUE=DURATION:PT1H
X-Robots-Tag:noindex
X-PUBLISHED-TTL:PT1H
BEGIN:VTIMEZONE
TZID:America/Winnipeg
BEGIN:DAYLIGHT
TZOFFSETFROM:-0600
TZOFFSETTO:-0500
TZNAME:CDT
DTSTART:20240310T080000
END:DAYLIGHT
BEGIN:STANDARD
TZOFFSETFROM:-0500
TZOFFSETTO:-0600
TZNAME:CST
DTSTART:20241103T070000
END:STANDARD
BEGIN:DAYLIGHT
TZOFFSETFROM:-0600
TZOFFSETTO:-0500
TZNAME:CDT
DTSTART:20250309T080000
END:DAYLIGHT
BEGIN:STANDARD
TZOFFSETFROM:-0500
TZOFFSETTO:-0600
TZNAME:CST
DTSTART:20251102T070000
END:STANDARD
BEGIN:DAYLIGHT
TZOFFSETFROM:-0600
TZOFFSETTO:-0500
TZNAME:CDT
DTSTART:20260308T080000
END:DAYLIGHT
BEGIN:STANDARD
TZOFFSETFROM:-0500
TZOFFSETTO:-0600
TZNAME:CST
DTSTART:20261101T070000
END:STANDARD
END:VTIMEZONE
BEGIN:VEVENT
DTSTART;TZID=America/Winnipeg:20251022T144500
DTEND;TZID=America/Winnipeg:20251022T154500
DTSTAMP:20260425T174435
CREATED:20250817T135927Z
LAST-MODIFIED:20251022T094440Z
UID:56805-1761144300-1761147900@www.salemhome.ca
SUMMARY:Bingo
DESCRIPTION:
URL:https://www.salemhome.ca/event/bingo-977/
CATEGORIES:Evergreen
END:VEVENT
BEGIN:VEVENT
DTSTART;TZID=America/Winnipeg:20251022T144500
DTEND;TZID=America/Winnipeg:20251022T154500
DTSTAMP:20260425T174435
CREATED:20250818T135930Z
LAST-MODIFIED:20251022T094440Z
UID:56823-1761144300-1761147900@www.salemhome.ca
SUMMARY:Men's Coffee Shop
DESCRIPTION:
URL:https://www.salemhome.ca/event/mens-coffee-shop-1048/
CATEGORIES:Evergreen
END:VEVENT
BEGIN:VEVENT
DTSTART;TZID=America/Winnipeg:20251023T100000
DTEND;TZID=America/Winnipeg:20251023T110000
DTSTAMP:20260425T174435
CREATED:20250818T135930Z
LAST-MODIFIED:20251023T094401Z
UID:56824-1761213600-1761217200@www.salemhome.ca
SUMMARY:Hymn Sing
DESCRIPTION:
URL:https://www.salemhome.ca/event/hymn-sing-633/
CATEGORIES:Evergreen
END:VEVENT
BEGIN:VEVENT
DTSTART;TZID=America/Winnipeg:20251023T103000
DTEND;TZID=America/Winnipeg:20251023T113000
DTSTAMP:20260425T174435
CREATED:20250819T135931Z
LAST-MODIFIED:20251023T094400Z
UID:56847-1761215400-1761219000@www.salemhome.ca
SUMMARY:Zion Mennonite Church
DESCRIPTION:
URL:https://www.salemhome.ca/event/chapel-764/
CATEGORIES:Evergreen
END:VEVENT
BEGIN:VEVENT
DTSTART;TZID=America/Winnipeg:20251023T110000
DTEND;TZID=America/Winnipeg:20251023T120000
DTSTAMP:20260425T174435
CREATED:20250819T135932Z
LAST-MODIFIED:20251023T094401Z
UID:56849-1761217200-1761220800@www.salemhome.ca
SUMMARY:Spa Day
DESCRIPTION:
URL:https://www.salemhome.ca/event/spa-day-143/
CATEGORIES:Evergreen
END:VEVENT
BEGIN:VEVENT
DTSTART;TZID=America/Winnipeg:20251023T150000
DTEND;TZID=America/Winnipeg:20251023T160000
DTSTAMP:20260425T174435
CREATED:20251021T094457Z
LAST-MODIFIED:20251023T094401Z
UID:58651-1761231600-1761235200@www.salemhome.ca
SUMMARY:Pumpkin Decorating
DESCRIPTION:
URL:https://www.salemhome.ca/event/pumpkin-decorating-23/
CATEGORIES:Evergreen
END:VEVENT
BEGIN:VEVENT
DTSTART;TZID=America/Winnipeg:20251024T100000
DTEND;TZID=America/Winnipeg:20251024T110000
DTSTAMP:20260425T174435
CREATED:20250819T135932Z
LAST-MODIFIED:20251024T094402Z
UID:56850-1761300000-1761303600@www.salemhome.ca
SUMMARY:Men's Coffee Shop
DESCRIPTION:
URL:https://www.salemhome.ca/event/mens-coffee-shop-1050/
CATEGORIES:Evergreen
END:VEVENT
BEGIN:VEVENT
DTSTART;TZID=America/Winnipeg:20251024T101500
DTEND;TZID=America/Winnipeg:20251024T104500
DTSTAMP:20260425T174435
CREATED:20250819T135932Z
LAST-MODIFIED:20251024T094401Z
UID:56851-1761300900-1761302700@www.salemhome.ca
SUMMARY:Chapel
DESCRIPTION:
URL:https://www.salemhome.ca/event/chapel-765/
CATEGORIES:Evergreen
END:VEVENT
BEGIN:VEVENT
DTSTART;TZID=America/Winnipeg:20251024T110000
DTEND;TZID=America/Winnipeg:20251024T120000
DTSTAMP:20260425T174435
CREATED:20250820T135932Z
LAST-MODIFIED:20251024T094401Z
UID:56887-1761303600-1761307200@www.salemhome.ca
SUMMARY:Music by Dave Nickel
DESCRIPTION:
URL:https://www.salemhome.ca/event/music-by-dave-nickel-146/
CATEGORIES:Evergreen
END:VEVENT
BEGIN:VEVENT
DTSTART;TZID=America/Winnipeg:20251024T140000
DTEND;TZID=America/Winnipeg:20251024T150000
DTSTAMP:20260425T174435
CREATED:20250820T135933Z
LAST-MODIFIED:20251024T094402Z
UID:56889-1761314400-1761318000@www.salemhome.ca
SUMMARY:Music Therapy
DESCRIPTION:
URL:https://www.salemhome.ca/event/music-therapy-277/
CATEGORIES:Evergreen
END:VEVENT
BEGIN:VEVENT
DTSTART;TZID=America/Winnipeg:20251024T150000
DTEND;TZID=America/Winnipeg:20251024T160000
DTSTAMP:20260425T174435
CREATED:20250820T135933Z
LAST-MODIFIED:20251024T094402Z
UID:56888-1761318000-1761321600@www.salemhome.ca
SUMMARY:Spotify Favorites
DESCRIPTION:
URL:https://www.salemhome.ca/event/spotify-favorites-14/
CATEGORIES:Evergreen
END:VEVENT
BEGIN:VEVENT
DTSTART;TZID=America/Winnipeg:20251025T100000
DTEND;TZID=America/Winnipeg:20251025T110000
DTSTAMP:20260425T174435
CREATED:20251021T094458Z
LAST-MODIFIED:20251025T094401Z
UID:58652-1761386400-1761390000@www.salemhome.ca
SUMMARY:Devotions & Praise
DESCRIPTION:
URL:https://www.salemhome.ca/event/devotions-praise-2/
CATEGORIES:Evergreen
END:VEVENT
BEGIN:VEVENT
DTSTART;TZID=America/Winnipeg:20251025T150000
DTEND;TZID=America/Winnipeg:20251025T160000
DTSTAMP:20260425T174435
CREATED:20250820T135933Z
LAST-MODIFIED:20251025T094401Z
UID:56890-1761404400-1761408000@www.salemhome.ca
SUMMARY:Bingo
DESCRIPTION:
URL:https://www.salemhome.ca/event/bingo-981/
CATEGORIES:Evergreen
END:VEVENT
BEGIN:VEVENT
DTSTART;VALUE=DATE:20251026
DTEND;VALUE=DATE:20251027
DTSTAMP:20260425T174435
CREATED:20250821T135933Z
LAST-MODIFIED:20251026T095900Z
UID:56924-1761436800-1761523199@www.salemhome.ca
SUMMARY:Day of Rest
DESCRIPTION:
URL:https://www.salemhome.ca/event/day-of-rest-395/
CATEGORIES:Evergreen
END:VEVENT
BEGIN:VEVENT
DTSTART;TZID=America/Winnipeg:20251026T094500
DTEND;TZID=America/Winnipeg:20251026T104500
DTSTAMP:20260425T174435
CREATED:20251021T094458Z
LAST-MODIFIED:20251026T095859Z
UID:58653-1761471900-1761475500@www.salemhome.ca
SUMMARY:Bethel Bergthaler Mennonite Church
DESCRIPTION:
URL:https://www.salemhome.ca/event/bethel-bergthaler-mennonite-church-3/
CATEGORIES:Evergreen
END:VEVENT
BEGIN:VEVENT
DTSTART;VALUE=DATE:20251027
DTEND;VALUE=DATE:20251028
DTSTAMP:20260425T174435
CREATED:20251021T094458Z
LAST-MODIFIED:20251027T095904Z
UID:58654-1761523200-1761609599@www.salemhome.ca
SUMMARY:Pumpkin Voting
DESCRIPTION:
URL:https://www.salemhome.ca/event/pumpkin-voting-6/
CATEGORIES:Evergreen
END:VEVENT
BEGIN:VEVENT
DTSTART;TZID=America/Winnipeg:20251027T100000
DTEND;TZID=America/Winnipeg:20251027T110000
DTSTAMP:20260425T174435
CREATED:20250821T135934Z
LAST-MODIFIED:20251027T095903Z
UID:56925-1761559200-1761562800@www.salemhome.ca
SUMMARY:Men's Coffee Shop
DESCRIPTION:
URL:https://www.salemhome.ca/event/mens-coffee-shop-1055/
CATEGORIES:Evergreen
END:VEVENT
BEGIN:VEVENT
DTSTART;TZID=America/Winnipeg:20251027T100000
DTEND;TZID=America/Winnipeg:20251027T110000
DTSTAMP:20260425T174435
CREATED:20251021T094458Z
LAST-MODIFIED:20251027T095903Z
UID:58655-1761559200-1761562800@www.salemhome.ca
SUMMARY:Devotions & Craft
DESCRIPTION:
URL:https://www.salemhome.ca/event/devotions-craft/
CATEGORIES:Evergreen
END:VEVENT
BEGIN:VEVENT
DTSTART;TZID=America/Winnipeg:20251027T144500
DTEND;TZID=America/Winnipeg:20251027T154500
DTSTAMP:20260425T174435
CREATED:20250821T135935Z
LAST-MODIFIED:20251027T095903Z
UID:56926-1761576300-1761579900@www.salemhome.ca
SUMMARY:Men's Group
DESCRIPTION:Located on Evergreen\, residents from all care areas welcome.
URL:https://www.salemhome.ca/event/mens-group-943/
CATEGORIES:Evergreen
END:VEVENT
BEGIN:VEVENT
DTSTART;TZID=America/Winnipeg:20251027T150000
DTEND;TZID=America/Winnipeg:20251027T160000
DTSTAMP:20260425T174435
CREATED:20251021T094459Z
LAST-MODIFIED:20251027T095904Z
UID:58656-1761577200-1761580800@www.salemhome.ca
SUMMARY:Balloon Toss
DESCRIPTION:
URL:https://www.salemhome.ca/event/balloon-toss-5/
CATEGORIES:Evergreen
END:VEVENT
BEGIN:VEVENT
DTSTART;VALUE=DATE:20251028
DTEND;VALUE=DATE:20251029
DTSTAMP:20260425T174435
CREATED:20251021T094459Z
LAST-MODIFIED:20251028T101400Z
UID:58657-1761609600-1761695999@www.salemhome.ca
SUMMARY:Pumpkin Voting
DESCRIPTION:
URL:https://www.salemhome.ca/event/pumpkin-voting-7/
CATEGORIES:Evergreen
END:VEVENT
BEGIN:VEVENT
DTSTART;TZID=America/Winnipeg:20251028T100000
DTEND;TZID=America/Winnipeg:20251028T110000
DTSTAMP:20260425T174435
CREATED:20250821T135935Z
LAST-MODIFIED:20250909T150002Z
UID:56927-1761645600-1761649200@www.salemhome.ca
SUMMARY:Move With Grace
DESCRIPTION:
URL:https://www.salemhome.ca/event/move-with-grace-180/
CATEGORIES:Evergreen
END:VEVENT
BEGIN:VEVENT
DTSTART;TZID=America/Winnipeg:20251028T100000
DTEND;TZID=America/Winnipeg:20251028T110000
DTSTAMP:20260425T174435
CREATED:20250822T141431Z
LAST-MODIFIED:20251028T101400Z
UID:56961-1761645600-1761649200@www.salemhome.ca
SUMMARY:Men's Coffee Shop
DESCRIPTION:
URL:https://www.salemhome.ca/event/mens-coffee-shop-1057/
CATEGORIES:Evergreen
END:VEVENT
BEGIN:VEVENT
DTSTART;TZID=America/Winnipeg:20251028T111500
DTEND;TZID=America/Winnipeg:20251028T121500
DTSTAMP:20260425T174435
CREATED:20251021T094459Z
LAST-MODIFIED:20251028T101400Z
UID:58658-1761650100-1761653700@www.salemhome.ca
SUMMARY:Meet & Greet
DESCRIPTION:
URL:https://www.salemhome.ca/event/meet-greet-2/
CATEGORIES:Evergreen
END:VEVENT
BEGIN:VEVENT
DTSTART;TZID=America/Winnipeg:20251028T150000
DTEND;TZID=America/Winnipeg:20251028T160000
DTSTAMP:20260425T174435
CREATED:20251021T094459Z
LAST-MODIFIED:20251028T101400Z
UID:58659-1761663600-1761667200@www.salemhome.ca
SUMMARY:Bowling
DESCRIPTION:
URL:https://www.salemhome.ca/event/bowling-38/
CATEGORIES:Evergreen
END:VEVENT
BEGIN:VEVENT
DTSTART;TZID=America/Winnipeg:20251028T180000
DTEND;TZID=America/Winnipeg:20251028T190000
DTSTAMP:20260425T174435
CREATED:20250822T141431Z
LAST-MODIFIED:20251028T101400Z
UID:56963-1761674400-1761678000@www.salemhome.ca
SUMMARY:Movie Night
DESCRIPTION:
URL:https://www.salemhome.ca/event/movie-night-146/
CATEGORIES:Evergreen
END:VEVENT
BEGIN:VEVENT
DTSTART;TZID=America/Winnipeg:20251028T183000
DTEND;TZID=America/Winnipeg:20251028T193000
DTSTAMP:20260425T174435
CREATED:20251021T094459Z
LAST-MODIFIED:20251028T101400Z
UID:58660-1761676200-1761679800@www.salemhome.ca
SUMMARY:Hymns with Friends
DESCRIPTION:
URL:https://www.salemhome.ca/event/hymns-with-friends-15/
CATEGORIES:Evergreen
END:VEVENT
BEGIN:VEVENT
DTSTART;VALUE=DATE:20251029
DTEND;VALUE=DATE:20251030
DTSTAMP:20260425T174435
CREATED:20251021T094500Z
LAST-MODIFIED:20251029T101400Z
UID:58661-1761696000-1761782399@www.salemhome.ca
SUMMARY:Pumpking Voting
DESCRIPTION:
URL:https://www.salemhome.ca/event/pumpking-voting/
CATEGORIES:Evergreen
END:VEVENT
BEGIN:VEVENT
DTSTART;TZID=America/Winnipeg:20251029T100000
DTEND;TZID=America/Winnipeg:20251029T110000
DTSTAMP:20260425T174435
CREATED:20250822T141432Z
LAST-MODIFIED:20251029T101401Z
UID:56964-1761732000-1761735600@www.salemhome.ca
SUMMARY:John & Irene Plantz
DESCRIPTION:
URL:https://www.salemhome.ca/event/john-irene-plantz-66/
CATEGORIES:Evergreen
END:VEVENT
BEGIN:VEVENT
DTSTART;TZID=America/Winnipeg:20251029T100000
DTEND;TZID=America/Winnipeg:20251029T110000
DTSTAMP:20260425T174435
CREATED:20250822T141432Z
LAST-MODIFIED:20251029T101401Z
UID:56965-1761732000-1761735600@www.salemhome.ca
SUMMARY:Men's Coffee Shop
DESCRIPTION:
URL:https://www.salemhome.ca/event/mens-coffee-shop-1058/
CATEGORIES:Evergreen
END:VEVENT
END:VCALENDAR